BEGIN:VCALENDAR
VERSION:2.0
PRODID:-//Rogue Festival - ECPv6.15.20//NONSGML v1.0//EN
CALSCALE:GREGORIAN
METHOD:PUBLISH
X-ORIGINAL-URL:https://fresnoroguefestival.org
X-WR-CALDESC:Events for Rogue Festival
REFRESH-INTERVAL;VALUE=DURATION:PT1H
X-Robots-Tag:noindex
X-PUBLISHED-TTL:PT1H
BEGIN:VTIMEZONE
TZID:America/Los_Angeles
BEGIN:DAYLIGHT
TZOFFSETFROM:-0800
TZOFFSETTO:-0700
TZNAME:PDT
DTSTART:20250309T100000
END:DAYLIGHT
BEGIN:STANDARD
TZOFFSETFROM:-0700
TZOFFSETTO:-0800
TZNAME:PST
DTSTART:20251102T090000
END:STANDARD
BEGIN:DAYLIGHT
TZOFFSETFROM:-0800
TZOFFSETTO:-0700
TZNAME:PDT
DTSTART:20260308T100000
END:DAYLIGHT
BEGIN:STANDARD
TZOFFSETFROM:-0700
TZOFFSETTO:-0800
TZNAME:PST
DTSTART:20261101T090000
END:STANDARD
BEGIN:DAYLIGHT
TZOFFSETFROM:-0800
TZOFFSETTO:-0700
TZNAME:PDT
DTSTART:20270314T100000
END:DAYLIGHT
BEGIN:STANDARD
TZOFFSETFROM:-0700
TZOFFSETTO:-0800
TZNAME:PST
DTSTART:20271107T090000
END:STANDARD
END:VTIMEZONE
BEGIN:VEVENT
DTSTART;TZID=America/Los_Angeles:20260227T173000
DTEND;TZID=America/Los_Angeles:20260227T181500
DTSTAMP:20260420T212118
CREATED:20260211T000530Z
LAST-MODIFIED:20260218T010535Z
UID:10000882-1772213400-1772216100@fresnoroguefestival.org
SUMMARY:Something of Self-Infliction\, Self-Awareness\, Self-Control\, and Self-Acceptance
DESCRIPTION:Something of Self-Infliction\, Self-Awareness\, Self-Control\, and Self-Acceptance” is an evening-length contemporary choreographic work featuring four characters portraying different parts of one person as they fall into an introspective journey of self-discovery. This work takes the audience through an insight of how each of these characters interchangeably represent different sides of the one person\, and how those sides interact\, conflict\, critique\, and/or heal when brought face to face. \nBuy Tickets
URL:https://fresnoroguefestival.org/performance/something-of-self-infliction-self-awareness-self-control-and-self-acceptance/2026-02-27/
LOCATION:Dianna’s Studio of Dance\, 826 N Fulton St\, Fresno\, CA\, 93728\, United States
CATEGORIES:Dance
ATTACH;FMTTYPE=image/jpeg:https://fresnoroguefestival.org/wp-content/uploads/2026/02/Haley-Gilpin-Something-of-Self-Infliction.jpg
GEO:36.7532091;-119.8000957
X-APPLE-STRUCTURED-LOCATION;VALUE=URI;X-ADDRESS=Dianna’s Studio of Dance 826 N Fulton St Fresno CA 93728 United States;X-APPLE-RADIUS=500;X-TITLE=826 N Fulton St:geo:-119.8000957,36.7532091
END:VEVENT
BEGIN:VEVENT
DTSTART;TZID=America/Los_Angeles:20260227T173000
DTEND;TZID=America/Los_Angeles:20260227T181000
DTSTAMP:20260420T212118
CREATED:20260211T014806Z
LAST-MODIFIED:20260218T034828Z
UID:10000953-1772213400-1772215800@fresnoroguefestival.org
SUMMARY:Janice Noga Sings: For Love of Country
DESCRIPTION:Janice Noga sings for love of country while sharing her family’s immigration story\, singing in the Oval Office\, singing in the State Capitol\, and asking her audience to sing those patriotic songs along with her. \nBuy Tickets
URL:https://fresnoroguefestival.org/performance/janice-noga-sings-for-love-of-country/2026-02-27/
LOCATION:ViSTA Theater\, 1296 N. Wishon Ave\, Fresno\, CA\, 93728\, United States
CATEGORIES:Music
ATTACH;FMTTYPE=image/jpeg:https://fresnoroguefestival.org/wp-content/uploads/2026/02/Janice-Noga-Sings.jpg
GEO:36.7593468;-119.8007853
X-APPLE-STRUCTURED-LOCATION;VALUE=URI;X-ADDRESS=ViSTA Theater 1296 N. Wishon Ave Fresno CA 93728 United States;X-APPLE-RADIUS=500;X-TITLE=1296 N. Wishon Ave:geo:-119.8007853,36.7593468
END:VEVENT
BEGIN:VEVENT
DTSTART;TZID=America/Los_Angeles:20260227T173000
DTEND;TZID=America/Los_Angeles:20260227T181000
DTSTAMP:20260420T212118
CREATED:20260210T220736Z
LAST-MODIFIED:20260218T001339Z
UID:10000827-1772213400-1772215800@fresnoroguefestival.org
SUMMARY:Life Reflection Songs
DESCRIPTION:This show conjures feelings coming from memories walking down Blackstone Avenue in the bloom of first love in the early 70s with pockets full of paper boy money and a mind filled with fm radio and the echoes of tribal gatherings at Selland Arena\, later fed by wage slave routines and spiritual bike rides through central Fresno\, on up to the modern era where many seem lost in a phone scroll and political dysfunction. The music has roots in folk blues\, reggae\, and the best of the singer songwriters of my time in my vocals and guitar\, with Jeff Hallock backing on harmonica. \nBuy Tickets
URL:https://fresnoroguefestival.org/performance/life-reflection-songs/2026-02-27/
LOCATION:Art Annex\, 814 E Olive Ave\, Fresno\, CA\, 93728\, United States
CATEGORIES:Music with Storytelling
ATTACH;FMTTYPE=image/jpeg:https://fresnoroguefestival.org/wp-content/uploads/2026/02/David-Spencer-Life-Reflection-Songs.jpg
GEO:36.757556;-119.801219
X-APPLE-STRUCTURED-LOCATION;VALUE=URI;X-ADDRESS=Art Annex 814 E Olive Ave Fresno CA 93728 United States;X-APPLE-RADIUS=500;X-TITLE=814 E Olive Ave:geo:-119.801219,36.757556
END:VEVENT
BEGIN:VEVENT
DTSTART;TZID=America/Los_Angeles:20260226T180000
DTEND;TZID=America/Los_Angeles:20260226T210000
DTSTAMP:20260420T212118
CREATED:20260218T044816Z
LAST-MODIFIED:20260218T044816Z
UID:10001055-1772128800-1772139600@fresnoroguefestival.org
SUMMARY:Rogue Teaser Show
DESCRIPTION:
URL:https://fresnoroguefestival.org/performance/rogue-teaser-show/
LOCATION:Summer Fox Brewery\, 1426 N Van Ness Ave\, Fresno\, CA\, 93728\, United States
ATTACH;FMTTYPE=image/jpeg:https://fresnoroguefestival.org/wp-content/uploads/2026/02/2026-Rogue-Muse_cymk-1-scaled.jpg
GEO:36.7617515;-119.7987371
X-APPLE-STRUCTURED-LOCATION;VALUE=URI;X-ADDRESS=Summer Fox Brewery 1426 N Van Ness Ave Fresno CA 93728 United States;X-APPLE-RADIUS=500;X-TITLE=1426 N Van Ness Ave:geo:-119.7987371,36.7617515
END:VEVENT
BEGIN:VEVENT
DTSTART;TZID=America/Los_Angeles:20260221T120000
DTEND;TZID=America/Los_Angeles:20260221T140000
DTSTAMP:20260420T212118
CREATED:20250205T075951Z
LAST-MODIFIED:20260210T215815Z
UID:10000826-1771675200-1771682400@fresnoroguefestival.org
SUMMARY:Volunteer Training
DESCRIPTION:Come out and learn how to be a Rogue Volunteer!
URL:https://fresnoroguefestival.org/performance/volunteer-training/2026-02-21/
LOCATION:ViSTA Theater\, 1296 N. Wishon Ave\, Fresno\, CA\, 93728\, United States
GEO:36.7593468;-119.8007853
X-APPLE-STRUCTURED-LOCATION;VALUE=URI;X-ADDRESS=ViSTA Theater 1296 N. Wishon Ave Fresno CA 93728 United States;X-APPLE-RADIUS=500;X-TITLE=1296 N. Wishon Ave:geo:-119.8007853,36.7593468
END:VEVENT
BEGIN:VEVENT
DTSTART;TZID=America/Los_Angeles:20260219T183000
DTEND;TZID=America/Los_Angeles:20260219T203000
DTSTAMP:20260420T212118
CREATED:20250205T075951Z
LAST-MODIFIED:20260210T215815Z
UID:10000825-1771525800-1771533000@fresnoroguefestival.org
SUMMARY:Volunteer Training
DESCRIPTION:Come out and learn how to be a Rogue Volunteer!
URL:https://fresnoroguefestival.org/performance/volunteer-training/2026-02-19/
LOCATION:ViSTA Theater\, 1296 N. Wishon Ave\, Fresno\, CA\, 93728\, United States
GEO:36.7593468;-119.8007853
X-APPLE-STRUCTURED-LOCATION;VALUE=URI;X-ADDRESS=ViSTA Theater 1296 N. Wishon Ave Fresno CA 93728 United States;X-APPLE-RADIUS=500;X-TITLE=1296 N. Wishon Ave:geo:-119.8007853,36.7593468
END:VEVENT
BEGIN:VEVENT
DTSTART;TZID=America/Los_Angeles:20260212T190000
DTEND;TZID=America/Los_Angeles:20260212T210000
DTSTAMP:20260420T212118
CREATED:20250210T030041Z
LAST-MODIFIED:20260210T215606Z
UID:10000813-1770922800-1770930000@fresnoroguefestival.org
SUMMARY:Muse Reveal
DESCRIPTION:Join us at Goldsteins for this year’s muse\, plus programs\, wristbands and merch will be there too. We can’t wait to see you!
URL:https://fresnoroguefestival.org/performance/muse-reveal/
LOCATION:Goldstein’s Mortuary & Delicatessen\, 1279 N Wishon Ave\, Fresno\, CA\, 93728\, United States
ATTACH;FMTTYPE=image/png:https://fresnoroguefestival.org/wp-content/uploads/2026/02/Untitled-design-7.png
GEO:36.7591329;-119.8013211
X-APPLE-STRUCTURED-LOCATION;VALUE=URI;X-ADDRESS=Goldstein’s Mortuary & Delicatessen 1279 N Wishon Ave Fresno CA 93728 United States;X-APPLE-RADIUS=500;X-TITLE=1279 N Wishon Ave:geo:-119.8013211,36.7591329
END:VEVENT
END:VCALENDAR