BEGIN:VCALENDAR
VERSION:2.0
PRODID:-//Rogue Festival - ECPv6.15.20//NONSGML v1.0//EN
CALSCALE:GREGORIAN
METHOD:PUBLISH
X-WR-CALNAME:Rogue Festival
X-ORIGINAL-URL:https://fresnoroguefestival.org
X-WR-CALDESC:Events for Rogue Festival
REFRESH-INTERVAL;VALUE=DURATION:PT1H
X-Robots-Tag:noindex
X-PUBLISHED-TTL:PT1H
BEGIN:VTIMEZONE
TZID:America/Los_Angeles
BEGIN:DAYLIGHT
TZOFFSETFROM:-0800
TZOFFSETTO:-0700
TZNAME:PDT
DTSTART:20250309T100000
END:DAYLIGHT
BEGIN:STANDARD
TZOFFSETFROM:-0700
TZOFFSETTO:-0800
TZNAME:PST
DTSTART:20251102T090000
END:STANDARD
BEGIN:DAYLIGHT
TZOFFSETFROM:-0800
TZOFFSETTO:-0700
TZNAME:PDT
DTSTART:20260308T100000
END:DAYLIGHT
BEGIN:STANDARD
TZOFFSETFROM:-0700
TZOFFSETTO:-0800
TZNAME:PST
DTSTART:20261101T090000
END:STANDARD
BEGIN:DAYLIGHT
TZOFFSETFROM:-0800
TZOFFSETTO:-0700
TZNAME:PDT
DTSTART:20270314T100000
END:DAYLIGHT
BEGIN:STANDARD
TZOFFSETFROM:-0700
TZOFFSETTO:-0800
TZNAME:PST
DTSTART:20271107T090000
END:STANDARD
END:VTIMEZONE
BEGIN:VEVENT
DTSTART;TZID=America/Los_Angeles:20260307T153000
DTEND;TZID=America/Los_Angeles:20260307T162000
DTSTAMP:20260420T112338
CREATED:20260217T224931Z
LAST-MODIFIED:20260219T230549Z
UID:10001014-1772897400-1772900400@fresnoroguefestival.org
SUMMARY:Let’s Talk Libraries with a Lively Drag Story Hour
DESCRIPTION:Morrigana will be dressed to the nines in glorious drag and selecting from a variety of children’s illustrated books each featuring a library experience. Each performance will feature different books\, so be ready for a variety with each showtime. Then Brooke will be book chic as she demonstrates how you the audience can help bring a Fresno County Public Library back to the Tower District. She’ll take you on a scroll through TowerLibrary.org so you can see what has happened\, and what needs to happen to make this a reality. There will also be an opportunity to grab a form to get a Fresno County Public Library card if you don’t already have one\, as well as an opportunity for those who qualify to be a part of Dolly Parton’s Imagination Library. Brooke also hand makes items that will be available for purchase with the proceeds going to a Tower District Library fund. \nBuy Tickets
URL:https://fresnoroguefestival.org/performance/lets-talk-libraries/2026-03-07/
LOCATION:Hart’s Haven\, 950 N. Van Ness Ave\, Fresno\, CA\, 92738\, United States
CATEGORIES:Variety
ATTACH;FMTTYPE=image/jpeg:https://fresnoroguefestival.org/wp-content/uploads/2026/02/Lets-Talk-Libraries.jpg
GEO:36.7547196;-119.7985806
X-APPLE-STRUCTURED-LOCATION;VALUE=URI;X-ADDRESS=Hart’s Haven 950 N. Van Ness Ave Fresno CA 92738 United States;X-APPLE-RADIUS=500;X-TITLE=950 N. Van Ness Ave:geo:-119.7985806,36.7547196
END:VEVENT
BEGIN:VEVENT
DTSTART;TZID=America/Los_Angeles:20260306T220000
DTEND;TZID=America/Los_Angeles:20260306T225500
DTSTAMP:20260420T112338
CREATED:20260217T233902Z
LAST-MODIFIED:20260220T001949Z
UID:10001048-1772834400-1772837700@fresnoroguefestival.org
SUMMARY:Watch Night with the Black Patti (Freedom’s Eve – Songs They Couldn't Silence)
DESCRIPTION:Watch Night with the Black Patti\n(Freedom’s Eve – Songs They Couldn’t Silence) \nIn this 55-minute theatrical experience\, Cassandra Stafford steps into the role of Sissieretta Joyner Jones\, the first Black woman to sing at Carnegie Hall. As The Black Patti\, she narrates the journey of the Negro Spiritual—songs born in bondage\, carried through struggle\, and still alive today. \nThrough storytelling\, sacred song\, and dance by Olyvia\, this show brings history to life with real emotion and audience participation. It’s not just a performance—it’s a revival of truth and tradition. \n$15 general\, $10 students and seniors \nBuy Tickets
URL:https://fresnoroguefestival.org/performance/watch-night-with-the-black-patti-freedoms-eve-songs-they-couldnt-silence/2026-03-06/
LOCATION:Hart’s Haven\, 950 N. Van Ness Ave\, Fresno\, CA\, 92738\, United States
CATEGORIES:Variety
ATTACH;FMTTYPE=image/jpeg:https://fresnoroguefestival.org/wp-content/uploads/2026/02/Cassandra-Stafford-Watch-Night-with-the-Black-Patti.jpg
GEO:36.7547196;-119.7985806
X-APPLE-STRUCTURED-LOCATION;VALUE=URI;X-ADDRESS=Hart’s Haven 950 N. Van Ness Ave Fresno CA 92738 United States;X-APPLE-RADIUS=500;X-TITLE=950 N. Van Ness Ave:geo:-119.7985806,36.7547196
END:VEVENT
BEGIN:VEVENT
DTSTART;TZID=America/Los_Angeles:20260306T173000
DTEND;TZID=America/Los_Angeles:20260306T182000
DTSTAMP:20260420T112338
CREATED:20260217T224931Z
LAST-MODIFIED:20260219T230549Z
UID:10001013-1772818200-1772821200@fresnoroguefestival.org
SUMMARY:Let’s Talk Libraries with a Lively Drag Story Hour
DESCRIPTION:Morrigana will be dressed to the nines in glorious drag and selecting from a variety of children’s illustrated books each featuring a library experience. Each performance will feature different books\, so be ready for a variety with each showtime. Then Brooke will be book chic as she demonstrates how you the audience can help bring a Fresno County Public Library back to the Tower District. She’ll take you on a scroll through TowerLibrary.org so you can see what has happened\, and what needs to happen to make this a reality. There will also be an opportunity to grab a form to get a Fresno County Public Library card if you don’t already have one\, as well as an opportunity for those who qualify to be a part of Dolly Parton’s Imagination Library. Brooke also hand makes items that will be available for purchase with the proceeds going to a Tower District Library fund. \nBuy Tickets
URL:https://fresnoroguefestival.org/performance/lets-talk-libraries/2026-03-06/
LOCATION:Hart’s Haven\, 950 N. Van Ness Ave\, Fresno\, CA\, 92738\, United States
CATEGORIES:Variety
ATTACH;FMTTYPE=image/jpeg:https://fresnoroguefestival.org/wp-content/uploads/2026/02/Lets-Talk-Libraries.jpg
GEO:36.7547196;-119.7985806
X-APPLE-STRUCTURED-LOCATION;VALUE=URI;X-ADDRESS=Hart’s Haven 950 N. Van Ness Ave Fresno CA 92738 United States;X-APPLE-RADIUS=500;X-TITLE=950 N. Van Ness Ave:geo:-119.7985806,36.7547196
END:VEVENT
BEGIN:VEVENT
DTSTART;TZID=America/Los_Angeles:20260305T203000
DTEND;TZID=America/Los_Angeles:20260305T212000
DTSTAMP:20260420T112338
CREATED:20260217T224931Z
LAST-MODIFIED:20260219T230549Z
UID:10001012-1772742600-1772745600@fresnoroguefestival.org
SUMMARY:Let’s Talk Libraries with a Lively Drag Story Hour
DESCRIPTION:Morrigana will be dressed to the nines in glorious drag and selecting from a variety of children’s illustrated books each featuring a library experience. Each performance will feature different books\, so be ready for a variety with each showtime. Then Brooke will be book chic as she demonstrates how you the audience can help bring a Fresno County Public Library back to the Tower District. She’ll take you on a scroll through TowerLibrary.org so you can see what has happened\, and what needs to happen to make this a reality. There will also be an opportunity to grab a form to get a Fresno County Public Library card if you don’t already have one\, as well as an opportunity for those who qualify to be a part of Dolly Parton’s Imagination Library. Brooke also hand makes items that will be available for purchase with the proceeds going to a Tower District Library fund. \nBuy Tickets
URL:https://fresnoroguefestival.org/performance/lets-talk-libraries/2026-03-05/
LOCATION:Hart’s Haven\, 950 N. Van Ness Ave\, Fresno\, CA\, 92738\, United States
CATEGORIES:Variety
ATTACH;FMTTYPE=image/jpeg:https://fresnoroguefestival.org/wp-content/uploads/2026/02/Lets-Talk-Libraries.jpg
GEO:36.7547196;-119.7985806
X-APPLE-STRUCTURED-LOCATION;VALUE=URI;X-ADDRESS=Hart’s Haven 950 N. Van Ness Ave Fresno CA 92738 United States;X-APPLE-RADIUS=500;X-TITLE=950 N. Van Ness Ave:geo:-119.7985806,36.7547196
END:VEVENT
BEGIN:VEVENT
DTSTART;TZID=America/Los_Angeles:20260305T190000
DTEND;TZID=America/Los_Angeles:20260305T200000
DTSTAMP:20260420T112338
CREATED:20260217T232127Z
LAST-MODIFIED:20260220T000327Z
UID:10001044-1772737200-1772740800@fresnoroguefestival.org
SUMMARY:Triple Threat
DESCRIPTION:Minion Productions returns with a brand new show!\nTriple Threat is a mix of talk show\, variety show & coordinated chaos.\nOur featured guests will present 3 skills – 1 we know they’re good at\, 1 we didn’t know they’re good at\, and 1 they’re *absolutely* not good at.\nGet to know your Rogue Festival artists in a whole new light. \nThis is Minion Productions’ 15th year of producing shows at Rogue Festival\, including 10 seasons of our fun & fabulous live game show\, Fringe Factor. \nBuy Tickets
URL:https://fresnoroguefestival.org/performance/triple-threat/2026-03-05/
LOCATION:Hart’s Haven\, 950 N. Van Ness Ave\, Fresno\, CA\, 92738\, United States
CATEGORIES:Variety
ATTACH;FMTTYPE=image/jpeg:https://fresnoroguefestival.org/wp-content/uploads/2026/02/Minion-Triple-Threat.jpg
GEO:36.7547196;-119.7985806
X-APPLE-STRUCTURED-LOCATION;VALUE=URI;X-ADDRESS=Hart’s Haven 950 N. Van Ness Ave Fresno CA 92738 United States;X-APPLE-RADIUS=500;X-TITLE=950 N. Van Ness Ave:geo:-119.7985806,36.7547196
END:VEVENT
BEGIN:VEVENT
DTSTART;TZID=America/Los_Angeles:20260301T200000
DTEND;TZID=America/Los_Angeles:20260301T210000
DTSTAMP:20260420T112338
CREATED:20260217T232127Z
LAST-MODIFIED:20260220T000327Z
UID:10001043-1772395200-1772398800@fresnoroguefestival.org
SUMMARY:Triple Threat
DESCRIPTION:Minion Productions returns with a brand new show!\nTriple Threat is a mix of talk show\, variety show & coordinated chaos.\nOur featured guests will present 3 skills – 1 we know they’re good at\, 1 we didn’t know they’re good at\, and 1 they’re *absolutely* not good at.\nGet to know your Rogue Festival artists in a whole new light. \nThis is Minion Productions’ 15th year of producing shows at Rogue Festival\, including 10 seasons of our fun & fabulous live game show\, Fringe Factor. \nBuy Tickets
URL:https://fresnoroguefestival.org/performance/triple-threat/2026-03-01/
LOCATION:Hart’s Haven\, 950 N. Van Ness Ave\, Fresno\, CA\, 92738\, United States
CATEGORIES:Variety
ATTACH;FMTTYPE=image/jpeg:https://fresnoroguefestival.org/wp-content/uploads/2026/02/Minion-Triple-Threat.jpg
GEO:36.7547196;-119.7985806
X-APPLE-STRUCTURED-LOCATION;VALUE=URI;X-ADDRESS=Hart’s Haven 950 N. Van Ness Ave Fresno CA 92738 United States;X-APPLE-RADIUS=500;X-TITLE=950 N. Van Ness Ave:geo:-119.7985806,36.7547196
END:VEVENT
BEGIN:VEVENT
DTSTART;TZID=America/Los_Angeles:20260301T170000
DTEND;TZID=America/Los_Angeles:20260301T175500
DTSTAMP:20260420T112338
CREATED:20260217T233902Z
LAST-MODIFIED:20260220T001949Z
UID:10001047-1772384400-1772387700@fresnoroguefestival.org
SUMMARY:Watch Night with the Black Patti (Freedom’s Eve – Songs They Couldn't Silence)
DESCRIPTION:Watch Night with the Black Patti\n(Freedom’s Eve – Songs They Couldn’t Silence) \nIn this 55-minute theatrical experience\, Cassandra Stafford steps into the role of Sissieretta Joyner Jones\, the first Black woman to sing at Carnegie Hall. As The Black Patti\, she narrates the journey of the Negro Spiritual—songs born in bondage\, carried through struggle\, and still alive today. \nThrough storytelling\, sacred song\, and dance by Olyvia\, this show brings history to life with real emotion and audience participation. It’s not just a performance—it’s a revival of truth and tradition. \n$15 general\, $10 students and seniors \nBuy Tickets
URL:https://fresnoroguefestival.org/performance/watch-night-with-the-black-patti-freedoms-eve-songs-they-couldnt-silence/2026-03-01/
LOCATION:Hart’s Haven\, 950 N. Van Ness Ave\, Fresno\, CA\, 92738\, United States
CATEGORIES:Variety
ATTACH;FMTTYPE=image/jpeg:https://fresnoroguefestival.org/wp-content/uploads/2026/02/Cassandra-Stafford-Watch-Night-with-the-Black-Patti.jpg
GEO:36.7547196;-119.7985806
X-APPLE-STRUCTURED-LOCATION;VALUE=URI;X-ADDRESS=Hart’s Haven 950 N. Van Ness Ave Fresno CA 92738 United States;X-APPLE-RADIUS=500;X-TITLE=950 N. Van Ness Ave:geo:-119.7985806,36.7547196
END:VEVENT
BEGIN:VEVENT
DTSTART;TZID=America/Los_Angeles:20260228T170000
DTEND;TZID=America/Los_Angeles:20260228T175500
DTSTAMP:20260420T112338
CREATED:20260217T233902Z
LAST-MODIFIED:20260220T001949Z
UID:10001046-1772298000-1772301300@fresnoroguefestival.org
SUMMARY:Watch Night with the Black Patti (Freedom’s Eve – Songs They Couldn't Silence)
DESCRIPTION:Watch Night with the Black Patti\n(Freedom’s Eve – Songs They Couldn’t Silence) \nIn this 55-minute theatrical experience\, Cassandra Stafford steps into the role of Sissieretta Joyner Jones\, the first Black woman to sing at Carnegie Hall. As The Black Patti\, she narrates the journey of the Negro Spiritual—songs born in bondage\, carried through struggle\, and still alive today. \nThrough storytelling\, sacred song\, and dance by Olyvia\, this show brings history to life with real emotion and audience participation. It’s not just a performance—it’s a revival of truth and tradition. \n$15 general\, $10 students and seniors \nBuy Tickets
URL:https://fresnoroguefestival.org/performance/watch-night-with-the-black-patti-freedoms-eve-songs-they-couldnt-silence/2026-02-28/
LOCATION:Hart’s Haven\, 950 N. Van Ness Ave\, Fresno\, CA\, 92738\, United States
CATEGORIES:Variety
ATTACH;FMTTYPE=image/jpeg:https://fresnoroguefestival.org/wp-content/uploads/2026/02/Cassandra-Stafford-Watch-Night-with-the-Black-Patti.jpg
GEO:36.7547196;-119.7985806
X-APPLE-STRUCTURED-LOCATION;VALUE=URI;X-ADDRESS=Hart’s Haven 950 N. Van Ness Ave Fresno CA 92738 United States;X-APPLE-RADIUS=500;X-TITLE=950 N. Van Ness Ave:geo:-119.7985806,36.7547196
END:VEVENT
BEGIN:VEVENT
DTSTART;TZID=America/Los_Angeles:20260228T153000
DTEND;TZID=America/Los_Angeles:20260228T163000
DTSTAMP:20260420T112338
CREATED:20260217T232127Z
LAST-MODIFIED:20260220T000327Z
UID:10001042-1772292600-1772296200@fresnoroguefestival.org
SUMMARY:Triple Threat
DESCRIPTION:Minion Productions returns with a brand new show!\nTriple Threat is a mix of talk show\, variety show & coordinated chaos.\nOur featured guests will present 3 skills – 1 we know they’re good at\, 1 we didn’t know they’re good at\, and 1 they’re *absolutely* not good at.\nGet to know your Rogue Festival artists in a whole new light. \nThis is Minion Productions’ 15th year of producing shows at Rogue Festival\, including 10 seasons of our fun & fabulous live game show\, Fringe Factor. \nBuy Tickets
URL:https://fresnoroguefestival.org/performance/triple-threat/2026-02-28/
LOCATION:Hart’s Haven\, 950 N. Van Ness Ave\, Fresno\, CA\, 92738\, United States
CATEGORIES:Variety
ATTACH;FMTTYPE=image/jpeg:https://fresnoroguefestival.org/wp-content/uploads/2026/02/Minion-Triple-Threat.jpg
GEO:36.7547196;-119.7985806
X-APPLE-STRUCTURED-LOCATION;VALUE=URI;X-ADDRESS=Hart’s Haven 950 N. Van Ness Ave Fresno CA 92738 United States;X-APPLE-RADIUS=500;X-TITLE=950 N. Van Ness Ave:geo:-119.7985806,36.7547196
END:VEVENT
BEGIN:VEVENT
DTSTART;TZID=America/Los_Angeles:20260227T220000
DTEND;TZID=America/Los_Angeles:20260227T230000
DTSTAMP:20260420T112338
CREATED:20260217T232127Z
LAST-MODIFIED:20260220T000327Z
UID:10001041-1772229600-1772233200@fresnoroguefestival.org
SUMMARY:Triple Threat
DESCRIPTION:Minion Productions returns with a brand new show!\nTriple Threat is a mix of talk show\, variety show & coordinated chaos.\nOur featured guests will present 3 skills – 1 we know they’re good at\, 1 we didn’t know they’re good at\, and 1 they’re *absolutely* not good at.\nGet to know your Rogue Festival artists in a whole new light. \nThis is Minion Productions’ 15th year of producing shows at Rogue Festival\, including 10 seasons of our fun & fabulous live game show\, Fringe Factor. \nBuy Tickets
URL:https://fresnoroguefestival.org/performance/triple-threat/2026-02-27/
LOCATION:Hart’s Haven\, 950 N. Van Ness Ave\, Fresno\, CA\, 92738\, United States
CATEGORIES:Variety
ATTACH;FMTTYPE=image/jpeg:https://fresnoroguefestival.org/wp-content/uploads/2026/02/Minion-Triple-Threat.jpg
GEO:36.7547196;-119.7985806
X-APPLE-STRUCTURED-LOCATION;VALUE=URI;X-ADDRESS=Hart’s Haven 950 N. Van Ness Ave Fresno CA 92738 United States;X-APPLE-RADIUS=500;X-TITLE=950 N. Van Ness Ave:geo:-119.7985806,36.7547196
END:VEVENT
BEGIN:VEVENT
DTSTART;TZID=America/Los_Angeles:20260227T203000
DTEND;TZID=America/Los_Angeles:20260227T212500
DTSTAMP:20260420T112338
CREATED:20260217T233902Z
LAST-MODIFIED:20260220T001949Z
UID:10001045-1772224200-1772227500@fresnoroguefestival.org
SUMMARY:Watch Night with the Black Patti (Freedom’s Eve – Songs They Couldn't Silence)
DESCRIPTION:Watch Night with the Black Patti\n(Freedom’s Eve – Songs They Couldn’t Silence) \nIn this 55-minute theatrical experience\, Cassandra Stafford steps into the role of Sissieretta Joyner Jones\, the first Black woman to sing at Carnegie Hall. As The Black Patti\, she narrates the journey of the Negro Spiritual—songs born in bondage\, carried through struggle\, and still alive today. \nThrough storytelling\, sacred song\, and dance by Olyvia\, this show brings history to life with real emotion and audience participation. It’s not just a performance—it’s a revival of truth and tradition. \n$15 general\, $10 students and seniors \nBuy Tickets
URL:https://fresnoroguefestival.org/performance/watch-night-with-the-black-patti-freedoms-eve-songs-they-couldnt-silence/2026-02-27/
LOCATION:Hart’s Haven\, 950 N. Van Ness Ave\, Fresno\, CA\, 92738\, United States
CATEGORIES:Variety
ATTACH;FMTTYPE=image/jpeg:https://fresnoroguefestival.org/wp-content/uploads/2026/02/Cassandra-Stafford-Watch-Night-with-the-Black-Patti.jpg
GEO:36.7547196;-119.7985806
X-APPLE-STRUCTURED-LOCATION;VALUE=URI;X-ADDRESS=Hart’s Haven 950 N. Van Ness Ave Fresno CA 92738 United States;X-APPLE-RADIUS=500;X-TITLE=950 N. Van Ness Ave:geo:-119.7985806,36.7547196
END:VEVENT
END:VCALENDAR