BEGIN:VCALENDAR
VERSION:2.0
PRODID:-//Rogue Festival - ECPv6.15.20//NONSGML v1.0//EN
CALSCALE:GREGORIAN
METHOD:PUBLISH
X-ORIGINAL-URL:https://fresnoroguefestival.org
X-WR-CALDESC:Events for Rogue Festival
REFRESH-INTERVAL;VALUE=DURATION:PT1H
X-Robots-Tag:noindex
X-PUBLISHED-TTL:PT1H
BEGIN:VTIMEZONE
TZID:America/Los_Angeles
BEGIN:DAYLIGHT
TZOFFSETFROM:-0800
TZOFFSETTO:-0700
TZNAME:PDT
DTSTART:20250309T100000
END:DAYLIGHT
BEGIN:STANDARD
TZOFFSETFROM:-0700
TZOFFSETTO:-0800
TZNAME:PST
DTSTART:20251102T090000
END:STANDARD
BEGIN:DAYLIGHT
TZOFFSETFROM:-0800
TZOFFSETTO:-0700
TZNAME:PDT
DTSTART:20260308T100000
END:DAYLIGHT
BEGIN:STANDARD
TZOFFSETFROM:-0700
TZOFFSETTO:-0800
TZNAME:PST
DTSTART:20261101T090000
END:STANDARD
BEGIN:DAYLIGHT
TZOFFSETFROM:-0800
TZOFFSETTO:-0700
TZNAME:PDT
DTSTART:20270314T100000
END:DAYLIGHT
BEGIN:STANDARD
TZOFFSETFROM:-0700
TZOFFSETTO:-0800
TZNAME:PST
DTSTART:20271107T090000
END:STANDARD
END:VTIMEZONE
BEGIN:VEVENT
DTSTART;TZID=America/Los_Angeles:20260228T123000
DTEND;TZID=America/Los_Angeles:20260228T133000
DTSTAMP:20260420T112051
CREATED:20260211T014109Z
LAST-MODIFIED:20260218T034312Z
UID:10000948-1772281800-1772285400@fresnoroguefestival.org
SUMMARY:An Infinite Garden and Bountiful Harvest
DESCRIPTION:KatWoodRooney is a Fresno based group focusing on Original\, Americana\,\nand other Roots music. Collectively and individually we have decades of\nexperience playing for curious\, committed\, and compassionate music lovers.\nOur music is born in the intimacy of living rooms\, backyard jam sessions\, and\nwith loved ones around the campfire. We want to share our music and love\nwith the wider community. In these divisive times\, music and harmony is a\nbalm that heals the soul\, and bridges the gap that keeps people apart.\nJoin us\, sing with us\, and celebrate creativity and inspiration at Fresno’s\nRogue Festival 2026. \nBuy Tickets
URL:https://fresnoroguefestival.org/performance/an-infinite-garden-and-bountiful-harvest/2026-02-28/1/
LOCATION:ViSTA Theater\, 1296 N. Wishon Ave\, Fresno\, CA\, 93728\, United States
CATEGORIES:Music
ATTACH;FMTTYPE=image/jpeg:https://fresnoroguefestival.org/wp-content/uploads/2026/02/KatWoodRooney-Infinite-Garden-scaled.jpg
GEO:36.7593468;-119.8007853
X-APPLE-STRUCTURED-LOCATION;VALUE=URI;X-ADDRESS=ViSTA Theater 1296 N. Wishon Ave Fresno CA 93728 United States;X-APPLE-RADIUS=500;X-TITLE=1296 N. Wishon Ave:geo:-119.8007853,36.7593468
END:VEVENT
BEGIN:VEVENT
DTSTART;TZID=America/Los_Angeles:20260227T203000
DTEND;TZID=America/Los_Angeles:20260227T213000
DTSTAMP:20260420T112051
CREATED:20260211T002853Z
LAST-MODIFIED:20260227T000209Z
UID:10000901-1772224200-1772227800@fresnoroguefestival.org
SUMMARY:The Inner Child Museum
DESCRIPTION:A music-led exploration of listening and embodiment\, using piano\, play\, and chance to navigate innocence\, danger\, and voice. \nInner Child Museum is a music-led\, embodied performance by Kadie Kelly\, guided by piano works from her album Journey to Innocence. \nYou may learn to finger crochet a chain with hot pink yarn\, an innocent gesture with teeth\, and a way back into the body.  \nThe work asks: will the past freeze us into disconnection\, or will listening carry us forward? \nAdults only\n50 minutes\nTrigger warning: Mention of Childhood Sexual Abuse \nBuy Tickets
URL:https://fresnoroguefestival.org/performance/the-inner-child-museum/2026-02-27/
LOCATION:The Lotus Room\, 626 E Olive Ave\, Fresno\, CA\, 93728\, United States
CATEGORIES:Music
ATTACH;FMTTYPE=image/jpeg:https://fresnoroguefestival.org/wp-content/uploads/2026/02/Kadie-Kelly-Inner-Child-Museum.jpg
GEO:36.7574092;-119.8035859
X-APPLE-STRUCTURED-LOCATION;VALUE=URI;X-ADDRESS=The Lotus Room 626 E Olive Ave Fresno CA 93728 United States;X-APPLE-RADIUS=500;X-TITLE=626 E Olive Ave:geo:-119.8035859,36.7574092
END:VEVENT
BEGIN:VEVENT
DTSTART;TZID=America/Los_Angeles:20260227T173000
DTEND;TZID=America/Los_Angeles:20260227T181500
DTSTAMP:20260420T112051
CREATED:20260217T230910Z
LAST-MODIFIED:20260219T234705Z
UID:10001029-1772213400-1772216100@fresnoroguefestival.org
SUMMARY:Cassini LIVE
DESCRIPTION:Cassini is a music/film by Tony Imperatrice and Horizon award winner Claudio Laso. It tells the story of NASA’s Cassini mission to Saturn using actual NASA images and original music by Tony Imperatrice. We follow the Cassini spacecraft from launch to her final end\, with stunning images of the planet\, Saturn’s unique moons and the spectacular rings. Dramatic music accompanies the journey all performed live\, featuring Tony Imperatrice\, Anne Webster and Bernadette LaMontagne-Schenck \nBuy Tickets
URL:https://fresnoroguefestival.org/performance/cassini-live/2026-02-27/
LOCATION:Hart’s Haven\, 950 N. Van Ness Ave\, Fresno\, CA\, 92738\, United States
CATEGORIES:Music
ATTACH;FMTTYPE=image/jpeg:https://fresnoroguefestival.org/wp-content/uploads/2026/02/Tony-Imperatrice-Cassini-Live.jpg
GEO:36.7547196;-119.7985806
X-APPLE-STRUCTURED-LOCATION;VALUE=URI;X-ADDRESS=Hart’s Haven 950 N. Van Ness Ave Fresno CA 92738 United States;X-APPLE-RADIUS=500;X-TITLE=950 N. Van Ness Ave:geo:-119.7985806,36.7547196
END:VEVENT
BEGIN:VEVENT
DTSTART;TZID=America/Los_Angeles:20260227T173000
DTEND;TZID=America/Los_Angeles:20260227T181000
DTSTAMP:20260420T112051
CREATED:20260211T014806Z
LAST-MODIFIED:20260218T034828Z
UID:10000953-1772213400-1772215800@fresnoroguefestival.org
SUMMARY:Janice Noga Sings: For Love of Country
DESCRIPTION:Janice Noga sings for love of country while sharing her family’s immigration story\, singing in the Oval Office\, singing in the State Capitol\, and asking her audience to sing those patriotic songs along with her. \nBuy Tickets
URL:https://fresnoroguefestival.org/performance/janice-noga-sings-for-love-of-country/2026-02-27/
LOCATION:ViSTA Theater\, 1296 N. Wishon Ave\, Fresno\, CA\, 93728\, United States
CATEGORIES:Music
ATTACH;FMTTYPE=image/jpeg:https://fresnoroguefestival.org/wp-content/uploads/2026/02/Janice-Noga-Sings.jpg
GEO:36.7593468;-119.8007853
X-APPLE-STRUCTURED-LOCATION;VALUE=URI;X-ADDRESS=ViSTA Theater 1296 N. Wishon Ave Fresno CA 93728 United States;X-APPLE-RADIUS=500;X-TITLE=1296 N. Wishon Ave:geo:-119.8007853,36.7593468
END:VEVENT
END:VCALENDAR