BEGIN:VCALENDAR
VERSION:2.0
PRODID:-//Rogue Festival - ECPv6.15.20//NONSGML v1.0//EN
CALSCALE:GREGORIAN
METHOD:PUBLISH
X-ORIGINAL-URL:https://fresnoroguefestival.org
X-WR-CALDESC:Events for Rogue Festival
REFRESH-INTERVAL;VALUE=DURATION:PT1H
X-Robots-Tag:noindex
X-PUBLISHED-TTL:PT1H
BEGIN:VTIMEZONE
TZID:America/Los_Angeles
BEGIN:DAYLIGHT
TZOFFSETFROM:-0800
TZOFFSETTO:-0700
TZNAME:PDT
DTSTART:20250309T100000
END:DAYLIGHT
BEGIN:STANDARD
TZOFFSETFROM:-0700
TZOFFSETTO:-0800
TZNAME:PST
DTSTART:20251102T090000
END:STANDARD
BEGIN:DAYLIGHT
TZOFFSETFROM:-0800
TZOFFSETTO:-0700
TZNAME:PDT
DTSTART:20260308T100000
END:DAYLIGHT
BEGIN:STANDARD
TZOFFSETFROM:-0700
TZOFFSETTO:-0800
TZNAME:PST
DTSTART:20261101T090000
END:STANDARD
BEGIN:DAYLIGHT
TZOFFSETFROM:-0800
TZOFFSETTO:-0700
TZNAME:PDT
DTSTART:20270314T100000
END:DAYLIGHT
BEGIN:STANDARD
TZOFFSETFROM:-0700
TZOFFSETTO:-0800
TZNAME:PST
DTSTART:20271107T090000
END:STANDARD
END:VTIMEZONE
BEGIN:VEVENT
DTSTART;TZID=America/Los_Angeles:20260307T183000
DTEND;TZID=America/Los_Angeles:20260307T193000
DTSTAMP:20260420T112338
CREATED:20260217T223425Z
LAST-MODIFIED:20260219T224131Z
UID:10001004-1772908200-1772911800@fresnoroguefestival.org
SUMMARY:Andre’s Cabaway Day Majeek!!!
DESCRIPTION:Andre luuves Majeek…He is soooo in luve with luving everyone…including zi Audience… including your mum….including your favorite b’wakefest restaurante…including majeek…Oh I already said Majeeek…Andre also luuvss having special guests with him on zis jurneeey of funnayy Majeek!!! \nBuy Tickets
URL:https://fresnoroguefestival.org/performance/andres-cabaway-day-majeek/2026-03-07/
LOCATION:Hart’s Haven\, 950 N. Van Ness Ave\, Fresno\, CA\, 92738\, United States
CATEGORIES:Magic
ATTACH;FMTTYPE=image/jpeg:https://fresnoroguefestival.org/wp-content/uploads/2026/02/Baggy-Pants-Andre.jpg
GEO:36.7547196;-119.7985806
X-APPLE-STRUCTURED-LOCATION;VALUE=URI;X-ADDRESS=Hart’s Haven 950 N. Van Ness Ave Fresno CA 92738 United States;X-APPLE-RADIUS=500;X-TITLE=950 N. Van Ness Ave:geo:-119.7985806,36.7547196
END:VEVENT
BEGIN:VEVENT
DTSTART;TZID=America/Los_Angeles:20260307T153000
DTEND;TZID=America/Los_Angeles:20260307T161500
DTSTAMP:20260420T112338
CREATED:20260211T003735Z
LAST-MODIFIED:20260218T024820Z
UID:10000915-1772897400-1772900100@fresnoroguefestival.org
SUMMARY:Magic of Eric
DESCRIPTION:A magical performance that has traveled the world\, the Magic of Eric has entertained audiences for the past decade with his unique and engaging approach to magic. \nBuy Tickets
URL:https://fresnoroguefestival.org/performance/magic-of-eric-3/2026-03-07/
LOCATION:The Lotus Room\, 626 E Olive Ave\, Fresno\, CA\, 93728\, United States
CATEGORIES:Magic
ATTACH;FMTTYPE=image/jpeg:https://fresnoroguefestival.org/wp-content/uploads/2026/02/Magic-of-Eric-scaled.jpg
GEO:36.7574092;-119.8035859
X-APPLE-STRUCTURED-LOCATION;VALUE=URI;X-ADDRESS=The Lotus Room 626 E Olive Ave Fresno CA 93728 United States;X-APPLE-RADIUS=500;X-TITLE=626 E Olive Ave:geo:-119.8035859,36.7574092
END:VEVENT
BEGIN:VEVENT
DTSTART;TZID=America/Los_Angeles:20260306T220000
DTEND;TZID=America/Los_Angeles:20260306T230000
DTSTAMP:20260420T112338
CREATED:20260217T223425Z
LAST-MODIFIED:20260219T224131Z
UID:10001003-1772834400-1772838000@fresnoroguefestival.org
SUMMARY:Andre’s Cabaway Day Majeek!!!
DESCRIPTION:Andre luuves Majeek…He is soooo in luve with luving everyone…including zi Audience… including your mum….including your favorite b’wakefest restaurante…including majeek…Oh I already said Majeeek…Andre also luuvss having special guests with him on zis jurneeey of funnayy Majeek!!! \nBuy Tickets
URL:https://fresnoroguefestival.org/performance/andres-cabaway-day-majeek/2026-03-06/
LOCATION:Hart’s Haven\, 950 N. Van Ness Ave\, Fresno\, CA\, 92738\, United States
CATEGORIES:Magic
ATTACH;FMTTYPE=image/jpeg:https://fresnoroguefestival.org/wp-content/uploads/2026/02/Baggy-Pants-Andre.jpg
GEO:36.7547196;-119.7985806
X-APPLE-STRUCTURED-LOCATION;VALUE=URI;X-ADDRESS=Hart’s Haven 950 N. Van Ness Ave Fresno CA 92738 United States;X-APPLE-RADIUS=500;X-TITLE=950 N. Van Ness Ave:geo:-119.7985806,36.7547196
END:VEVENT
BEGIN:VEVENT
DTSTART;TZID=America/Los_Angeles:20260306T190000
DTEND;TZID=America/Los_Angeles:20260306T194500
DTSTAMP:20260420T112338
CREATED:20260211T003735Z
LAST-MODIFIED:20260218T024820Z
UID:10000914-1772823600-1772826300@fresnoroguefestival.org
SUMMARY:Magic of Eric
DESCRIPTION:A magical performance that has traveled the world\, the Magic of Eric has entertained audiences for the past decade with his unique and engaging approach to magic. \nBuy Tickets
URL:https://fresnoroguefestival.org/performance/magic-of-eric-3/2026-03-06/
LOCATION:The Lotus Room\, 626 E Olive Ave\, Fresno\, CA\, 93728\, United States
CATEGORIES:Magic
ATTACH;FMTTYPE=image/jpeg:https://fresnoroguefestival.org/wp-content/uploads/2026/02/Magic-of-Eric-scaled.jpg
GEO:36.7574092;-119.8035859
X-APPLE-STRUCTURED-LOCATION;VALUE=URI;X-ADDRESS=The Lotus Room 626 E Olive Ave Fresno CA 93728 United States;X-APPLE-RADIUS=500;X-TITLE=626 E Olive Ave:geo:-119.8035859,36.7574092
END:VEVENT
BEGIN:VEVENT
DTSTART;TZID=America/Los_Angeles:20260301T200000
DTEND;TZID=America/Los_Angeles:20260301T204500
DTSTAMP:20260420T112338
CREATED:20260211T003735Z
LAST-MODIFIED:20260218T024820Z
UID:10000913-1772395200-1772397900@fresnoroguefestival.org
SUMMARY:Magic of Eric
DESCRIPTION:A magical performance that has traveled the world\, the Magic of Eric has entertained audiences for the past decade with his unique and engaging approach to magic. \nBuy Tickets
URL:https://fresnoroguefestival.org/performance/magic-of-eric-3/2026-03-01/
LOCATION:The Lotus Room\, 626 E Olive Ave\, Fresno\, CA\, 93728\, United States
CATEGORIES:Magic
ATTACH;FMTTYPE=image/jpeg:https://fresnoroguefestival.org/wp-content/uploads/2026/02/Magic-of-Eric-scaled.jpg
GEO:36.7574092;-119.8035859
X-APPLE-STRUCTURED-LOCATION;VALUE=URI;X-ADDRESS=The Lotus Room 626 E Olive Ave Fresno CA 93728 United States;X-APPLE-RADIUS=500;X-TITLE=626 E Olive Ave:geo:-119.8035859,36.7574092
END:VEVENT
BEGIN:VEVENT
DTSTART;TZID=America/Los_Angeles:20260301T153000
DTEND;TZID=America/Los_Angeles:20260301T163000
DTSTAMP:20260420T112338
CREATED:20260217T223425Z
LAST-MODIFIED:20260219T224131Z
UID:10001002-1772379000-1772382600@fresnoroguefestival.org
SUMMARY:Andre’s Cabaway Day Majeek!!!
DESCRIPTION:Andre luuves Majeek…He is soooo in luve with luving everyone…including zi Audience… including your mum….including your favorite b’wakefest restaurante…including majeek…Oh I already said Majeeek…Andre also luuvss having special guests with him on zis jurneeey of funnayy Majeek!!! \nBuy Tickets
URL:https://fresnoroguefestival.org/performance/andres-cabaway-day-majeek/2026-03-01/
LOCATION:Hart’s Haven\, 950 N. Van Ness Ave\, Fresno\, CA\, 92738\, United States
CATEGORIES:Magic
ATTACH;FMTTYPE=image/jpeg:https://fresnoroguefestival.org/wp-content/uploads/2026/02/Baggy-Pants-Andre.jpg
GEO:36.7547196;-119.7985806
X-APPLE-STRUCTURED-LOCATION;VALUE=URI;X-ADDRESS=Hart’s Haven 950 N. Van Ness Ave Fresno CA 92738 United States;X-APPLE-RADIUS=500;X-TITLE=950 N. Van Ness Ave:geo:-119.7985806,36.7547196
END:VEVENT
BEGIN:VEVENT
DTSTART;TZID=America/Los_Angeles:20260228T200000
DTEND;TZID=America/Los_Angeles:20260228T210000
DTSTAMP:20260420T112338
CREATED:20260217T223425Z
LAST-MODIFIED:20260219T224131Z
UID:10001001-1772308800-1772312400@fresnoroguefestival.org
SUMMARY:Andre’s Cabaway Day Majeek!!!
DESCRIPTION:Andre luuves Majeek…He is soooo in luve with luving everyone…including zi Audience… including your mum….including your favorite b’wakefest restaurante…including majeek…Oh I already said Majeeek…Andre also luuvss having special guests with him on zis jurneeey of funnayy Majeek!!! \nBuy Tickets
URL:https://fresnoroguefestival.org/performance/andres-cabaway-day-majeek/2026-02-28/
LOCATION:Hart’s Haven\, 950 N. Van Ness Ave\, Fresno\, CA\, 92738\, United States
CATEGORIES:Magic
ATTACH;FMTTYPE=image/jpeg:https://fresnoroguefestival.org/wp-content/uploads/2026/02/Baggy-Pants-Andre.jpg
GEO:36.7547196;-119.7985806
X-APPLE-STRUCTURED-LOCATION;VALUE=URI;X-ADDRESS=Hart’s Haven 950 N. Van Ness Ave Fresno CA 92738 United States;X-APPLE-RADIUS=500;X-TITLE=950 N. Van Ness Ave:geo:-119.7985806,36.7547196
END:VEVENT
BEGIN:VEVENT
DTSTART;TZID=America/Los_Angeles:20260228T200000
DTEND;TZID=America/Los_Angeles:20260228T204500
DTSTAMP:20260420T112338
CREATED:20260211T003735Z
LAST-MODIFIED:20260218T024820Z
UID:10000912-1772308800-1772311500@fresnoroguefestival.org
SUMMARY:Magic of Eric
DESCRIPTION:A magical performance that has traveled the world\, the Magic of Eric has entertained audiences for the past decade with his unique and engaging approach to magic. \nBuy Tickets
URL:https://fresnoroguefestival.org/performance/magic-of-eric-3/2026-02-28/
LOCATION:The Lotus Room\, 626 E Olive Ave\, Fresno\, CA\, 93728\, United States
CATEGORIES:Magic
ATTACH;FMTTYPE=image/jpeg:https://fresnoroguefestival.org/wp-content/uploads/2026/02/Magic-of-Eric-scaled.jpg
GEO:36.7574092;-119.8035859
X-APPLE-STRUCTURED-LOCATION;VALUE=URI;X-ADDRESS=The Lotus Room 626 E Olive Ave Fresno CA 93728 United States;X-APPLE-RADIUS=500;X-TITLE=626 E Olive Ave:geo:-119.8035859,36.7574092
END:VEVENT
BEGIN:VEVENT
DTSTART;TZID=America/Los_Angeles:20260227T173000
DTEND;TZID=America/Los_Angeles:20260227T183000
DTSTAMP:20260420T112339
CREATED:20260217T223425Z
LAST-MODIFIED:20260219T224131Z
UID:10001000-1772213400-1772217000@fresnoroguefestival.org
SUMMARY:Andre’s Cabaway Day Majeek!!!
DESCRIPTION:Andre luuves Majeek…He is soooo in luve with luving everyone…including zi Audience… including your mum….including your favorite b’wakefest restaurante…including majeek…Oh I already said Majeeek…Andre also luuvss having special guests with him on zis jurneeey of funnayy Majeek!!! \nBuy Tickets
URL:https://fresnoroguefestival.org/performance/andres-cabaway-day-majeek/2026-02-27/
LOCATION:Hart’s Haven\, 950 N. Van Ness Ave\, Fresno\, CA\, 92738\, United States
CATEGORIES:Magic
ATTACH;FMTTYPE=image/jpeg:https://fresnoroguefestival.org/wp-content/uploads/2026/02/Baggy-Pants-Andre.jpg
GEO:36.7547196;-119.7985806
X-APPLE-STRUCTURED-LOCATION;VALUE=URI;X-ADDRESS=Hart’s Haven 950 N. Van Ness Ave Fresno CA 92738 United States;X-APPLE-RADIUS=500;X-TITLE=950 N. Van Ness Ave:geo:-119.7985806,36.7547196
END:VEVENT
BEGIN:VEVENT
DTSTART;TZID=America/Los_Angeles:20260227T173000
DTEND;TZID=America/Los_Angeles:20260227T181500
DTSTAMP:20260420T112339
CREATED:20260211T003735Z
LAST-MODIFIED:20260218T024820Z
UID:10000911-1772213400-1772216100@fresnoroguefestival.org
SUMMARY:Magic of Eric
DESCRIPTION:A magical performance that has traveled the world\, the Magic of Eric has entertained audiences for the past decade with his unique and engaging approach to magic. \nBuy Tickets
URL:https://fresnoroguefestival.org/performance/magic-of-eric-3/2026-02-27/
LOCATION:The Lotus Room\, 626 E Olive Ave\, Fresno\, CA\, 93728\, United States
CATEGORIES:Magic
ATTACH;FMTTYPE=image/jpeg:https://fresnoroguefestival.org/wp-content/uploads/2026/02/Magic-of-Eric-scaled.jpg
GEO:36.7574092;-119.8035859
X-APPLE-STRUCTURED-LOCATION;VALUE=URI;X-ADDRESS=The Lotus Room 626 E Olive Ave Fresno CA 93728 United States;X-APPLE-RADIUS=500;X-TITLE=626 E Olive Ave:geo:-119.8035859,36.7574092
END:VEVENT
END:VCALENDAR