BEGIN:VCALENDAR
VERSION:2.0
PRODID:-//Rogue Festival - ECPv6.15.20//NONSGML v1.0//EN
CALSCALE:GREGORIAN
METHOD:PUBLISH
X-ORIGINAL-URL:https://fresnoroguefestival.org
X-WR-CALDESC:Events for Rogue Festival
REFRESH-INTERVAL;VALUE=DURATION:PT1H
X-Robots-Tag:noindex
X-PUBLISHED-TTL:PT1H
BEGIN:VTIMEZONE
TZID:America/Los_Angeles
BEGIN:DAYLIGHT
TZOFFSETFROM:-0800
TZOFFSETTO:-0700
TZNAME:PDT
DTSTART:20250309T100000
END:DAYLIGHT
BEGIN:STANDARD
TZOFFSETFROM:-0700
TZOFFSETTO:-0800
TZNAME:PST
DTSTART:20251102T090000
END:STANDARD
BEGIN:DAYLIGHT
TZOFFSETFROM:-0800
TZOFFSETTO:-0700
TZNAME:PDT
DTSTART:20260308T100000
END:DAYLIGHT
BEGIN:STANDARD
TZOFFSETFROM:-0700
TZOFFSETTO:-0800
TZNAME:PST
DTSTART:20261101T090000
END:STANDARD
BEGIN:DAYLIGHT
TZOFFSETFROM:-0800
TZOFFSETTO:-0700
TZNAME:PDT
DTSTART:20270314T100000
END:DAYLIGHT
BEGIN:STANDARD
TZOFFSETFROM:-0700
TZOFFSETTO:-0800
TZNAME:PST
DTSTART:20271107T090000
END:STANDARD
END:VTIMEZONE
BEGIN:VEVENT
DTSTART;TZID=America/Los_Angeles:20260307T200000
DTEND;TZID=America/Los_Angeles:20260307T205500
DTSTAMP:20260420T110029
CREATED:20260217T225343Z
LAST-MODIFIED:20260219T231322Z
UID:10001018-1772913600-1772916900@fresnoroguefestival.org
SUMMARY:Shanties and Stories with Strangely
DESCRIPTION:Contains: Sing-Alongs. (Allergens: Shenanigans\, Sophistication\, Striptease\, Solipsism\, Somnambulism\, Suffering\, Sublimation\, Suspicion\, Stum’blin\, Sacrilege\, Synergy\, Squeezebox\, and Slight Sagacity.)\n.\nFuzzy Fan Favorite Strangely returns with new songs and tales from several years spent mucking about in boats. Strangely comes from a youth as a sea-dwelling beardo with an undeniable skill for crowd work\, and a penchant for balancing things on the face. Now an international professor of niche nerd-doms who plays accordion in ever more impressive ways\, Strangely is renowned for leading performances that walk the line between sing-along and barely contained riot. Hailed as a “charismatic and slightly deranged\,” [outinperth] “tour de force.” [fringereview]\, Strangely’s performances are always a “meeting with the unusual.” [KingsRiverLife]\n.\nwww.StrangelyAndFriends.com \nBuy Tickets
URL:https://fresnoroguefestival.org/performance/shanties-and-stories-with-strangely/2026-03-07/
LOCATION:Hart’s Haven\, 950 N. Van Ness Ave\, Fresno\, CA\, 92738\, United States
CATEGORIES:Cabaret
ATTACH;FMTTYPE=image/jpeg:https://fresnoroguefestival.org/wp-content/uploads/2026/02/Strangely-Shanties-and-Stories.jpg
GEO:36.7547196;-119.7985806
X-APPLE-STRUCTURED-LOCATION;VALUE=URI;X-ADDRESS=Hart’s Haven 950 N. Van Ness Ave Fresno CA 92738 United States;X-APPLE-RADIUS=500;X-TITLE=950 N. Van Ness Ave:geo:-119.7985806,36.7547196
END:VEVENT
BEGIN:VEVENT
DTSTART;TZID=America/Los_Angeles:20260307T123000
DTEND;TZID=America/Los_Angeles:20260307T133000
DTSTAMP:20260420T110029
CREATED:20260211T003317Z
LAST-MODIFIED:20260226T192349Z
UID:10000910-1772886600-1772890200@fresnoroguefestival.org
SUMMARY:The Madeline Minx Cabaret: Still Not Domesticated
DESCRIPTION:The Madeline Minx Cabaret: Still Not Domesticated is a sexy\, funny\, music-driven evening of storytelling\, stand-up comedy\, ambition\, and unapologetic 90s pop nostalgia. \nMadeline Minx sings\, rants\, jokes\, and whines her way through a lifelong obsession with pop stardom. Raised on music videos\, power ballads\, and the belief that girls were allowed to take up space\, she traces her journey from making movies on VHS to hosting her own kitchen talk show\, to chaotic brushes with fame and near misses with the spotlight. If Marty Supreme gets to be ambitious\, she’s taking her turn at the reins. \nOnstage\, Noemi Zeigler summons her pop alter ego\, Madeline Minx\, and lets her confidence drive. The cabaret blends sharp stand-up\, original songs\, and iconic covers with bold storytelling\, screening documentary clips of Minx’s ballsy\, unfiltered mother alongside her own music videos. Big hooks meet big laughs. Glamour collides with grit. The fantasy of fame refuses to be put out to pasture. Some horses were never meant to be domesticated. \nThere is playful audience interaction\, including moments where the crowd is warmly encouraged to sing along. Participation is joyful\, easy\, and part of the fun. \nSpecial musical guest Noam Osband (“Circumscribed”\, “Wikipedilove”) joins Minx onstage on select dates (Feb 28\, March 1 & March 7). Osband’s solo show Circumscribed took audiences by storm at last year’s Rogue Festival\, and his presence brings an extra layer of play\, spontaneity\, and musical conversation. \nCreator and performer Noemi Zeigler previously brought her acclaimed solo show You’ve Been Served to the Rogue Festival\, the Winnipeg Fringe Festival\, the Edmonton Fringe Festival\, and The Marsh Theater in San Francisco. Her show was also featured on CBC Radio and in the Jewish Post & News. \nAward-winning playwright and performer Tim Mooney praised You’ve Been Served for its “wild swings between outrage and vulnerability\,” highlighting its “moments of hope and pure joy.” Writing in the Winnipeg Free Press\, Jen Zoratti called it “a well written show\, full of perceptive\, funny and sometimes heartbreaking details\,” adding that Zeigler “can sing too.” Dramaturg David Ford places her in the tradition of great redhead comediennes like Lucille Ball and Carol Burnett. \nThe Madeline Minx Cabaret is not a sequel and not a surrender. It’s a new ride. Wilder\, looser\, funnier\, and fueled by pop hooks\, sharp jokes\, and the confidence that comes from letting the boldest version of yourself stay in the room. \nIf you’ve ever dreamed loudly\, laughed hard\, or refused to behave quietly just because time passed\, saddle up. Madeline Minx is still running. \nSpecial musical guest Noam Osband (“Circumscribed”\, “Wikipedilove”) joins Minx onstage on select dates (Feb 28\, March 1 & March 7). \nBuy Tickets
URL:https://fresnoroguefestival.org/performance/the-madeline-minx-cabaret-still-not-domesticated/2026-03-07/
LOCATION:The Lotus Room\, 626 E Olive Ave\, Fresno\, CA\, 93728\, United States
CATEGORIES:Cabaret
ATTACH;FMTTYPE=image/jpeg:https://fresnoroguefestival.org/wp-content/uploads/2026/02/Noemi-Zeigler-Madeline-Minx-Cabaret.jpg
GEO:36.7574092;-119.8035859
X-APPLE-STRUCTURED-LOCATION;VALUE=URI;X-ADDRESS=The Lotus Room 626 E Olive Ave Fresno CA 93728 United States;X-APPLE-RADIUS=500;X-TITLE=626 E Olive Ave:geo:-119.8035859,36.7574092
END:VEVENT
BEGIN:VEVENT
DTSTART;TZID=America/Los_Angeles:20260306T203000
DTEND;TZID=America/Los_Angeles:20260306T213000
DTSTAMP:20260420T110029
CREATED:20260211T003317Z
LAST-MODIFIED:20260226T192349Z
UID:10000909-1772829000-1772832600@fresnoroguefestival.org
SUMMARY:The Madeline Minx Cabaret: Still Not Domesticated
DESCRIPTION:The Madeline Minx Cabaret: Still Not Domesticated is a sexy\, funny\, music-driven evening of storytelling\, stand-up comedy\, ambition\, and unapologetic 90s pop nostalgia. \nMadeline Minx sings\, rants\, jokes\, and whines her way through a lifelong obsession with pop stardom. Raised on music videos\, power ballads\, and the belief that girls were allowed to take up space\, she traces her journey from making movies on VHS to hosting her own kitchen talk show\, to chaotic brushes with fame and near misses with the spotlight. If Marty Supreme gets to be ambitious\, she’s taking her turn at the reins. \nOnstage\, Noemi Zeigler summons her pop alter ego\, Madeline Minx\, and lets her confidence drive. The cabaret blends sharp stand-up\, original songs\, and iconic covers with bold storytelling\, screening documentary clips of Minx’s ballsy\, unfiltered mother alongside her own music videos. Big hooks meet big laughs. Glamour collides with grit. The fantasy of fame refuses to be put out to pasture. Some horses were never meant to be domesticated. \nThere is playful audience interaction\, including moments where the crowd is warmly encouraged to sing along. Participation is joyful\, easy\, and part of the fun. \nSpecial musical guest Noam Osband (“Circumscribed”\, “Wikipedilove”) joins Minx onstage on select dates (Feb 28\, March 1 & March 7). Osband’s solo show Circumscribed took audiences by storm at last year’s Rogue Festival\, and his presence brings an extra layer of play\, spontaneity\, and musical conversation. \nCreator and performer Noemi Zeigler previously brought her acclaimed solo show You’ve Been Served to the Rogue Festival\, the Winnipeg Fringe Festival\, the Edmonton Fringe Festival\, and The Marsh Theater in San Francisco. Her show was also featured on CBC Radio and in the Jewish Post & News. \nAward-winning playwright and performer Tim Mooney praised You’ve Been Served for its “wild swings between outrage and vulnerability\,” highlighting its “moments of hope and pure joy.” Writing in the Winnipeg Free Press\, Jen Zoratti called it “a well written show\, full of perceptive\, funny and sometimes heartbreaking details\,” adding that Zeigler “can sing too.” Dramaturg David Ford places her in the tradition of great redhead comediennes like Lucille Ball and Carol Burnett. \nThe Madeline Minx Cabaret is not a sequel and not a surrender. It’s a new ride. Wilder\, looser\, funnier\, and fueled by pop hooks\, sharp jokes\, and the confidence that comes from letting the boldest version of yourself stay in the room. \nIf you’ve ever dreamed loudly\, laughed hard\, or refused to behave quietly just because time passed\, saddle up. Madeline Minx is still running. \nSpecial musical guest Noam Osband (“Circumscribed”\, “Wikipedilove”) joins Minx onstage on select dates (Feb 28\, March 1 & March 7). \nBuy Tickets
URL:https://fresnoroguefestival.org/performance/the-madeline-minx-cabaret-still-not-domesticated/2026-03-06/
LOCATION:The Lotus Room\, 626 E Olive Ave\, Fresno\, CA\, 93728\, United States
CATEGORIES:Cabaret
ATTACH;FMTTYPE=image/jpeg:https://fresnoroguefestival.org/wp-content/uploads/2026/02/Noemi-Zeigler-Madeline-Minx-Cabaret.jpg
GEO:36.7574092;-119.8035859
X-APPLE-STRUCTURED-LOCATION;VALUE=URI;X-ADDRESS=The Lotus Room 626 E Olive Ave Fresno CA 93728 United States;X-APPLE-RADIUS=500;X-TITLE=626 E Olive Ave:geo:-119.8035859,36.7574092
END:VEVENT
BEGIN:VEVENT
DTSTART;TZID=America/Los_Angeles:20260306T190000
DTEND;TZID=America/Los_Angeles:20260306T195500
DTSTAMP:20260420T110029
CREATED:20260217T225343Z
LAST-MODIFIED:20260219T231322Z
UID:10001017-1772823600-1772826900@fresnoroguefestival.org
SUMMARY:Shanties and Stories with Strangely
DESCRIPTION:Contains: Sing-Alongs. (Allergens: Shenanigans\, Sophistication\, Striptease\, Solipsism\, Somnambulism\, Suffering\, Sublimation\, Suspicion\, Stum’blin\, Sacrilege\, Synergy\, Squeezebox\, and Slight Sagacity.)\n.\nFuzzy Fan Favorite Strangely returns with new songs and tales from several years spent mucking about in boats. Strangely comes from a youth as a sea-dwelling beardo with an undeniable skill for crowd work\, and a penchant for balancing things on the face. Now an international professor of niche nerd-doms who plays accordion in ever more impressive ways\, Strangely is renowned for leading performances that walk the line between sing-along and barely contained riot. Hailed as a “charismatic and slightly deranged\,” [outinperth] “tour de force.” [fringereview]\, Strangely’s performances are always a “meeting with the unusual.” [KingsRiverLife]\n.\nwww.StrangelyAndFriends.com \nBuy Tickets
URL:https://fresnoroguefestival.org/performance/shanties-and-stories-with-strangely/2026-03-06/
LOCATION:Hart’s Haven\, 950 N. Van Ness Ave\, Fresno\, CA\, 92738\, United States
CATEGORIES:Cabaret
ATTACH;FMTTYPE=image/jpeg:https://fresnoroguefestival.org/wp-content/uploads/2026/02/Strangely-Shanties-and-Stories.jpg
GEO:36.7547196;-119.7985806
X-APPLE-STRUCTURED-LOCATION;VALUE=URI;X-ADDRESS=Hart’s Haven 950 N. Van Ness Ave Fresno CA 92738 United States;X-APPLE-RADIUS=500;X-TITLE=950 N. Van Ness Ave:geo:-119.7985806,36.7547196
END:VEVENT
BEGIN:VEVENT
DTSTART;TZID=America/Los_Angeles:20260305T190000
DTEND;TZID=America/Los_Angeles:20260305T195500
DTSTAMP:20260420T110029
CREATED:20260217T225343Z
LAST-MODIFIED:20260219T231322Z
UID:10001016-1772737200-1772740500@fresnoroguefestival.org
SUMMARY:Shanties and Stories with Strangely
DESCRIPTION:Contains: Sing-Alongs. (Allergens: Shenanigans\, Sophistication\, Striptease\, Solipsism\, Somnambulism\, Suffering\, Sublimation\, Suspicion\, Stum’blin\, Sacrilege\, Synergy\, Squeezebox\, and Slight Sagacity.)\n.\nFuzzy Fan Favorite Strangely returns with new songs and tales from several years spent mucking about in boats. Strangely comes from a youth as a sea-dwelling beardo with an undeniable skill for crowd work\, and a penchant for balancing things on the face. Now an international professor of niche nerd-doms who plays accordion in ever more impressive ways\, Strangely is renowned for leading performances that walk the line between sing-along and barely contained riot. Hailed as a “charismatic and slightly deranged\,” [outinperth] “tour de force.” [fringereview]\, Strangely’s performances are always a “meeting with the unusual.” [KingsRiverLife]\n.\nwww.StrangelyAndFriends.com \nBuy Tickets
URL:https://fresnoroguefestival.org/performance/shanties-and-stories-with-strangely/2026-03-05/
LOCATION:Hart’s Haven\, 950 N. Van Ness Ave\, Fresno\, CA\, 92738\, United States
CATEGORIES:Cabaret
ATTACH;FMTTYPE=image/jpeg:https://fresnoroguefestival.org/wp-content/uploads/2026/02/Strangely-Shanties-and-Stories.jpg
GEO:36.7547196;-119.7985806
X-APPLE-STRUCTURED-LOCATION;VALUE=URI;X-ADDRESS=Hart’s Haven 950 N. Van Ness Ave Fresno CA 92738 United States;X-APPLE-RADIUS=500;X-TITLE=950 N. Van Ness Ave:geo:-119.7985806,36.7547196
END:VEVENT
BEGIN:VEVENT
DTSTART;TZID=America/Los_Angeles:20260301T200000
DTEND;TZID=America/Los_Angeles:20260301T205500
DTSTAMP:20260420T110029
CREATED:20260217T225343Z
LAST-MODIFIED:20260219T231322Z
UID:10001015-1772395200-1772398500@fresnoroguefestival.org
SUMMARY:Shanties and Stories with Strangely
DESCRIPTION:Contains: Sing-Alongs. (Allergens: Shenanigans\, Sophistication\, Striptease\, Solipsism\, Somnambulism\, Suffering\, Sublimation\, Suspicion\, Stum’blin\, Sacrilege\, Synergy\, Squeezebox\, and Slight Sagacity.)\n.\nFuzzy Fan Favorite Strangely returns with new songs and tales from several years spent mucking about in boats. Strangely comes from a youth as a sea-dwelling beardo with an undeniable skill for crowd work\, and a penchant for balancing things on the face. Now an international professor of niche nerd-doms who plays accordion in ever more impressive ways\, Strangely is renowned for leading performances that walk the line between sing-along and barely contained riot. Hailed as a “charismatic and slightly deranged\,” [outinperth] “tour de force.” [fringereview]\, Strangely’s performances are always a “meeting with the unusual.” [KingsRiverLife]\n.\nwww.StrangelyAndFriends.com \nBuy Tickets
URL:https://fresnoroguefestival.org/performance/shanties-and-stories-with-strangely/2026-03-01/
LOCATION:Hart’s Haven\, 950 N. Van Ness Ave\, Fresno\, CA\, 92738\, United States
CATEGORIES:Cabaret
ATTACH;FMTTYPE=image/jpeg:https://fresnoroguefestival.org/wp-content/uploads/2026/02/Strangely-Shanties-and-Stories.jpg
GEO:36.7547196;-119.7985806
X-APPLE-STRUCTURED-LOCATION;VALUE=URI;X-ADDRESS=Hart’s Haven 950 N. Van Ness Ave Fresno CA 92738 United States;X-APPLE-RADIUS=500;X-TITLE=950 N. Van Ness Ave:geo:-119.7985806,36.7547196
END:VEVENT
BEGIN:VEVENT
DTSTART;TZID=America/Los_Angeles:20260301T153000
DTEND;TZID=America/Los_Angeles:20260301T163000
DTSTAMP:20260420T110029
CREATED:20260211T003317Z
LAST-MODIFIED:20260226T192349Z
UID:10000908-1772379000-1772382600@fresnoroguefestival.org
SUMMARY:The Madeline Minx Cabaret: Still Not Domesticated
DESCRIPTION:The Madeline Minx Cabaret: Still Not Domesticated is a sexy\, funny\, music-driven evening of storytelling\, stand-up comedy\, ambition\, and unapologetic 90s pop nostalgia. \nMadeline Minx sings\, rants\, jokes\, and whines her way through a lifelong obsession with pop stardom. Raised on music videos\, power ballads\, and the belief that girls were allowed to take up space\, she traces her journey from making movies on VHS to hosting her own kitchen talk show\, to chaotic brushes with fame and near misses with the spotlight. If Marty Supreme gets to be ambitious\, she’s taking her turn at the reins. \nOnstage\, Noemi Zeigler summons her pop alter ego\, Madeline Minx\, and lets her confidence drive. The cabaret blends sharp stand-up\, original songs\, and iconic covers with bold storytelling\, screening documentary clips of Minx’s ballsy\, unfiltered mother alongside her own music videos. Big hooks meet big laughs. Glamour collides with grit. The fantasy of fame refuses to be put out to pasture. Some horses were never meant to be domesticated. \nThere is playful audience interaction\, including moments where the crowd is warmly encouraged to sing along. Participation is joyful\, easy\, and part of the fun. \nSpecial musical guest Noam Osband (“Circumscribed”\, “Wikipedilove”) joins Minx onstage on select dates (Feb 28\, March 1 & March 7). Osband’s solo show Circumscribed took audiences by storm at last year’s Rogue Festival\, and his presence brings an extra layer of play\, spontaneity\, and musical conversation. \nCreator and performer Noemi Zeigler previously brought her acclaimed solo show You’ve Been Served to the Rogue Festival\, the Winnipeg Fringe Festival\, the Edmonton Fringe Festival\, and The Marsh Theater in San Francisco. Her show was also featured on CBC Radio and in the Jewish Post & News. \nAward-winning playwright and performer Tim Mooney praised You’ve Been Served for its “wild swings between outrage and vulnerability\,” highlighting its “moments of hope and pure joy.” Writing in the Winnipeg Free Press\, Jen Zoratti called it “a well written show\, full of perceptive\, funny and sometimes heartbreaking details\,” adding that Zeigler “can sing too.” Dramaturg David Ford places her in the tradition of great redhead comediennes like Lucille Ball and Carol Burnett. \nThe Madeline Minx Cabaret is not a sequel and not a surrender. It’s a new ride. Wilder\, looser\, funnier\, and fueled by pop hooks\, sharp jokes\, and the confidence that comes from letting the boldest version of yourself stay in the room. \nIf you’ve ever dreamed loudly\, laughed hard\, or refused to behave quietly just because time passed\, saddle up. Madeline Minx is still running. \nSpecial musical guest Noam Osband (“Circumscribed”\, “Wikipedilove”) joins Minx onstage on select dates (Feb 28\, March 1 & March 7). \nBuy Tickets
URL:https://fresnoroguefestival.org/performance/the-madeline-minx-cabaret-still-not-domesticated/2026-03-01/
LOCATION:The Lotus Room\, 626 E Olive Ave\, Fresno\, CA\, 93728\, United States
CATEGORIES:Cabaret
ATTACH;FMTTYPE=image/jpeg:https://fresnoroguefestival.org/wp-content/uploads/2026/02/Noemi-Zeigler-Madeline-Minx-Cabaret.jpg
GEO:36.7574092;-119.8035859
X-APPLE-STRUCTURED-LOCATION;VALUE=URI;X-ADDRESS=The Lotus Room 626 E Olive Ave Fresno CA 93728 United States;X-APPLE-RADIUS=500;X-TITLE=626 E Olive Ave:geo:-119.8035859,36.7574092
END:VEVENT
BEGIN:VEVENT
DTSTART;TZID=America/Los_Angeles:20260228T123000
DTEND;TZID=America/Los_Angeles:20260228T133000
DTSTAMP:20260420T110029
CREATED:20260211T003317Z
LAST-MODIFIED:20260226T192349Z
UID:10000906-1772281800-1772285400@fresnoroguefestival.org
SUMMARY:The Madeline Minx Cabaret: Still Not Domesticated
DESCRIPTION:The Madeline Minx Cabaret: Still Not Domesticated is a sexy\, funny\, music-driven evening of storytelling\, stand-up comedy\, ambition\, and unapologetic 90s pop nostalgia. \nMadeline Minx sings\, rants\, jokes\, and whines her way through a lifelong obsession with pop stardom. Raised on music videos\, power ballads\, and the belief that girls were allowed to take up space\, she traces her journey from making movies on VHS to hosting her own kitchen talk show\, to chaotic brushes with fame and near misses with the spotlight. If Marty Supreme gets to be ambitious\, she’s taking her turn at the reins. \nOnstage\, Noemi Zeigler summons her pop alter ego\, Madeline Minx\, and lets her confidence drive. The cabaret blends sharp stand-up\, original songs\, and iconic covers with bold storytelling\, screening documentary clips of Minx’s ballsy\, unfiltered mother alongside her own music videos. Big hooks meet big laughs. Glamour collides with grit. The fantasy of fame refuses to be put out to pasture. Some horses were never meant to be domesticated. \nThere is playful audience interaction\, including moments where the crowd is warmly encouraged to sing along. Participation is joyful\, easy\, and part of the fun. \nSpecial musical guest Noam Osband (“Circumscribed”\, “Wikipedilove”) joins Minx onstage on select dates (Feb 28\, March 1 & March 7). Osband’s solo show Circumscribed took audiences by storm at last year’s Rogue Festival\, and his presence brings an extra layer of play\, spontaneity\, and musical conversation. \nCreator and performer Noemi Zeigler previously brought her acclaimed solo show You’ve Been Served to the Rogue Festival\, the Winnipeg Fringe Festival\, the Edmonton Fringe Festival\, and The Marsh Theater in San Francisco. Her show was also featured on CBC Radio and in the Jewish Post & News. \nAward-winning playwright and performer Tim Mooney praised You’ve Been Served for its “wild swings between outrage and vulnerability\,” highlighting its “moments of hope and pure joy.” Writing in the Winnipeg Free Press\, Jen Zoratti called it “a well written show\, full of perceptive\, funny and sometimes heartbreaking details\,” adding that Zeigler “can sing too.” Dramaturg David Ford places her in the tradition of great redhead comediennes like Lucille Ball and Carol Burnett. \nThe Madeline Minx Cabaret is not a sequel and not a surrender. It’s a new ride. Wilder\, looser\, funnier\, and fueled by pop hooks\, sharp jokes\, and the confidence that comes from letting the boldest version of yourself stay in the room. \nIf you’ve ever dreamed loudly\, laughed hard\, or refused to behave quietly just because time passed\, saddle up. Madeline Minx is still running. \nSpecial musical guest Noam Osband (“Circumscribed”\, “Wikipedilove”) joins Minx onstage on select dates (Feb 28\, March 1 & March 7). \nBuy Tickets
URL:https://fresnoroguefestival.org/performance/the-madeline-minx-cabaret-still-not-domesticated/2026-02-28/
LOCATION:The Lotus Room\, 626 E Olive Ave\, Fresno\, CA\, 93728\, United States
CATEGORIES:Cabaret
ATTACH;FMTTYPE=image/jpeg:https://fresnoroguefestival.org/wp-content/uploads/2026/02/Noemi-Zeigler-Madeline-Minx-Cabaret.jpg
GEO:36.7574092;-119.8035859
X-APPLE-STRUCTURED-LOCATION;VALUE=URI;X-ADDRESS=The Lotus Room 626 E Olive Ave Fresno CA 93728 United States;X-APPLE-RADIUS=500;X-TITLE=626 E Olive Ave:geo:-119.8035859,36.7574092
END:VEVENT
END:VCALENDAR