BEGIN:VCALENDAR
VERSION:2.0
PRODID:-//Rogue Festival - ECPv6.15.20//NONSGML v1.0//EN
CALSCALE:GREGORIAN
METHOD:PUBLISH
X-ORIGINAL-URL:https://fresnoroguefestival.org
X-WR-CALDESC:Events for Rogue Festival
REFRESH-INTERVAL;VALUE=DURATION:PT1H
X-Robots-Tag:noindex
X-PUBLISHED-TTL:PT1H
BEGIN:VTIMEZONE
TZID:America/Los_Angeles
BEGIN:DAYLIGHT
TZOFFSETFROM:-0800
TZOFFSETTO:-0700
TZNAME:PDT
DTSTART:20250309T100000
END:DAYLIGHT
BEGIN:STANDARD
TZOFFSETFROM:-0700
TZOFFSETTO:-0800
TZNAME:PST
DTSTART:20251102T090000
END:STANDARD
BEGIN:DAYLIGHT
TZOFFSETFROM:-0800
TZOFFSETTO:-0700
TZNAME:PDT
DTSTART:20260308T100000
END:DAYLIGHT
BEGIN:STANDARD
TZOFFSETFROM:-0700
TZOFFSETTO:-0800
TZNAME:PST
DTSTART:20261101T090000
END:STANDARD
BEGIN:DAYLIGHT
TZOFFSETFROM:-0800
TZOFFSETTO:-0700
TZNAME:PDT
DTSTART:20270314T100000
END:DAYLIGHT
BEGIN:STANDARD
TZOFFSETFROM:-0700
TZOFFSETTO:-0800
TZNAME:PST
DTSTART:20271107T090000
END:STANDARD
END:VTIMEZONE
BEGIN:VEVENT
DTSTART;TZID=America/Los_Angeles:20260307T143000
DTEND;TZID=America/Los_Angeles:20260307T152500
DTSTAMP:20260420T112101
CREATED:20260217T222455Z
LAST-MODIFIED:20260219T214420Z
UID:10000995-1772893800-1772897100@fresnoroguefestival.org
SUMMARY:Spilled Dictators by Andrew Rosdail
DESCRIPTION:In an unspecified totalitarian country\, a man is interrogated because he’s not sad enough about the dictator’s death in this political satire. Playwright Andrew Rosdail wrote his original draft of the play in 2012 after the death of Kim Jong II\, when there were reports of mourners being punished for insufficient grief at his funeral. Rosdail revised the script in 2017\, a few months after the first inauguration of our current president. \nDirected by Renée Newlove. A talkback follows each performance. \nBuy Tickets
URL:https://fresnoroguefestival.org/performance/spilled-dictators-by-andrew-rosdail/2026-03-07/
LOCATION:Grove at Veni’s\, 1118 N Fulton Ave\, Fresno\, Ca\, 93728
CATEGORIES:Theater
ATTACH;FMTTYPE=image/jpeg:https://fresnoroguefestival.org/wp-content/uploads/2026/02/UR-Here-Spilled-Dicatators-scaled.jpg
GEO:36.7570365;-119.800073
X-APPLE-STRUCTURED-LOCATION;VALUE=URI;X-ADDRESS=Grove at Veni’s 1118 N Fulton Ave Fresno Ca 93728;X-APPLE-RADIUS=500;X-TITLE=1118 N Fulton Ave:geo:-119.800073,36.7570365
END:VEVENT
BEGIN:VEVENT
DTSTART;TZID=America/Los_Angeles:20260306T173000
DTEND;TZID=America/Los_Angeles:20260306T182500
DTSTAMP:20260420T112101
CREATED:20260217T222455Z
LAST-MODIFIED:20260219T214420Z
UID:10000994-1772818200-1772821500@fresnoroguefestival.org
SUMMARY:Spilled Dictators by Andrew Rosdail
DESCRIPTION:In an unspecified totalitarian country\, a man is interrogated because he’s not sad enough about the dictator’s death in this political satire. Playwright Andrew Rosdail wrote his original draft of the play in 2012 after the death of Kim Jong II\, when there were reports of mourners being punished for insufficient grief at his funeral. Rosdail revised the script in 2017\, a few months after the first inauguration of our current president. \nDirected by Renée Newlove. A talkback follows each performance. \nBuy Tickets
URL:https://fresnoroguefestival.org/performance/spilled-dictators-by-andrew-rosdail/2026-03-06/
LOCATION:Grove at Veni’s\, 1118 N Fulton Ave\, Fresno\, Ca\, 93728
CATEGORIES:Theater
ATTACH;FMTTYPE=image/jpeg:https://fresnoroguefestival.org/wp-content/uploads/2026/02/UR-Here-Spilled-Dicatators-scaled.jpg
GEO:36.7570365;-119.800073
X-APPLE-STRUCTURED-LOCATION;VALUE=URI;X-ADDRESS=Grove at Veni’s 1118 N Fulton Ave Fresno Ca 93728;X-APPLE-RADIUS=500;X-TITLE=1118 N Fulton Ave:geo:-119.800073,36.7570365
END:VEVENT
BEGIN:VEVENT
DTSTART;TZID=America/Los_Angeles:20260228T130000
DTEND;TZID=America/Los_Angeles:20260228T135500
DTSTAMP:20260420T112101
CREATED:20260217T222455Z
LAST-MODIFIED:20260219T214420Z
UID:10000993-1772283600-1772286900@fresnoroguefestival.org
SUMMARY:Spilled Dictators by Andrew Rosdail
DESCRIPTION:In an unspecified totalitarian country\, a man is interrogated because he’s not sad enough about the dictator’s death in this political satire. Playwright Andrew Rosdail wrote his original draft of the play in 2012 after the death of Kim Jong II\, when there were reports of mourners being punished for insufficient grief at his funeral. Rosdail revised the script in 2017\, a few months after the first inauguration of our current president. \nDirected by Renée Newlove. A talkback follows each performance. \nBuy Tickets
URL:https://fresnoroguefestival.org/performance/spilled-dictators-by-andrew-rosdail/2026-02-28/
LOCATION:Grove at Veni’s\, 1118 N Fulton Ave\, Fresno\, Ca\, 93728
CATEGORIES:Theater
ATTACH;FMTTYPE=image/jpeg:https://fresnoroguefestival.org/wp-content/uploads/2026/02/UR-Here-Spilled-Dicatators-scaled.jpg
GEO:36.7570365;-119.800073
X-APPLE-STRUCTURED-LOCATION;VALUE=URI;X-ADDRESS=Grove at Veni’s 1118 N Fulton Ave Fresno Ca 93728;X-APPLE-RADIUS=500;X-TITLE=1118 N Fulton Ave:geo:-119.800073,36.7570365
END:VEVENT
BEGIN:VEVENT
DTSTART;TZID=America/Los_Angeles:20260227T203000
DTEND;TZID=America/Los_Angeles:20260227T212500
DTSTAMP:20260420T112101
CREATED:20260217T222455Z
LAST-MODIFIED:20260219T214420Z
UID:10000992-1772224200-1772227500@fresnoroguefestival.org
SUMMARY:Spilled Dictators by Andrew Rosdail
DESCRIPTION:In an unspecified totalitarian country\, a man is interrogated because he’s not sad enough about the dictator’s death in this political satire. Playwright Andrew Rosdail wrote his original draft of the play in 2012 after the death of Kim Jong II\, when there were reports of mourners being punished for insufficient grief at his funeral. Rosdail revised the script in 2017\, a few months after the first inauguration of our current president. \nDirected by Renée Newlove. A talkback follows each performance. \nBuy Tickets
URL:https://fresnoroguefestival.org/performance/spilled-dictators-by-andrew-rosdail/2026-02-27/
LOCATION:Grove at Veni’s\, 1118 N Fulton Ave\, Fresno\, Ca\, 93728
CATEGORIES:Theater
ATTACH;FMTTYPE=image/jpeg:https://fresnoroguefestival.org/wp-content/uploads/2026/02/UR-Here-Spilled-Dicatators-scaled.jpg
GEO:36.7570365;-119.800073
X-APPLE-STRUCTURED-LOCATION;VALUE=URI;X-ADDRESS=Grove at Veni’s 1118 N Fulton Ave Fresno Ca 93728;X-APPLE-RADIUS=500;X-TITLE=1118 N Fulton Ave:geo:-119.800073,36.7570365
END:VEVENT
END:VCALENDAR