BEGIN:VCALENDAR
VERSION:2.0
PRODID:-//Rogue Festival - ECPv6.15.20//NONSGML v1.0//EN
CALSCALE:GREGORIAN
METHOD:PUBLISH
X-WR-CALNAME:Rogue Festival
X-ORIGINAL-URL:https://fresnoroguefestival.org
X-WR-CALDESC:Events for Rogue Festival
REFRESH-INTERVAL;VALUE=DURATION:PT1H
X-Robots-Tag:noindex
X-PUBLISHED-TTL:PT1H
BEGIN:VTIMEZONE
TZID:America/Los_Angeles
BEGIN:DAYLIGHT
TZOFFSETFROM:-0800
TZOFFSETTO:-0700
TZNAME:PDT
DTSTART:20250309T100000
END:DAYLIGHT
BEGIN:STANDARD
TZOFFSETFROM:-0700
TZOFFSETTO:-0800
TZNAME:PST
DTSTART:20251102T090000
END:STANDARD
BEGIN:DAYLIGHT
TZOFFSETFROM:-0800
TZOFFSETTO:-0700
TZNAME:PDT
DTSTART:20260308T100000
END:DAYLIGHT
BEGIN:STANDARD
TZOFFSETFROM:-0700
TZOFFSETTO:-0800
TZNAME:PST
DTSTART:20261101T090000
END:STANDARD
BEGIN:DAYLIGHT
TZOFFSETFROM:-0800
TZOFFSETTO:-0700
TZNAME:PDT
DTSTART:20270314T100000
END:DAYLIGHT
BEGIN:STANDARD
TZOFFSETFROM:-0700
TZOFFSETTO:-0800
TZNAME:PST
DTSTART:20271107T090000
END:STANDARD
END:VTIMEZONE
BEGIN:VEVENT
DTSTART;TZID=America/Los_Angeles:20260307T200000
DTEND;TZID=America/Los_Angeles:20260307T210000
DTSTAMP:20260420T121437
CREATED:20260211T004111Z
LAST-MODIFIED:20260218T025227Z
UID:10000920-1772913600-1772917200@fresnoroguefestival.org
SUMMARY:What You Lifted
DESCRIPTION:From Bentley’s hyped up Spotify Artist Page: \nScott Bentley is a singer-songwriter based in California’s Central San Joaquin Valley. Crafting songs of expressive lyricism and beguiling soundscapes\, Bentley blends retro Americana with his modern take on a songwriter’s proposition. His vocal tones and phrasing deliver immense tenderness and vulnerability and has garnered much attention and praise. Rodie Music boldly state “his star promises to captivate listeners with his authenticity and ability to convey emotion through music”. Since arriving on the scene in 2024 with his impressive debut single “Maggie”\, produced by the renowned David Kirshenbaum (Tracey Chapman\, Bryan Adams\, Duran Duran)\, Bentley has graced us with a collection of tracks of exquisite melancholy wrapped in musical charm. He released a series of singles throughout 2024 and 2025 all of which have been featured extensively across numerous Spotify playlists. Bentley sounds like an artist of creative wisdom in full flow. His songs are a reflection of his life experiences and his continued exploration of what makes us tick as human beings. He is currently writing and recording new tracks which are scheduled for release throughout 2026. \nBuy Tickets
URL:https://fresnoroguefestival.org/performance/what-you-lifted/2026-03-07/
LOCATION:The Lotus Room\, 626 E Olive Ave\, Fresno\, CA\, 93728\, United States
CATEGORIES:Music
ATTACH;FMTTYPE=image/jpeg:https://fresnoroguefestival.org/wp-content/uploads/2026/02/Scott-Bentley-What-You-Lifted-1.jpg
GEO:36.7574092;-119.8035859
X-APPLE-STRUCTURED-LOCATION;VALUE=URI;X-ADDRESS=The Lotus Room 626 E Olive Ave Fresno CA 93728 United States;X-APPLE-RADIUS=500;X-TITLE=626 E Olive Ave:geo:-119.8035859,36.7574092
END:VEVENT
BEGIN:VEVENT
DTSTART;TZID=America/Los_Angeles:20260306T173000
DTEND;TZID=America/Los_Angeles:20260306T183000
DTSTAMP:20260420T121437
CREATED:20260211T004111Z
LAST-MODIFIED:20260218T025227Z
UID:10000919-1772818200-1772821800@fresnoroguefestival.org
SUMMARY:What You Lifted
DESCRIPTION:From Bentley’s hyped up Spotify Artist Page: \nScott Bentley is a singer-songwriter based in California’s Central San Joaquin Valley. Crafting songs of expressive lyricism and beguiling soundscapes\, Bentley blends retro Americana with his modern take on a songwriter’s proposition. His vocal tones and phrasing deliver immense tenderness and vulnerability and has garnered much attention and praise. Rodie Music boldly state “his star promises to captivate listeners with his authenticity and ability to convey emotion through music”. Since arriving on the scene in 2024 with his impressive debut single “Maggie”\, produced by the renowned David Kirshenbaum (Tracey Chapman\, Bryan Adams\, Duran Duran)\, Bentley has graced us with a collection of tracks of exquisite melancholy wrapped in musical charm. He released a series of singles throughout 2024 and 2025 all of which have been featured extensively across numerous Spotify playlists. Bentley sounds like an artist of creative wisdom in full flow. His songs are a reflection of his life experiences and his continued exploration of what makes us tick as human beings. He is currently writing and recording new tracks which are scheduled for release throughout 2026. \nBuy Tickets
URL:https://fresnoroguefestival.org/performance/what-you-lifted/2026-03-06/
LOCATION:The Lotus Room\, 626 E Olive Ave\, Fresno\, CA\, 93728\, United States
CATEGORIES:Music
ATTACH;FMTTYPE=image/jpeg:https://fresnoroguefestival.org/wp-content/uploads/2026/02/Scott-Bentley-What-You-Lifted-1.jpg
GEO:36.7574092;-119.8035859
X-APPLE-STRUCTURED-LOCATION;VALUE=URI;X-ADDRESS=The Lotus Room 626 E Olive Ave Fresno CA 93728 United States;X-APPLE-RADIUS=500;X-TITLE=626 E Olive Ave:geo:-119.8035859,36.7574092
END:VEVENT
BEGIN:VEVENT
DTSTART;TZID=America/Los_Angeles:20260305T190000
DTEND;TZID=America/Los_Angeles:20260305T200000
DTSTAMP:20260420T121437
CREATED:20260211T004111Z
LAST-MODIFIED:20260218T025227Z
UID:10000918-1772737200-1772740800@fresnoroguefestival.org
SUMMARY:What You Lifted
DESCRIPTION:From Bentley’s hyped up Spotify Artist Page: \nScott Bentley is a singer-songwriter based in California’s Central San Joaquin Valley. Crafting songs of expressive lyricism and beguiling soundscapes\, Bentley blends retro Americana with his modern take on a songwriter’s proposition. His vocal tones and phrasing deliver immense tenderness and vulnerability and has garnered much attention and praise. Rodie Music boldly state “his star promises to captivate listeners with his authenticity and ability to convey emotion through music”. Since arriving on the scene in 2024 with his impressive debut single “Maggie”\, produced by the renowned David Kirshenbaum (Tracey Chapman\, Bryan Adams\, Duran Duran)\, Bentley has graced us with a collection of tracks of exquisite melancholy wrapped in musical charm. He released a series of singles throughout 2024 and 2025 all of which have been featured extensively across numerous Spotify playlists. Bentley sounds like an artist of creative wisdom in full flow. His songs are a reflection of his life experiences and his continued exploration of what makes us tick as human beings. He is currently writing and recording new tracks which are scheduled for release throughout 2026. \nBuy Tickets
URL:https://fresnoroguefestival.org/performance/what-you-lifted/2026-03-05/
LOCATION:The Lotus Room\, 626 E Olive Ave\, Fresno\, CA\, 93728\, United States
CATEGORIES:Music
ATTACH;FMTTYPE=image/jpeg:https://fresnoroguefestival.org/wp-content/uploads/2026/02/Scott-Bentley-What-You-Lifted-1.jpg
GEO:36.7574092;-119.8035859
X-APPLE-STRUCTURED-LOCATION;VALUE=URI;X-ADDRESS=The Lotus Room 626 E Olive Ave Fresno CA 93728 United States;X-APPLE-RADIUS=500;X-TITLE=626 E Olive Ave:geo:-119.8035859,36.7574092
END:VEVENT
BEGIN:VEVENT
DTSTART;TZID=America/Los_Angeles:20260301T183000
DTEND;TZID=America/Los_Angeles:20260301T193000
DTSTAMP:20260420T121437
CREATED:20260211T004111Z
LAST-MODIFIED:20260218T025227Z
UID:10000917-1772389800-1772393400@fresnoroguefestival.org
SUMMARY:What You Lifted
DESCRIPTION:From Bentley’s hyped up Spotify Artist Page: \nScott Bentley is a singer-songwriter based in California’s Central San Joaquin Valley. Crafting songs of expressive lyricism and beguiling soundscapes\, Bentley blends retro Americana with his modern take on a songwriter’s proposition. His vocal tones and phrasing deliver immense tenderness and vulnerability and has garnered much attention and praise. Rodie Music boldly state “his star promises to captivate listeners with his authenticity and ability to convey emotion through music”. Since arriving on the scene in 2024 with his impressive debut single “Maggie”\, produced by the renowned David Kirshenbaum (Tracey Chapman\, Bryan Adams\, Duran Duran)\, Bentley has graced us with a collection of tracks of exquisite melancholy wrapped in musical charm. He released a series of singles throughout 2024 and 2025 all of which have been featured extensively across numerous Spotify playlists. Bentley sounds like an artist of creative wisdom in full flow. His songs are a reflection of his life experiences and his continued exploration of what makes us tick as human beings. He is currently writing and recording new tracks which are scheduled for release throughout 2026. \nBuy Tickets
URL:https://fresnoroguefestival.org/performance/what-you-lifted/2026-03-01/
LOCATION:The Lotus Room\, 626 E Olive Ave\, Fresno\, CA\, 93728\, United States
CATEGORIES:Music
ATTACH;FMTTYPE=image/jpeg:https://fresnoroguefestival.org/wp-content/uploads/2026/02/Scott-Bentley-What-You-Lifted-1.jpg
GEO:36.7574092;-119.8035859
X-APPLE-STRUCTURED-LOCATION;VALUE=URI;X-ADDRESS=The Lotus Room 626 E Olive Ave Fresno CA 93728 United States;X-APPLE-RADIUS=500;X-TITLE=626 E Olive Ave:geo:-119.8035859,36.7574092
END:VEVENT
BEGIN:VEVENT
DTSTART;TZID=America/Los_Angeles:20260228T170000
DTEND;TZID=America/Los_Angeles:20260228T180000
DTSTAMP:20260420T121437
CREATED:20260211T004111Z
LAST-MODIFIED:20260218T025227Z
UID:10000916-1772298000-1772301600@fresnoroguefestival.org
SUMMARY:What You Lifted
DESCRIPTION:From Bentley’s hyped up Spotify Artist Page: \nScott Bentley is a singer-songwriter based in California’s Central San Joaquin Valley. Crafting songs of expressive lyricism and beguiling soundscapes\, Bentley blends retro Americana with his modern take on a songwriter’s proposition. His vocal tones and phrasing deliver immense tenderness and vulnerability and has garnered much attention and praise. Rodie Music boldly state “his star promises to captivate listeners with his authenticity and ability to convey emotion through music”. Since arriving on the scene in 2024 with his impressive debut single “Maggie”\, produced by the renowned David Kirshenbaum (Tracey Chapman\, Bryan Adams\, Duran Duran)\, Bentley has graced us with a collection of tracks of exquisite melancholy wrapped in musical charm. He released a series of singles throughout 2024 and 2025 all of which have been featured extensively across numerous Spotify playlists. Bentley sounds like an artist of creative wisdom in full flow. His songs are a reflection of his life experiences and his continued exploration of what makes us tick as human beings. He is currently writing and recording new tracks which are scheduled for release throughout 2026. \nBuy Tickets
URL:https://fresnoroguefestival.org/performance/what-you-lifted/2026-02-28/
LOCATION:The Lotus Room\, 626 E Olive Ave\, Fresno\, CA\, 93728\, United States
CATEGORIES:Music
ATTACH;FMTTYPE=image/jpeg:https://fresnoroguefestival.org/wp-content/uploads/2026/02/Scott-Bentley-What-You-Lifted-1.jpg
GEO:36.7574092;-119.8035859
X-APPLE-STRUCTURED-LOCATION;VALUE=URI;X-ADDRESS=The Lotus Room 626 E Olive Ave Fresno CA 93728 United States;X-APPLE-RADIUS=500;X-TITLE=626 E Olive Ave:geo:-119.8035859,36.7574092
END:VEVENT
END:VCALENDAR