BEGIN:VCALENDAR
VERSION:2.0
PRODID:-//Rogue Festival - ECPv6.15.20//NONSGML v1.0//EN
CALSCALE:GREGORIAN
METHOD:PUBLISH
X-WR-CALNAME:Rogue Festival
X-ORIGINAL-URL:https://fresnoroguefestival.org
X-WR-CALDESC:Events for Rogue Festival
REFRESH-INTERVAL;VALUE=DURATION:PT1H
X-Robots-Tag:noindex
X-PUBLISHED-TTL:PT1H
BEGIN:VTIMEZONE
TZID:America/Los_Angeles
BEGIN:DAYLIGHT
TZOFFSETFROM:-0800
TZOFFSETTO:-0700
TZNAME:PDT
DTSTART:20250309T100000
END:DAYLIGHT
BEGIN:STANDARD
TZOFFSETFROM:-0700
TZOFFSETTO:-0800
TZNAME:PST
DTSTART:20251102T090000
END:STANDARD
BEGIN:DAYLIGHT
TZOFFSETFROM:-0800
TZOFFSETTO:-0700
TZNAME:PDT
DTSTART:20260308T100000
END:DAYLIGHT
BEGIN:STANDARD
TZOFFSETFROM:-0700
TZOFFSETTO:-0800
TZNAME:PST
DTSTART:20261101T090000
END:STANDARD
BEGIN:DAYLIGHT
TZOFFSETFROM:-0800
TZOFFSETTO:-0700
TZNAME:PDT
DTSTART:20270314T100000
END:DAYLIGHT
BEGIN:STANDARD
TZOFFSETFROM:-0700
TZOFFSETTO:-0800
TZNAME:PST
DTSTART:20271107T090000
END:STANDARD
END:VTIMEZONE
BEGIN:VEVENT
DTSTART;TZID=America/Los_Angeles:20260307T170000
DTEND;TZID=America/Los_Angeles:20260307T180000
DTSTAMP:20260420T095552
CREATED:20260210T225208Z
LAST-MODIFIED:20260218T004300Z
UID:10000860-1772902800-1772906400@fresnoroguefestival.org
SUMMARY:Bloody Fairytales: Paul Strickland
DESCRIPTION:Bloody Fairytales is a performance of gorgeous\, gruesome old stories told new… dark fairytales re-upholstered for adult ears and late-night imaginations.\nTold live by International Storytelling Center Teller-in-Residence and National Storytelling Festival Featured Teller Paul Strickland\, these are the stories that are strange\, darkly funny\, unsettling\, and occasionally feral. Chock full of bad decisions\, sharp turns\, and endings that will stay with you long after you leave the venue.\nStrickland has been called a “Master Storyteller” by the Cincinnati Enquirer and described as “Mark Twain on acid” by Artistry Magazine. A more-than-20-time Best-of-Fest winner\, he’s performed at major festivals and venues across the U.S.\, blending folklore\, dark humor\, and razor-sharp timing into performances that feel intimate\, dangerous\, and wildly entertaining.\nBloody Fairytales leans into the shadows of classic tales… the blood\, the longing\, the bargains that go wrong… but lets them breathe again in front of a grown-up audience\, and find new life a time when Unhinged and Unapologetic surrealistic stories ring\, possibly\, truer than ever. \nBuy Tickets
URL:https://fresnoroguefestival.org/performance/bloody-fairytales-paul-strickland/2026-03-07/2/
LOCATION:Dianna’s Studio of Dance\, 826 N Fulton St\, Fresno\, CA\, 93728\, United States
CATEGORIES:Storytelling
ATTACH;FMTTYPE=image/jpeg:https://fresnoroguefestival.org/wp-content/uploads/2026/02/Paul-Strickland-Bloody-Fairytales.jpg
GEO:36.7532091;-119.8000957
X-APPLE-STRUCTURED-LOCATION;VALUE=URI;X-ADDRESS=Dianna’s Studio of Dance 826 N Fulton St Fresno CA 93728 United States;X-APPLE-RADIUS=500;X-TITLE=826 N Fulton St:geo:-119.8000957,36.7532091
END:VEVENT
BEGIN:VEVENT
DTSTART;TZID=America/Los_Angeles:20260307T123000
DTEND;TZID=America/Los_Angeles:20260307T133000
DTSTAMP:20260420T095552
CREATED:20260210T225208Z
LAST-MODIFIED:20260218T004300Z
UID:10000859-1772886600-1772890200@fresnoroguefestival.org
SUMMARY:Bloody Fairytales: Paul Strickland
DESCRIPTION:Bloody Fairytales is a performance of gorgeous\, gruesome old stories told new… dark fairytales re-upholstered for adult ears and late-night imaginations.\nTold live by International Storytelling Center Teller-in-Residence and National Storytelling Festival Featured Teller Paul Strickland\, these are the stories that are strange\, darkly funny\, unsettling\, and occasionally feral. Chock full of bad decisions\, sharp turns\, and endings that will stay with you long after you leave the venue.\nStrickland has been called a “Master Storyteller” by the Cincinnati Enquirer and described as “Mark Twain on acid” by Artistry Magazine. A more-than-20-time Best-of-Fest winner\, he’s performed at major festivals and venues across the U.S.\, blending folklore\, dark humor\, and razor-sharp timing into performances that feel intimate\, dangerous\, and wildly entertaining.\nBloody Fairytales leans into the shadows of classic tales… the blood\, the longing\, the bargains that go wrong… but lets them breathe again in front of a grown-up audience\, and find new life a time when Unhinged and Unapologetic surrealistic stories ring\, possibly\, truer than ever. \nBuy Tickets
URL:https://fresnoroguefestival.org/performance/bloody-fairytales-paul-strickland/2026-03-07/1/
LOCATION:Dianna’s Studio of Dance\, 826 N Fulton St\, Fresno\, CA\, 93728\, United States
CATEGORIES:Storytelling
ATTACH;FMTTYPE=image/jpeg:https://fresnoroguefestival.org/wp-content/uploads/2026/02/Paul-Strickland-Bloody-Fairytales.jpg
GEO:36.7532091;-119.8000957
X-APPLE-STRUCTURED-LOCATION;VALUE=URI;X-ADDRESS=Dianna’s Studio of Dance 826 N Fulton St Fresno CA 93728 United States;X-APPLE-RADIUS=500;X-TITLE=826 N Fulton St:geo:-119.8000957,36.7532091
END:VEVENT
BEGIN:VEVENT
DTSTART;TZID=America/Los_Angeles:20260306T190000
DTEND;TZID=America/Los_Angeles:20260306T200000
DTSTAMP:20260420T095552
CREATED:20260210T225208Z
LAST-MODIFIED:20260218T004300Z
UID:10000858-1772823600-1772827200@fresnoroguefestival.org
SUMMARY:Bloody Fairytales: Paul Strickland
DESCRIPTION:Bloody Fairytales is a performance of gorgeous\, gruesome old stories told new… dark fairytales re-upholstered for adult ears and late-night imaginations.\nTold live by International Storytelling Center Teller-in-Residence and National Storytelling Festival Featured Teller Paul Strickland\, these are the stories that are strange\, darkly funny\, unsettling\, and occasionally feral. Chock full of bad decisions\, sharp turns\, and endings that will stay with you long after you leave the venue.\nStrickland has been called a “Master Storyteller” by the Cincinnati Enquirer and described as “Mark Twain on acid” by Artistry Magazine. A more-than-20-time Best-of-Fest winner\, he’s performed at major festivals and venues across the U.S.\, blending folklore\, dark humor\, and razor-sharp timing into performances that feel intimate\, dangerous\, and wildly entertaining.\nBloody Fairytales leans into the shadows of classic tales… the blood\, the longing\, the bargains that go wrong… but lets them breathe again in front of a grown-up audience\, and find new life a time when Unhinged and Unapologetic surrealistic stories ring\, possibly\, truer than ever. \nBuy Tickets
URL:https://fresnoroguefestival.org/performance/bloody-fairytales-paul-strickland/2026-03-06/
LOCATION:Dianna’s Studio of Dance\, 826 N Fulton St\, Fresno\, CA\, 93728\, United States
CATEGORIES:Storytelling
ATTACH;FMTTYPE=image/jpeg:https://fresnoroguefestival.org/wp-content/uploads/2026/02/Paul-Strickland-Bloody-Fairytales.jpg
GEO:36.7532091;-119.8000957
X-APPLE-STRUCTURED-LOCATION;VALUE=URI;X-ADDRESS=Dianna’s Studio of Dance 826 N Fulton St Fresno CA 93728 United States;X-APPLE-RADIUS=500;X-TITLE=826 N Fulton St:geo:-119.8000957,36.7532091
END:VEVENT
END:VCALENDAR