BEGIN:VCALENDAR
VERSION:2.0
PRODID:-//Rogue Festival - ECPv6.15.20//NONSGML v1.0//EN
CALSCALE:GREGORIAN
METHOD:PUBLISH
X-WR-CALNAME:Rogue Festival
X-ORIGINAL-URL:https://fresnoroguefestival.org
X-WR-CALDESC:Events for Rogue Festival
REFRESH-INTERVAL;VALUE=DURATION:PT1H
X-Robots-Tag:noindex
X-PUBLISHED-TTL:PT1H
BEGIN:VTIMEZONE
TZID:America/Los_Angeles
BEGIN:DAYLIGHT
TZOFFSETFROM:-0800
TZOFFSETTO:-0700
TZNAME:PDT
DTSTART:20250309T100000
END:DAYLIGHT
BEGIN:STANDARD
TZOFFSETFROM:-0700
TZOFFSETTO:-0800
TZNAME:PST
DTSTART:20251102T090000
END:STANDARD
BEGIN:DAYLIGHT
TZOFFSETFROM:-0800
TZOFFSETTO:-0700
TZNAME:PDT
DTSTART:20260308T100000
END:DAYLIGHT
BEGIN:STANDARD
TZOFFSETFROM:-0700
TZOFFSETTO:-0800
TZNAME:PST
DTSTART:20261101T090000
END:STANDARD
BEGIN:DAYLIGHT
TZOFFSETFROM:-0800
TZOFFSETTO:-0700
TZNAME:PDT
DTSTART:20270314T100000
END:DAYLIGHT
BEGIN:STANDARD
TZOFFSETFROM:-0700
TZOFFSETTO:-0800
TZNAME:PST
DTSTART:20271107T090000
END:STANDARD
END:VTIMEZONE
BEGIN:VEVENT
DTSTART;TZID=America/Los_Angeles:20260307T140000
DTEND;TZID=America/Los_Angeles:20260307T150000
DTSTAMP:20260420T111956
CREATED:20260211T001123Z
LAST-MODIFIED:20260218T011055Z
UID:10000890-1772892000-1772895600@fresnoroguefestival.org
SUMMARY:The Stakeout
DESCRIPTION:Martin Dockery’s hit Off-Broadway play about two FBI agents on a stakeout of two agents on a stakeout of them. Funny. Heartbreaking. A unique theatrical experience about fathers & sons. \nMost recent Rogue shows: 1 Small Lie\, TRUTH\, Every Good Story Ends With One.\nCurrent Rogue shows: The Review\, Wanderlust \n“5 STARS: A contender for best show at the festival. It’s comedy & drama\, magic & wonder in one of the best performances of the year.” -Edmonton Journal.\n“A fringe Best Bet… Biting humour and remarkably poignant.” -Calgary Herald.\n“4.5 STARS: Intense & complex. This dramedy came out swinging with tension\, humor\, and empathy. A phenomenal story told with impeccable cadence.” -Winnipeg Free Press.\n“HIGHLY RECOMMENDED: A heady mix of comedy and poignancy.” -Orlando Sentinel\n“A masterclass that keeps us buckled in and eager to ride along.” -Intermission Magazine\, Ottawa\n“Whip-smart… an exciting theatrical experience.” -Apt613\, Ottawa.\n“Dockery’s script is out­stand­ing… Enter­tain­ing\, fun­ny and poignant.” –UMFM\, Winnipeg.\n“Sizzlingly funny & searingly poignant… You’ll leave comedically and dramatically satisfied.” -Utah Theatre Bloggers Assc.\nBest Original Script: Orlando Fringe\nPatron’s Pick Award: Orlando Fringe\nBest of Fest: Ottawa Fringe.\nSelected for Fringe Encore Series: The SoHo Playhouse in NYC\nPlaywright Martin Dockery has won over 70 festival awards over his 18 years of touring. \nBuy Tickets
URL:https://fresnoroguefestival.org/performance/the-stakeout/2026-03-07/
LOCATION:Dianna’s Studio of Dance\, 826 N Fulton St\, Fresno\, CA\, 93728\, United States
CATEGORIES:Theater
ATTACH;FMTTYPE=image/jpeg:https://fresnoroguefestival.org/wp-content/uploads/2026/02/Martin-Dockery-The-Stakeout.jpg
GEO:36.7532091;-119.8000957
X-APPLE-STRUCTURED-LOCATION;VALUE=URI;X-ADDRESS=Dianna’s Studio of Dance 826 N Fulton St Fresno CA 93728 United States;X-APPLE-RADIUS=500;X-TITLE=826 N Fulton St:geo:-119.8000957,36.7532091
END:VEVENT
BEGIN:VEVENT
DTSTART;TZID=America/Los_Angeles:20260305T190000
DTEND;TZID=America/Los_Angeles:20260305T200000
DTSTAMP:20260420T111956
CREATED:20260211T011627Z
LAST-MODIFIED:20260218T032908Z
UID:10000940-1772737200-1772740800@fresnoroguefestival.org
SUMMARY:Martin Dockery: Wanderlust
DESCRIPTION:In this multi-award-winning\, true odyssey\, Dockery treks from a dead-end job in New York to a dead-end road in Timbuktu\, on an ever-more-desperate search for meaning. Negotiating the giddiness\, terror\, & absurdities in travel & love\, he’s searching for an Epiphany. Any Epiphany at all. After 16 years\, Martin Dockery brings his wildly hilarious & true existential storytelling adventure back to Rogue. \nMost recent Rogue shows: 1 Small Lie\, TRUTH\, Every Good Story Ends With One.\nCurrent shows: The Review\, The Stakeout \nBest-of-Fest: Adelaide\, Vancouver\, London\, Winnipeg\, Edmonton\, Ottawa\, & Orlando. \n“Made the audience roar with laughter… Beautifully polished.” –Pioneer Press\, Minneapolis\, MN\n“Tightly structured\, professional\, and well-practiced in its madcap zaniness.” –Minneapolis City Pages\, Minneapolis\, MN\n“Hang on tight and enjoy the ride!” –Twin Cities Daily Planet\, Minneapolis\, MN\n“4 STARS: A masterful story teller.” –The Herald Sun\, Melbourne\, Australia\n“5 STARS: An exhilarating\, whirlwind hour with a performance to behold.” –Love Fringe\, Edinburgh\, Scotland\n“4 STARS: A wild & exciting journey.” –The Quotidian Times\, Edinburgh\, Scotland\n“4 STARS: His natural\, open enthusiasm enthralls.” –One4Review\, Edinburgh\, Scotland\n“A one man storytelling tornado.” –The Stage\, Edinburgh\, Scotland\n“Explodes with energy.” –Three Weeks\, Edinburgh\, Scotland\n“A super-rapid fire solo performer… Thoroughly exhilarating.” –Metro\, Ottawa\n“Rivetingly hilarious… Mind-blowing… You will kick yourself hard for missing this.” –Fully Fringed\, Ottawa\n“A firebrand performer who mixes physicality with a sparkling sense of narrative.” –The Ottawa Citizen\n“Uncanny!” –The Capital Critics Circle\, Ottawa\n“4.5 STARS: A psychological journey that had some literally on the edge of their seats.” –The Advertiser\, Adelaide\, Australia\n“4.5 STARS: Storytelling at its best.” –Adelaide Theatre Guide\, Australia\n“A masterful storytelling odyssey.” –Rip It Up Magazine (The Fix)\, Adelaide\, Australia\n“A must-see!” –The Vancouver Sun\n“A must-see!” –The Georgia Straight\, Vancouver\n“Captivates the audience’s attention… A fast-paced show that is both interesting and funny\, this show is worth checking out.” -UMFM 101.5\, Winnipeg\n“A dynamic\, fast-paced\, quirky\, and hilarious odyssey.” –Plank Magazine\, Vancouver\n“5 STARS: Wanderlust never ceases to entertain or to amaze.” –Monday Mag\, Victoria\n“5 STARS: Reflective\, analytic\, self-deprecating and hilarious.” –Edmonton Sun\n“5 STARS: You can virtually feel the crazy momentum of it blowing through your hair.” –Edmonton Journal\n“4.5 STARS: Brilliant… relatable… humbling.” –See Magazine\, Edmonton\n“These aren’t just travel tales\, his stories have a transcendent quality to them… There is a thoughtful\, evocative bent to them [that] celebrate the wonder of it all.” -Community News Commons\, Winnipeg\n“4 STARS: A tremendous feat from a consummate entertainer.” –Vue Weekly\, Edmonton\n“5 STARS: Dockery is OMFG funny. The show is incredible.” –Star Phoenix\, Saskatoon\n“4 STARS: A wonderful storyteller.” –Planet S Magazine\, Saskatoon\n“Laugh out loud… Moments of complete vulnerability are offered with unabashed humor.” –Charleston City Paper\, Charleston\, SC\n“The #1 thing to do in Toronto.” -Eyeweekly.com\, July 6\n“5 STARS: You’re not likely to find many storytellers better than Martin Dockery… Could probably make a grocery list sound fascinating.” -The CBC (Canadian Broadcasting Corp)\n“5 STARS: An astounding feat of storytelling… blisteringly funny… Very close to perfect.” -Toronto Eye Weekly\n“4 STARS: Fluid and fast-paced… vivid and warmly funny.” -Winnipeg Free Press\n“4.5 STARS: A born storyteller whose evocative language had the audience completely enthralled… Exceptional comic timing and delivery.” -The Winnipeg Sun\n“4.5 STARS: A geyser of poetic insights and comic zingers.” -Uptown Magazine\, Winnipeg\n“4 STARS: Invigorating… I am mesmerized.” -London Free Press\n“A tour de force. Dockery is the real deal\, and Wanderlust is magical.” -Orlando Sentinel\n“Spectacularly good… Absolutely unforgettable.” -nytheatre.com \nBuy Tickets
URL:https://fresnoroguefestival.org/performance/martin-dockery-wanderlust/2026-03-05/
LOCATION:Veni Vidi Vici\, 1116 N Fulton St\, Fresno\, CA\, 95389\, United States
CATEGORIES:Storytelling
ATTACH;FMTTYPE=image/jpeg:https://fresnoroguefestival.org/wp-content/uploads/2026/02/Martin-Dockery-Wanderlust.jpg
GEO:36.7570365;-119.800073
X-APPLE-STRUCTURED-LOCATION;VALUE=URI;X-ADDRESS=Veni Vidi Vici 1116 N Fulton St Fresno CA 95389 United States;X-APPLE-RADIUS=500;X-TITLE=1116 N Fulton St:geo:-119.800073,36.7570365
END:VEVENT
BEGIN:VEVENT
DTSTART;TZID=America/Los_Angeles:20260301T200000
DTEND;TZID=America/Los_Angeles:20260301T210000
DTSTAMP:20260420T111956
CREATED:20260211T011627Z
LAST-MODIFIED:20260218T032908Z
UID:10000939-1772395200-1772398800@fresnoroguefestival.org
SUMMARY:Martin Dockery: Wanderlust
DESCRIPTION:In this multi-award-winning\, true odyssey\, Dockery treks from a dead-end job in New York to a dead-end road in Timbuktu\, on an ever-more-desperate search for meaning. Negotiating the giddiness\, terror\, & absurdities in travel & love\, he’s searching for an Epiphany. Any Epiphany at all. After 16 years\, Martin Dockery brings his wildly hilarious & true existential storytelling adventure back to Rogue. \nMost recent Rogue shows: 1 Small Lie\, TRUTH\, Every Good Story Ends With One.\nCurrent shows: The Review\, The Stakeout \nBest-of-Fest: Adelaide\, Vancouver\, London\, Winnipeg\, Edmonton\, Ottawa\, & Orlando. \n“Made the audience roar with laughter… Beautifully polished.” –Pioneer Press\, Minneapolis\, MN\n“Tightly structured\, professional\, and well-practiced in its madcap zaniness.” –Minneapolis City Pages\, Minneapolis\, MN\n“Hang on tight and enjoy the ride!” –Twin Cities Daily Planet\, Minneapolis\, MN\n“4 STARS: A masterful story teller.” –The Herald Sun\, Melbourne\, Australia\n“5 STARS: An exhilarating\, whirlwind hour with a performance to behold.” –Love Fringe\, Edinburgh\, Scotland\n“4 STARS: A wild & exciting journey.” –The Quotidian Times\, Edinburgh\, Scotland\n“4 STARS: His natural\, open enthusiasm enthralls.” –One4Review\, Edinburgh\, Scotland\n“A one man storytelling tornado.” –The Stage\, Edinburgh\, Scotland\n“Explodes with energy.” –Three Weeks\, Edinburgh\, Scotland\n“A super-rapid fire solo performer… Thoroughly exhilarating.” –Metro\, Ottawa\n“Rivetingly hilarious… Mind-blowing… You will kick yourself hard for missing this.” –Fully Fringed\, Ottawa\n“A firebrand performer who mixes physicality with a sparkling sense of narrative.” –The Ottawa Citizen\n“Uncanny!” –The Capital Critics Circle\, Ottawa\n“4.5 STARS: A psychological journey that had some literally on the edge of their seats.” –The Advertiser\, Adelaide\, Australia\n“4.5 STARS: Storytelling at its best.” –Adelaide Theatre Guide\, Australia\n“A masterful storytelling odyssey.” –Rip It Up Magazine (The Fix)\, Adelaide\, Australia\n“A must-see!” –The Vancouver Sun\n“A must-see!” –The Georgia Straight\, Vancouver\n“Captivates the audience’s attention… A fast-paced show that is both interesting and funny\, this show is worth checking out.” -UMFM 101.5\, Winnipeg\n“A dynamic\, fast-paced\, quirky\, and hilarious odyssey.” –Plank Magazine\, Vancouver\n“5 STARS: Wanderlust never ceases to entertain or to amaze.” –Monday Mag\, Victoria\n“5 STARS: Reflective\, analytic\, self-deprecating and hilarious.” –Edmonton Sun\n“5 STARS: You can virtually feel the crazy momentum of it blowing through your hair.” –Edmonton Journal\n“4.5 STARS: Brilliant… relatable… humbling.” –See Magazine\, Edmonton\n“These aren’t just travel tales\, his stories have a transcendent quality to them… There is a thoughtful\, evocative bent to them [that] celebrate the wonder of it all.” -Community News Commons\, Winnipeg\n“4 STARS: A tremendous feat from a consummate entertainer.” –Vue Weekly\, Edmonton\n“5 STARS: Dockery is OMFG funny. The show is incredible.” –Star Phoenix\, Saskatoon\n“4 STARS: A wonderful storyteller.” –Planet S Magazine\, Saskatoon\n“Laugh out loud… Moments of complete vulnerability are offered with unabashed humor.” –Charleston City Paper\, Charleston\, SC\n“The #1 thing to do in Toronto.” -Eyeweekly.com\, July 6\n“5 STARS: You’re not likely to find many storytellers better than Martin Dockery… Could probably make a grocery list sound fascinating.” -The CBC (Canadian Broadcasting Corp)\n“5 STARS: An astounding feat of storytelling… blisteringly funny… Very close to perfect.” -Toronto Eye Weekly\n“4 STARS: Fluid and fast-paced… vivid and warmly funny.” -Winnipeg Free Press\n“4.5 STARS: A born storyteller whose evocative language had the audience completely enthralled… Exceptional comic timing and delivery.” -The Winnipeg Sun\n“4.5 STARS: A geyser of poetic insights and comic zingers.” -Uptown Magazine\, Winnipeg\n“4 STARS: Invigorating… I am mesmerized.” -London Free Press\n“A tour de force. Dockery is the real deal\, and Wanderlust is magical.” -Orlando Sentinel\n“Spectacularly good… Absolutely unforgettable.” -nytheatre.com \nBuy Tickets
URL:https://fresnoroguefestival.org/performance/martin-dockery-wanderlust/2026-03-01/
LOCATION:Veni Vidi Vici\, 1116 N Fulton St\, Fresno\, CA\, 95389\, United States
CATEGORIES:Storytelling
ATTACH;FMTTYPE=image/jpeg:https://fresnoroguefestival.org/wp-content/uploads/2026/02/Martin-Dockery-Wanderlust.jpg
GEO:36.7570365;-119.800073
X-APPLE-STRUCTURED-LOCATION;VALUE=URI;X-ADDRESS=Veni Vidi Vici 1116 N Fulton St Fresno CA 95389 United States;X-APPLE-RADIUS=500;X-TITLE=1116 N Fulton St:geo:-119.800073,36.7570365
END:VEVENT
BEGIN:VEVENT
DTSTART;TZID=America/Los_Angeles:20260301T123000
DTEND;TZID=America/Los_Angeles:20260301T133000
DTSTAMP:20260420T111956
CREATED:20260211T001123Z
LAST-MODIFIED:20260218T011055Z
UID:10000889-1772368200-1772371800@fresnoroguefestival.org
SUMMARY:The Stakeout
DESCRIPTION:Martin Dockery’s hit Off-Broadway play about two FBI agents on a stakeout of two agents on a stakeout of them. Funny. Heartbreaking. A unique theatrical experience about fathers & sons. \nMost recent Rogue shows: 1 Small Lie\, TRUTH\, Every Good Story Ends With One.\nCurrent Rogue shows: The Review\, Wanderlust \n“5 STARS: A contender for best show at the festival. It’s comedy & drama\, magic & wonder in one of the best performances of the year.” -Edmonton Journal.\n“A fringe Best Bet… Biting humour and remarkably poignant.” -Calgary Herald.\n“4.5 STARS: Intense & complex. This dramedy came out swinging with tension\, humor\, and empathy. A phenomenal story told with impeccable cadence.” -Winnipeg Free Press.\n“HIGHLY RECOMMENDED: A heady mix of comedy and poignancy.” -Orlando Sentinel\n“A masterclass that keeps us buckled in and eager to ride along.” -Intermission Magazine\, Ottawa\n“Whip-smart… an exciting theatrical experience.” -Apt613\, Ottawa.\n“Dockery’s script is out­stand­ing… Enter­tain­ing\, fun­ny and poignant.” –UMFM\, Winnipeg.\n“Sizzlingly funny & searingly poignant… You’ll leave comedically and dramatically satisfied.” -Utah Theatre Bloggers Assc.\nBest Original Script: Orlando Fringe\nPatron’s Pick Award: Orlando Fringe\nBest of Fest: Ottawa Fringe.\nSelected for Fringe Encore Series: The SoHo Playhouse in NYC\nPlaywright Martin Dockery has won over 70 festival awards over his 18 years of touring. \nBuy Tickets
URL:https://fresnoroguefestival.org/performance/the-stakeout/2026-03-01/
LOCATION:Dianna’s Studio of Dance\, 826 N Fulton St\, Fresno\, CA\, 93728\, United States
CATEGORIES:Theater
ATTACH;FMTTYPE=image/jpeg:https://fresnoroguefestival.org/wp-content/uploads/2026/02/Martin-Dockery-The-Stakeout.jpg
GEO:36.7532091;-119.8000957
X-APPLE-STRUCTURED-LOCATION;VALUE=URI;X-ADDRESS=Dianna’s Studio of Dance 826 N Fulton St Fresno CA 93728 United States;X-APPLE-RADIUS=500;X-TITLE=826 N Fulton St:geo:-119.8000957,36.7532091
END:VEVENT
BEGIN:VEVENT
DTSTART;TZID=America/Los_Angeles:20260228T170000
DTEND;TZID=America/Los_Angeles:20260228T180000
DTSTAMP:20260420T111956
CREATED:20260211T001123Z
LAST-MODIFIED:20260218T011055Z
UID:10000888-1772298000-1772301600@fresnoroguefestival.org
SUMMARY:The Stakeout
DESCRIPTION:Martin Dockery’s hit Off-Broadway play about two FBI agents on a stakeout of two agents on a stakeout of them. Funny. Heartbreaking. A unique theatrical experience about fathers & sons. \nMost recent Rogue shows: 1 Small Lie\, TRUTH\, Every Good Story Ends With One.\nCurrent Rogue shows: The Review\, Wanderlust \n“5 STARS: A contender for best show at the festival. It’s comedy & drama\, magic & wonder in one of the best performances of the year.” -Edmonton Journal.\n“A fringe Best Bet… Biting humour and remarkably poignant.” -Calgary Herald.\n“4.5 STARS: Intense & complex. This dramedy came out swinging with tension\, humor\, and empathy. A phenomenal story told with impeccable cadence.” -Winnipeg Free Press.\n“HIGHLY RECOMMENDED: A heady mix of comedy and poignancy.” -Orlando Sentinel\n“A masterclass that keeps us buckled in and eager to ride along.” -Intermission Magazine\, Ottawa\n“Whip-smart… an exciting theatrical experience.” -Apt613\, Ottawa.\n“Dockery’s script is out­stand­ing… Enter­tain­ing\, fun­ny and poignant.” –UMFM\, Winnipeg.\n“Sizzlingly funny & searingly poignant… You’ll leave comedically and dramatically satisfied.” -Utah Theatre Bloggers Assc.\nBest Original Script: Orlando Fringe\nPatron’s Pick Award: Orlando Fringe\nBest of Fest: Ottawa Fringe.\nSelected for Fringe Encore Series: The SoHo Playhouse in NYC\nPlaywright Martin Dockery has won over 70 festival awards over his 18 years of touring. \nBuy Tickets
URL:https://fresnoroguefestival.org/performance/the-stakeout/2026-02-28/
LOCATION:Dianna’s Studio of Dance\, 826 N Fulton St\, Fresno\, CA\, 93728\, United States
CATEGORIES:Theater
ATTACH;FMTTYPE=image/jpeg:https://fresnoroguefestival.org/wp-content/uploads/2026/02/Martin-Dockery-The-Stakeout.jpg
GEO:36.7532091;-119.8000957
X-APPLE-STRUCTURED-LOCATION;VALUE=URI;X-ADDRESS=Dianna’s Studio of Dance 826 N Fulton St Fresno CA 93728 United States;X-APPLE-RADIUS=500;X-TITLE=826 N Fulton St:geo:-119.8000957,36.7532091
END:VEVENT
BEGIN:VEVENT
DTSTART;TZID=America/Los_Angeles:20260227T190000
DTEND;TZID=America/Los_Angeles:20260227T200000
DTSTAMP:20260420T111956
CREATED:20260211T001123Z
LAST-MODIFIED:20260218T011055Z
UID:10000887-1772218800-1772222400@fresnoroguefestival.org
SUMMARY:The Stakeout
DESCRIPTION:Martin Dockery’s hit Off-Broadway play about two FBI agents on a stakeout of two agents on a stakeout of them. Funny. Heartbreaking. A unique theatrical experience about fathers & sons. \nMost recent Rogue shows: 1 Small Lie\, TRUTH\, Every Good Story Ends With One.\nCurrent Rogue shows: The Review\, Wanderlust \n“5 STARS: A contender for best show at the festival. It’s comedy & drama\, magic & wonder in one of the best performances of the year.” -Edmonton Journal.\n“A fringe Best Bet… Biting humour and remarkably poignant.” -Calgary Herald.\n“4.5 STARS: Intense & complex. This dramedy came out swinging with tension\, humor\, and empathy. A phenomenal story told with impeccable cadence.” -Winnipeg Free Press.\n“HIGHLY RECOMMENDED: A heady mix of comedy and poignancy.” -Orlando Sentinel\n“A masterclass that keeps us buckled in and eager to ride along.” -Intermission Magazine\, Ottawa\n“Whip-smart… an exciting theatrical experience.” -Apt613\, Ottawa.\n“Dockery’s script is out­stand­ing… Enter­tain­ing\, fun­ny and poignant.” –UMFM\, Winnipeg.\n“Sizzlingly funny & searingly poignant… You’ll leave comedically and dramatically satisfied.” -Utah Theatre Bloggers Assc.\nBest Original Script: Orlando Fringe\nPatron’s Pick Award: Orlando Fringe\nBest of Fest: Ottawa Fringe.\nSelected for Fringe Encore Series: The SoHo Playhouse in NYC\nPlaywright Martin Dockery has won over 70 festival awards over his 18 years of touring. \nBuy Tickets
URL:https://fresnoroguefestival.org/performance/the-stakeout/2026-02-27/
LOCATION:Dianna’s Studio of Dance\, 826 N Fulton St\, Fresno\, CA\, 93728\, United States
CATEGORIES:Theater
ATTACH;FMTTYPE=image/jpeg:https://fresnoroguefestival.org/wp-content/uploads/2026/02/Martin-Dockery-The-Stakeout.jpg
GEO:36.7532091;-119.8000957
X-APPLE-STRUCTURED-LOCATION;VALUE=URI;X-ADDRESS=Dianna’s Studio of Dance 826 N Fulton St Fresno CA 93728 United States;X-APPLE-RADIUS=500;X-TITLE=826 N Fulton St:geo:-119.8000957,36.7532091
END:VEVENT
END:VCALENDAR