BEGIN:VCALENDAR
VERSION:2.0
PRODID:-//Rogue Festival - ECPv6.15.20//NONSGML v1.0//EN
CALSCALE:GREGORIAN
METHOD:PUBLISH
X-ORIGINAL-URL:https://fresnoroguefestival.org
X-WR-CALDESC:Events for Rogue Festival
REFRESH-INTERVAL;VALUE=DURATION:PT1H
X-Robots-Tag:noindex
X-PUBLISHED-TTL:PT1H
BEGIN:VTIMEZONE
TZID:America/Los_Angeles
BEGIN:DAYLIGHT
TZOFFSETFROM:-0800
TZOFFSETTO:-0700
TZNAME:PDT
DTSTART:20250309T100000
END:DAYLIGHT
BEGIN:STANDARD
TZOFFSETFROM:-0700
TZOFFSETTO:-0800
TZNAME:PST
DTSTART:20251102T090000
END:STANDARD
BEGIN:DAYLIGHT
TZOFFSETFROM:-0800
TZOFFSETTO:-0700
TZNAME:PDT
DTSTART:20260308T100000
END:DAYLIGHT
BEGIN:STANDARD
TZOFFSETFROM:-0700
TZOFFSETTO:-0800
TZNAME:PST
DTSTART:20261101T090000
END:STANDARD
BEGIN:DAYLIGHT
TZOFFSETFROM:-0800
TZOFFSETTO:-0700
TZNAME:PDT
DTSTART:20270314T100000
END:DAYLIGHT
BEGIN:STANDARD
TZOFFSETFROM:-0700
TZOFFSETTO:-0800
TZNAME:PST
DTSTART:20271107T090000
END:STANDARD
END:VTIMEZONE
BEGIN:VEVENT
DTSTART;TZID=America/Los_Angeles:20260307T170000
DTEND;TZID=America/Los_Angeles:20260307T180000
DTSTAMP:20260420T100047
CREATED:20260211T010116Z
LAST-MODIFIED:20260218T031513Z
UID:10000934-1772902800-1772906400@fresnoroguefestival.org
SUMMARY:Jaguar Bennett: Sweetness and Light
DESCRIPTION:COME ON GET HAPPY! Jaguar Bennett\, Fresno’s most reassuring comedian\, is ready to make you laugh and bring joy to your heart! In a world that’s full of suffering\, pain\, injustice\, a MOTHERFUCKING FASCIST MURDERING GOVERNMENT AND COMPLACENT COWARDLY POLITICIANS (sorry\, please ignore that\, I lost my self-control for a second) isn’t it better to avoid unpleasantness and think about happy things? Jaguar’s gentle humor and friendly observations about life’s little absurdities will bring a smile to your face. Take a relaxing hour to forget your troubles and the maniac threatening your life. \n“[Jaguar] is right\, but he’s not funny because he’s so mean about it.” —dissatisfied audience member \nBuy Tickets
URL:https://fresnoroguefestival.org/performance/jaguar-bennett-sweetness-and-light/2026-03-07/
LOCATION:Veni Vidi Vici\, 1116 N Fulton St\, Fresno\, CA\, 95389\, United States
CATEGORIES:Comedy
ATTACH;FMTTYPE=image/jpeg:https://fresnoroguefestival.org/wp-content/uploads/2026/02/Jaguar-Bennett-Sweetness-and-Light.jpg
GEO:36.7570365;-119.800073
X-APPLE-STRUCTURED-LOCATION;VALUE=URI;X-ADDRESS=Veni Vidi Vici 1116 N Fulton St Fresno CA 95389 United States;X-APPLE-RADIUS=500;X-TITLE=1116 N Fulton St:geo:-119.800073,36.7570365
END:VEVENT
BEGIN:VEVENT
DTSTART;TZID=America/Los_Angeles:20260306T190000
DTEND;TZID=America/Los_Angeles:20260306T200000
DTSTAMP:20260420T100047
CREATED:20260211T010116Z
LAST-MODIFIED:20260218T031513Z
UID:10000933-1772823600-1772827200@fresnoroguefestival.org
SUMMARY:Jaguar Bennett: Sweetness and Light
DESCRIPTION:COME ON GET HAPPY! Jaguar Bennett\, Fresno’s most reassuring comedian\, is ready to make you laugh and bring joy to your heart! In a world that’s full of suffering\, pain\, injustice\, a MOTHERFUCKING FASCIST MURDERING GOVERNMENT AND COMPLACENT COWARDLY POLITICIANS (sorry\, please ignore that\, I lost my self-control for a second) isn’t it better to avoid unpleasantness and think about happy things? Jaguar’s gentle humor and friendly observations about life’s little absurdities will bring a smile to your face. Take a relaxing hour to forget your troubles and the maniac threatening your life. \n“[Jaguar] is right\, but he’s not funny because he’s so mean about it.” —dissatisfied audience member \nBuy Tickets
URL:https://fresnoroguefestival.org/performance/jaguar-bennett-sweetness-and-light/2026-03-06/
LOCATION:Veni Vidi Vici\, 1116 N Fulton St\, Fresno\, CA\, 95389\, United States
CATEGORIES:Comedy
ATTACH;FMTTYPE=image/jpeg:https://fresnoroguefestival.org/wp-content/uploads/2026/02/Jaguar-Bennett-Sweetness-and-Light.jpg
GEO:36.7570365;-119.800073
X-APPLE-STRUCTURED-LOCATION;VALUE=URI;X-ADDRESS=Veni Vidi Vici 1116 N Fulton St Fresno CA 95389 United States;X-APPLE-RADIUS=500;X-TITLE=1116 N Fulton St:geo:-119.800073,36.7570365
END:VEVENT
BEGIN:VEVENT
DTSTART;TZID=America/Los_Angeles:20260228T140000
DTEND;TZID=America/Los_Angeles:20260228T150000
DTSTAMP:20260420T100047
CREATED:20260211T010116Z
LAST-MODIFIED:20260218T031513Z
UID:10000932-1772287200-1772290800@fresnoroguefestival.org
SUMMARY:Jaguar Bennett: Sweetness and Light
DESCRIPTION:COME ON GET HAPPY! Jaguar Bennett\, Fresno’s most reassuring comedian\, is ready to make you laugh and bring joy to your heart! In a world that’s full of suffering\, pain\, injustice\, a MOTHERFUCKING FASCIST MURDERING GOVERNMENT AND COMPLACENT COWARDLY POLITICIANS (sorry\, please ignore that\, I lost my self-control for a second) isn’t it better to avoid unpleasantness and think about happy things? Jaguar’s gentle humor and friendly observations about life’s little absurdities will bring a smile to your face. Take a relaxing hour to forget your troubles and the maniac threatening your life. \n“[Jaguar] is right\, but he’s not funny because he’s so mean about it.” —dissatisfied audience member \nBuy Tickets
URL:https://fresnoroguefestival.org/performance/jaguar-bennett-sweetness-and-light/2026-02-28/
LOCATION:Veni Vidi Vici\, 1116 N Fulton St\, Fresno\, CA\, 95389\, United States
CATEGORIES:Comedy
ATTACH;FMTTYPE=image/jpeg:https://fresnoroguefestival.org/wp-content/uploads/2026/02/Jaguar-Bennett-Sweetness-and-Light.jpg
GEO:36.7570365;-119.800073
X-APPLE-STRUCTURED-LOCATION;VALUE=URI;X-ADDRESS=Veni Vidi Vici 1116 N Fulton St Fresno CA 95389 United States;X-APPLE-RADIUS=500;X-TITLE=1116 N Fulton St:geo:-119.800073,36.7570365
END:VEVENT
BEGIN:VEVENT
DTSTART;TZID=America/Los_Angeles:20260227T203000
DTEND;TZID=America/Los_Angeles:20260227T213000
DTSTAMP:20260420T100047
CREATED:20260211T010116Z
LAST-MODIFIED:20260218T031513Z
UID:10000931-1772224200-1772227800@fresnoroguefestival.org
SUMMARY:Jaguar Bennett: Sweetness and Light
DESCRIPTION:COME ON GET HAPPY! Jaguar Bennett\, Fresno’s most reassuring comedian\, is ready to make you laugh and bring joy to your heart! In a world that’s full of suffering\, pain\, injustice\, a MOTHERFUCKING FASCIST MURDERING GOVERNMENT AND COMPLACENT COWARDLY POLITICIANS (sorry\, please ignore that\, I lost my self-control for a second) isn’t it better to avoid unpleasantness and think about happy things? Jaguar’s gentle humor and friendly observations about life’s little absurdities will bring a smile to your face. Take a relaxing hour to forget your troubles and the maniac threatening your life. \n“[Jaguar] is right\, but he’s not funny because he’s so mean about it.” —dissatisfied audience member \nBuy Tickets
URL:https://fresnoroguefestival.org/performance/jaguar-bennett-sweetness-and-light/2026-02-27/
LOCATION:Veni Vidi Vici\, 1116 N Fulton St\, Fresno\, CA\, 95389\, United States
CATEGORIES:Comedy
ATTACH;FMTTYPE=image/jpeg:https://fresnoroguefestival.org/wp-content/uploads/2026/02/Jaguar-Bennett-Sweetness-and-Light.jpg
GEO:36.7570365;-119.800073
X-APPLE-STRUCTURED-LOCATION;VALUE=URI;X-ADDRESS=Veni Vidi Vici 1116 N Fulton St Fresno CA 95389 United States;X-APPLE-RADIUS=500;X-TITLE=1116 N Fulton St:geo:-119.800073,36.7570365
END:VEVENT
END:VCALENDAR