BEGIN:VCALENDAR
VERSION:2.0
PRODID:-//Rogue Festival - ECPv6.15.20//NONSGML v1.0//EN
CALSCALE:GREGORIAN
METHOD:PUBLISH
X-WR-CALNAME:Rogue Festival
X-ORIGINAL-URL:https://fresnoroguefestival.org
X-WR-CALDESC:Events for Rogue Festival
REFRESH-INTERVAL;VALUE=DURATION:PT1H
X-Robots-Tag:noindex
X-PUBLISHED-TTL:PT1H
BEGIN:VTIMEZONE
TZID:America/Los_Angeles
BEGIN:DAYLIGHT
TZOFFSETFROM:-0800
TZOFFSETTO:-0700
TZNAME:PDT
DTSTART:20250309T100000
END:DAYLIGHT
BEGIN:STANDARD
TZOFFSETFROM:-0700
TZOFFSETTO:-0800
TZNAME:PST
DTSTART:20251102T090000
END:STANDARD
BEGIN:DAYLIGHT
TZOFFSETFROM:-0800
TZOFFSETTO:-0700
TZNAME:PDT
DTSTART:20260308T100000
END:DAYLIGHT
BEGIN:STANDARD
TZOFFSETFROM:-0700
TZOFFSETTO:-0800
TZNAME:PST
DTSTART:20261101T090000
END:STANDARD
BEGIN:DAYLIGHT
TZOFFSETFROM:-0800
TZOFFSETTO:-0700
TZNAME:PDT
DTSTART:20270314T100000
END:DAYLIGHT
BEGIN:STANDARD
TZOFFSETFROM:-0700
TZOFFSETTO:-0800
TZNAME:PST
DTSTART:20271107T090000
END:STANDARD
END:VTIMEZONE
BEGIN:VEVENT
DTSTART;TZID=America/Los_Angeles:20260307T200000
DTEND;TZID=America/Los_Angeles:20260307T205500
DTSTAMP:20260420T151832
CREATED:20260210T225956Z
LAST-MODIFIED:20260218T004808Z
UID:10000865-1772913600-1772916900@fresnoroguefestival.org
SUMMARY:Cabaret of Classics
DESCRIPTION:The Fresno Belly Dance Collective proudly presents “Cabaret of Classics”\, a Belly Dance showcase\, as part of the 2025 Rogue Festival. This is a great opportunity for audiences to see diverse styles of Belly Dance from performers who have spent years honing their art. \nJoin us for a dazzling showcase celebrating the deep connection between movement and music\, where each local artist will transform a beloved piece of belly dance music into visual poetry. \nBuy Tickets
URL:https://fresnoroguefestival.org/performance/cabaret-of-classics/2026-03-07/
LOCATION:Dianna’s Studio of Dance\, 826 N Fulton St\, Fresno\, CA\, 93728\, United States
CATEGORIES:Dance
ATTACH;FMTTYPE=image/jpeg:https://fresnoroguefestival.org/wp-content/uploads/2026/02/Fresno-Belly-Dance-Cabaret-of-Classics.jpg
GEO:36.7532091;-119.8000957
X-APPLE-STRUCTURED-LOCATION;VALUE=URI;X-ADDRESS=Dianna’s Studio of Dance 826 N Fulton St Fresno CA 93728 United States;X-APPLE-RADIUS=500;X-TITLE=826 N Fulton St:geo:-119.8000957,36.7532091
END:VEVENT
BEGIN:VEVENT
DTSTART;TZID=America/Los_Angeles:20260301T153000
DTEND;TZID=America/Los_Angeles:20260301T162500
DTSTAMP:20260420T151832
CREATED:20260210T225956Z
LAST-MODIFIED:20260218T004808Z
UID:10000864-1772379000-1772382300@fresnoroguefestival.org
SUMMARY:Cabaret of Classics
DESCRIPTION:The Fresno Belly Dance Collective proudly presents “Cabaret of Classics”\, a Belly Dance showcase\, as part of the 2025 Rogue Festival. This is a great opportunity for audiences to see diverse styles of Belly Dance from performers who have spent years honing their art. \nJoin us for a dazzling showcase celebrating the deep connection between movement and music\, where each local artist will transform a beloved piece of belly dance music into visual poetry. \nBuy Tickets
URL:https://fresnoroguefestival.org/performance/cabaret-of-classics/2026-03-01/
LOCATION:Dianna’s Studio of Dance\, 826 N Fulton St\, Fresno\, CA\, 93728\, United States
CATEGORIES:Dance
ATTACH;FMTTYPE=image/jpeg:https://fresnoroguefestival.org/wp-content/uploads/2026/02/Fresno-Belly-Dance-Cabaret-of-Classics.jpg
GEO:36.7532091;-119.8000957
X-APPLE-STRUCTURED-LOCATION;VALUE=URI;X-ADDRESS=Dianna’s Studio of Dance 826 N Fulton St Fresno CA 93728 United States;X-APPLE-RADIUS=500;X-TITLE=826 N Fulton St:geo:-119.8000957,36.7532091
END:VEVENT
BEGIN:VEVENT
DTSTART;TZID=America/Los_Angeles:20260228T213000
DTEND;TZID=America/Los_Angeles:20260228T222500
DTSTAMP:20260420T151832
CREATED:20260210T225956Z
LAST-MODIFIED:20260218T004808Z
UID:10000863-1772314200-1772317500@fresnoroguefestival.org
SUMMARY:Cabaret of Classics
DESCRIPTION:The Fresno Belly Dance Collective proudly presents “Cabaret of Classics”\, a Belly Dance showcase\, as part of the 2025 Rogue Festival. This is a great opportunity for audiences to see diverse styles of Belly Dance from performers who have spent years honing their art. \nJoin us for a dazzling showcase celebrating the deep connection between movement and music\, where each local artist will transform a beloved piece of belly dance music into visual poetry. \nBuy Tickets
URL:https://fresnoroguefestival.org/performance/cabaret-of-classics/2026-02-28/2/
LOCATION:Dianna’s Studio of Dance\, 826 N Fulton St\, Fresno\, CA\, 93728\, United States
CATEGORIES:Dance
ATTACH;FMTTYPE=image/jpeg:https://fresnoroguefestival.org/wp-content/uploads/2026/02/Fresno-Belly-Dance-Cabaret-of-Classics.jpg
GEO:36.7532091;-119.8000957
X-APPLE-STRUCTURED-LOCATION;VALUE=URI;X-ADDRESS=Dianna’s Studio of Dance 826 N Fulton St Fresno CA 93728 United States;X-APPLE-RADIUS=500;X-TITLE=826 N Fulton St:geo:-119.8000957,36.7532091
END:VEVENT
BEGIN:VEVENT
DTSTART;TZID=America/Los_Angeles:20260228T140000
DTEND;TZID=America/Los_Angeles:20260228T145500
DTSTAMP:20260420T151832
CREATED:20260210T225956Z
LAST-MODIFIED:20260218T004808Z
UID:10000862-1772287200-1772290500@fresnoroguefestival.org
SUMMARY:Cabaret of Classics
DESCRIPTION:The Fresno Belly Dance Collective proudly presents “Cabaret of Classics”\, a Belly Dance showcase\, as part of the 2025 Rogue Festival. This is a great opportunity for audiences to see diverse styles of Belly Dance from performers who have spent years honing their art. \nJoin us for a dazzling showcase celebrating the deep connection between movement and music\, where each local artist will transform a beloved piece of belly dance music into visual poetry. \nBuy Tickets
URL:https://fresnoroguefestival.org/performance/cabaret-of-classics/2026-02-28/1/
LOCATION:Dianna’s Studio of Dance\, 826 N Fulton St\, Fresno\, CA\, 93728\, United States
CATEGORIES:Dance
ATTACH;FMTTYPE=image/jpeg:https://fresnoroguefestival.org/wp-content/uploads/2026/02/Fresno-Belly-Dance-Cabaret-of-Classics.jpg
GEO:36.7532091;-119.8000957
X-APPLE-STRUCTURED-LOCATION;VALUE=URI;X-ADDRESS=Dianna’s Studio of Dance 826 N Fulton St Fresno CA 93728 United States;X-APPLE-RADIUS=500;X-TITLE=826 N Fulton St:geo:-119.8000957,36.7532091
END:VEVENT
BEGIN:VEVENT
DTSTART;TZID=America/Los_Angeles:20260227T203000
DTEND;TZID=America/Los_Angeles:20260227T212500
DTSTAMP:20260420T151832
CREATED:20260210T225956Z
LAST-MODIFIED:20260218T004808Z
UID:10000861-1772224200-1772227500@fresnoroguefestival.org
SUMMARY:Cabaret of Classics
DESCRIPTION:The Fresno Belly Dance Collective proudly presents “Cabaret of Classics”\, a Belly Dance showcase\, as part of the 2025 Rogue Festival. This is a great opportunity for audiences to see diverse styles of Belly Dance from performers who have spent years honing their art. \nJoin us for a dazzling showcase celebrating the deep connection between movement and music\, where each local artist will transform a beloved piece of belly dance music into visual poetry. \nBuy Tickets
URL:https://fresnoroguefestival.org/performance/cabaret-of-classics/2026-02-27/
LOCATION:Dianna’s Studio of Dance\, 826 N Fulton St\, Fresno\, CA\, 93728\, United States
CATEGORIES:Dance
ATTACH;FMTTYPE=image/jpeg:https://fresnoroguefestival.org/wp-content/uploads/2026/02/Fresno-Belly-Dance-Cabaret-of-Classics.jpg
GEO:36.7532091;-119.8000957
X-APPLE-STRUCTURED-LOCATION;VALUE=URI;X-ADDRESS=Dianna’s Studio of Dance 826 N Fulton St Fresno CA 93728 United States;X-APPLE-RADIUS=500;X-TITLE=826 N Fulton St:geo:-119.8000957,36.7532091
END:VEVENT
END:VCALENDAR