BEGIN:VCALENDAR
VERSION:2.0
PRODID:-//Rogue Festival - ECPv6.15.20//NONSGML v1.0//EN
CALSCALE:GREGORIAN
METHOD:PUBLISH
X-ORIGINAL-URL:https://fresnoroguefestival.org
X-WR-CALDESC:Events for Rogue Festival
REFRESH-INTERVAL;VALUE=DURATION:PT1H
X-Robots-Tag:noindex
X-PUBLISHED-TTL:PT1H
BEGIN:VTIMEZONE
TZID:America/Los_Angeles
BEGIN:DAYLIGHT
TZOFFSETFROM:-0800
TZOFFSETTO:-0700
TZNAME:PDT
DTSTART:20250309T100000
END:DAYLIGHT
BEGIN:STANDARD
TZOFFSETFROM:-0700
TZOFFSETTO:-0800
TZNAME:PST
DTSTART:20251102T090000
END:STANDARD
BEGIN:DAYLIGHT
TZOFFSETFROM:-0800
TZOFFSETTO:-0700
TZNAME:PDT
DTSTART:20260308T100000
END:DAYLIGHT
BEGIN:STANDARD
TZOFFSETFROM:-0700
TZOFFSETTO:-0800
TZNAME:PST
DTSTART:20261101T090000
END:STANDARD
BEGIN:DAYLIGHT
TZOFFSETFROM:-0800
TZOFFSETTO:-0700
TZNAME:PDT
DTSTART:20270314T100000
END:DAYLIGHT
BEGIN:STANDARD
TZOFFSETFROM:-0700
TZOFFSETTO:-0800
TZNAME:PST
DTSTART:20271107T090000
END:STANDARD
END:VTIMEZONE
BEGIN:VEVENT
DTSTART;TZID=America/Los_Angeles:20260307T183000
DTEND;TZID=America/Los_Angeles:20260307T193000
DTSTAMP:20260420T132706
CREATED:20260210T222410Z
LAST-MODIFIED:20260218T002414Z
UID:10000844-1772908200-1772911800@fresnoroguefestival.org
SUMMARY:Electric Confessions: I Am Revolution
DESCRIPTION:From Fresno’s streets\, Eve Reiland — a neurodivergent voice — turns lived survival into fearless\, uncontainable poetic revolution. Fifteen years labeled “severely disabled” taught her what it means to be unseen\, misunderstood\, and underestimated. Yet here she exists still unbroken\, carrying every tremor\, bruise\, and heartbeat into words that resist erasure. \nThis is not performance. It is survival speaking\, memory shaping\, and lived truth claiming space. Each poem carries the weight of streets walked\, nights endured\, and systems navigated — spaces meant to contain\, silence\, or diminish. Yet through chaos\, exhaustion\, and misjudgment\, her voice persists\, raw and electric. \nElectric Confessions: I Am Revolution transforms personal struggle into public witness\, vulnerability into power\, and lived experience into art that demands to be felt. Rage meets tenderness\, disorder meets quiet\, and survival becomes defiance. Every word strikes like lightning\, every story asserts presence\, and every performance is a declaration: survival itself is revolution. \nThrough this work\, Eve Reiland invites audiences to witness\, reckon\, and resonate with the lived\, neurodivergent experience — turning truth into power\, endurance into art\, and survival into uncontainable\, poetic rebellion. \nBuy Tickets
URL:https://fresnoroguefestival.org/performance/electric-confessions-i-am-revolution/2026-03-07/
LOCATION:Art Annex\, 814 E Olive Ave\, Fresno\, CA\, 93728\, United States
CATEGORIES:Spoken Word
ATTACH;FMTTYPE=image/jpeg:https://fresnoroguefestival.org/wp-content/uploads/2026/02/Eve-Reiland-Electric-Confessions.jpg
GEO:36.757556;-119.801219
X-APPLE-STRUCTURED-LOCATION;VALUE=URI;X-ADDRESS=Art Annex 814 E Olive Ave Fresno CA 93728 United States;X-APPLE-RADIUS=500;X-TITLE=814 E Olive Ave:geo:-119.801219,36.757556
END:VEVENT
BEGIN:VEVENT
DTSTART;TZID=America/Los_Angeles:20260301T153000
DTEND;TZID=America/Los_Angeles:20260301T163000
DTSTAMP:20260420T132706
CREATED:20260210T222410Z
LAST-MODIFIED:20260218T002414Z
UID:10000843-1772379000-1772382600@fresnoroguefestival.org
SUMMARY:Electric Confessions: I Am Revolution
DESCRIPTION:From Fresno’s streets\, Eve Reiland — a neurodivergent voice — turns lived survival into fearless\, uncontainable poetic revolution. Fifteen years labeled “severely disabled” taught her what it means to be unseen\, misunderstood\, and underestimated. Yet here she exists still unbroken\, carrying every tremor\, bruise\, and heartbeat into words that resist erasure. \nThis is not performance. It is survival speaking\, memory shaping\, and lived truth claiming space. Each poem carries the weight of streets walked\, nights endured\, and systems navigated — spaces meant to contain\, silence\, or diminish. Yet through chaos\, exhaustion\, and misjudgment\, her voice persists\, raw and electric. \nElectric Confessions: I Am Revolution transforms personal struggle into public witness\, vulnerability into power\, and lived experience into art that demands to be felt. Rage meets tenderness\, disorder meets quiet\, and survival becomes defiance. Every word strikes like lightning\, every story asserts presence\, and every performance is a declaration: survival itself is revolution. \nThrough this work\, Eve Reiland invites audiences to witness\, reckon\, and resonate with the lived\, neurodivergent experience — turning truth into power\, endurance into art\, and survival into uncontainable\, poetic rebellion. \nBuy Tickets
URL:https://fresnoroguefestival.org/performance/electric-confessions-i-am-revolution/2026-03-01/
LOCATION:Art Annex\, 814 E Olive Ave\, Fresno\, CA\, 93728\, United States
CATEGORIES:Spoken Word
ATTACH;FMTTYPE=image/jpeg:https://fresnoroguefestival.org/wp-content/uploads/2026/02/Eve-Reiland-Electric-Confessions.jpg
GEO:36.757556;-119.801219
X-APPLE-STRUCTURED-LOCATION;VALUE=URI;X-ADDRESS=Art Annex 814 E Olive Ave Fresno CA 93728 United States;X-APPLE-RADIUS=500;X-TITLE=814 E Olive Ave:geo:-119.801219,36.757556
END:VEVENT
BEGIN:VEVENT
DTSTART;TZID=America/Los_Angeles:20260228T183000
DTEND;TZID=America/Los_Angeles:20260228T193000
DTSTAMP:20260420T132706
CREATED:20260210T222410Z
LAST-MODIFIED:20260218T002414Z
UID:10000842-1772303400-1772307000@fresnoroguefestival.org
SUMMARY:Electric Confessions: I Am Revolution
DESCRIPTION:From Fresno’s streets\, Eve Reiland — a neurodivergent voice — turns lived survival into fearless\, uncontainable poetic revolution. Fifteen years labeled “severely disabled” taught her what it means to be unseen\, misunderstood\, and underestimated. Yet here she exists still unbroken\, carrying every tremor\, bruise\, and heartbeat into words that resist erasure. \nThis is not performance. It is survival speaking\, memory shaping\, and lived truth claiming space. Each poem carries the weight of streets walked\, nights endured\, and systems navigated — spaces meant to contain\, silence\, or diminish. Yet through chaos\, exhaustion\, and misjudgment\, her voice persists\, raw and electric. \nElectric Confessions: I Am Revolution transforms personal struggle into public witness\, vulnerability into power\, and lived experience into art that demands to be felt. Rage meets tenderness\, disorder meets quiet\, and survival becomes defiance. Every word strikes like lightning\, every story asserts presence\, and every performance is a declaration: survival itself is revolution. \nThrough this work\, Eve Reiland invites audiences to witness\, reckon\, and resonate with the lived\, neurodivergent experience — turning truth into power\, endurance into art\, and survival into uncontainable\, poetic rebellion. \nBuy Tickets
URL:https://fresnoroguefestival.org/performance/electric-confessions-i-am-revolution/2026-02-28/
LOCATION:Art Annex\, 814 E Olive Ave\, Fresno\, CA\, 93728\, United States
CATEGORIES:Spoken Word
ATTACH;FMTTYPE=image/jpeg:https://fresnoroguefestival.org/wp-content/uploads/2026/02/Eve-Reiland-Electric-Confessions.jpg
GEO:36.757556;-119.801219
X-APPLE-STRUCTURED-LOCATION;VALUE=URI;X-ADDRESS=Art Annex 814 E Olive Ave Fresno CA 93728 United States;X-APPLE-RADIUS=500;X-TITLE=814 E Olive Ave:geo:-119.801219,36.757556
END:VEVENT
BEGIN:VEVENT
DTSTART;TZID=America/Los_Angeles:20260227T203000
DTEND;TZID=America/Los_Angeles:20260227T213000
DTSTAMP:20260420T132706
CREATED:20260210T222410Z
LAST-MODIFIED:20260218T002414Z
UID:10000841-1772224200-1772227800@fresnoroguefestival.org
SUMMARY:Electric Confessions: I Am Revolution
DESCRIPTION:From Fresno’s streets\, Eve Reiland — a neurodivergent voice — turns lived survival into fearless\, uncontainable poetic revolution. Fifteen years labeled “severely disabled” taught her what it means to be unseen\, misunderstood\, and underestimated. Yet here she exists still unbroken\, carrying every tremor\, bruise\, and heartbeat into words that resist erasure. \nThis is not performance. It is survival speaking\, memory shaping\, and lived truth claiming space. Each poem carries the weight of streets walked\, nights endured\, and systems navigated — spaces meant to contain\, silence\, or diminish. Yet through chaos\, exhaustion\, and misjudgment\, her voice persists\, raw and electric. \nElectric Confessions: I Am Revolution transforms personal struggle into public witness\, vulnerability into power\, and lived experience into art that demands to be felt. Rage meets tenderness\, disorder meets quiet\, and survival becomes defiance. Every word strikes like lightning\, every story asserts presence\, and every performance is a declaration: survival itself is revolution. \nThrough this work\, Eve Reiland invites audiences to witness\, reckon\, and resonate with the lived\, neurodivergent experience — turning truth into power\, endurance into art\, and survival into uncontainable\, poetic rebellion. \nBuy Tickets
URL:https://fresnoroguefestival.org/performance/electric-confessions-i-am-revolution/2026-02-27/
LOCATION:Art Annex\, 814 E Olive Ave\, Fresno\, CA\, 93728\, United States
CATEGORIES:Spoken Word
ATTACH;FMTTYPE=image/jpeg:https://fresnoroguefestival.org/wp-content/uploads/2026/02/Eve-Reiland-Electric-Confessions.jpg
GEO:36.757556;-119.801219
X-APPLE-STRUCTURED-LOCATION;VALUE=URI;X-ADDRESS=Art Annex 814 E Olive Ave Fresno CA 93728 United States;X-APPLE-RADIUS=500;X-TITLE=814 E Olive Ave:geo:-119.801219,36.757556
END:VEVENT
END:VCALENDAR