BEGIN:VCALENDAR
VERSION:2.0
PRODID:-//Rogue Festival - ECPv6.15.20//NONSGML v1.0//EN
CALSCALE:GREGORIAN
METHOD:PUBLISH
X-WR-CALNAME:Rogue Festival
X-ORIGINAL-URL:https://fresnoroguefestival.org
X-WR-CALDESC:Events for Rogue Festival
REFRESH-INTERVAL;VALUE=DURATION:PT1H
X-Robots-Tag:noindex
X-PUBLISHED-TTL:PT1H
BEGIN:VTIMEZONE
TZID:America/Los_Angeles
BEGIN:DAYLIGHT
TZOFFSETFROM:-0800
TZOFFSETTO:-0700
TZNAME:PDT
DTSTART:20250309T100000
END:DAYLIGHT
BEGIN:STANDARD
TZOFFSETFROM:-0700
TZOFFSETTO:-0800
TZNAME:PST
DTSTART:20251102T090000
END:STANDARD
BEGIN:DAYLIGHT
TZOFFSETFROM:-0800
TZOFFSETTO:-0700
TZNAME:PDT
DTSTART:20260308T100000
END:DAYLIGHT
BEGIN:STANDARD
TZOFFSETFROM:-0700
TZOFFSETTO:-0800
TZNAME:PST
DTSTART:20261101T090000
END:STANDARD
BEGIN:DAYLIGHT
TZOFFSETFROM:-0800
TZOFFSETTO:-0700
TZNAME:PDT
DTSTART:20270314T100000
END:DAYLIGHT
BEGIN:STANDARD
TZOFFSETFROM:-0700
TZOFFSETTO:-0800
TZNAME:PST
DTSTART:20271107T090000
END:STANDARD
END:VTIMEZONE
BEGIN:VEVENT
DTSTART;TZID=America/Los_Angeles:20260228T183000
DTEND;TZID=America/Los_Angeles:20260228T192000
DTSTAMP:20260420T144709
CREATED:20260217T234802Z
LAST-MODIFIED:20260217T234802Z
UID:10001054-1772303400-1772306400@fresnoroguefestival.org
SUMMARY:As It Happens and Other Fairy Tales
DESCRIPTION:Join four dramatically-inclined women for a hot bevvie and writing that examines the stories we tell about our lives. Through essays\, poems\, and whimsical meanderings\, the writers of Elastic Ink explore the space where truth blurs into myth and memory feels suspiciously like a fairy tale. These are stories “as it happens” and as we know them to be true. \nFeaturing the writing of Brooke Aiello\, Casey Ballard\, and Heather Parish\, this reading offers an intimate literary experience celebrating stories—true\, half-true\, and lovingly misremembered. \nAfter standing-room-only readings at LitHop Fresno 2023 & 2024 and two Rogue Sold Out Awards\, the writers of Elastic Ink invite you back to the Stargazer Cottage for a cozy evening of words\, warmth\, and a well-earned cuppa on the porch. \nPay what you will. Suggested donation $5
URL:https://fresnoroguefestival.org/performance/as-it-happens-and-other-fairy-tales/2026-02-28/
LOCATION:Stargazer Cottage\, 1292 N Ferger\, Fresno\, CA\, 93728\, United States
CATEGORIES:Spoken Word
ATTACH;FMTTYPE=image/jpeg:https://fresnoroguefestival.org/wp-content/uploads/2026/02/Elastic-Ink-As-It-Happens-scaled.jpg
GEO:36.7592806;-119.807727
X-APPLE-STRUCTURED-LOCATION;VALUE=URI;X-ADDRESS=Stargazer Cottage 1292 N Ferger Fresno CA 93728 United States;X-APPLE-RADIUS=500;X-TITLE=1292 N Ferger:geo:-119.807727,36.7592806
END:VEVENT
BEGIN:VEVENT
DTSTART;TZID=America/Los_Angeles:20260227T190000
DTEND;TZID=America/Los_Angeles:20260227T195000
DTSTAMP:20260420T144709
CREATED:20260217T234802Z
LAST-MODIFIED:20260217T234802Z
UID:10001053-1772218800-1772221800@fresnoroguefestival.org
SUMMARY:As It Happens and Other Fairy Tales
DESCRIPTION:Join four dramatically-inclined women for a hot bevvie and writing that examines the stories we tell about our lives. Through essays\, poems\, and whimsical meanderings\, the writers of Elastic Ink explore the space where truth blurs into myth and memory feels suspiciously like a fairy tale. These are stories “as it happens” and as we know them to be true. \nFeaturing the writing of Brooke Aiello\, Casey Ballard\, and Heather Parish\, this reading offers an intimate literary experience celebrating stories—true\, half-true\, and lovingly misremembered. \nAfter standing-room-only readings at LitHop Fresno 2023 & 2024 and two Rogue Sold Out Awards\, the writers of Elastic Ink invite you back to the Stargazer Cottage for a cozy evening of words\, warmth\, and a well-earned cuppa on the porch. \nPay what you will. Suggested donation $5
URL:https://fresnoroguefestival.org/performance/as-it-happens-and-other-fairy-tales/2026-02-27/
LOCATION:Stargazer Cottage\, 1292 N Ferger\, Fresno\, CA\, 93728\, United States
CATEGORIES:Spoken Word
ATTACH;FMTTYPE=image/jpeg:https://fresnoroguefestival.org/wp-content/uploads/2026/02/Elastic-Ink-As-It-Happens-scaled.jpg
GEO:36.7592806;-119.807727
X-APPLE-STRUCTURED-LOCATION;VALUE=URI;X-ADDRESS=Stargazer Cottage 1292 N Ferger Fresno CA 93728 United States;X-APPLE-RADIUS=500;X-TITLE=1292 N Ferger:geo:-119.807727,36.7592806
END:VEVENT
END:VCALENDAR