BEGIN:VCALENDAR
VERSION:2.0
PRODID:-//Rogue Festival - ECPv6.15.20//NONSGML v1.0//EN
CALSCALE:GREGORIAN
METHOD:PUBLISH
X-WR-CALNAME:Rogue Festival
X-ORIGINAL-URL:https://fresnoroguefestival.org
X-WR-CALDESC:Events for Rogue Festival
REFRESH-INTERVAL;VALUE=DURATION:PT1H
X-Robots-Tag:noindex
X-PUBLISHED-TTL:PT1H
BEGIN:VTIMEZONE
TZID:America/Los_Angeles
BEGIN:DAYLIGHT
TZOFFSETFROM:-0800
TZOFFSETTO:-0700
TZNAME:PDT
DTSTART:20250309T100000
END:DAYLIGHT
BEGIN:STANDARD
TZOFFSETFROM:-0700
TZOFFSETTO:-0800
TZNAME:PST
DTSTART:20251102T090000
END:STANDARD
BEGIN:DAYLIGHT
TZOFFSETFROM:-0800
TZOFFSETTO:-0700
TZNAME:PDT
DTSTART:20260308T100000
END:DAYLIGHT
BEGIN:STANDARD
TZOFFSETFROM:-0700
TZOFFSETTO:-0800
TZNAME:PST
DTSTART:20261101T090000
END:STANDARD
BEGIN:DAYLIGHT
TZOFFSETFROM:-0800
TZOFFSETTO:-0700
TZNAME:PDT
DTSTART:20270314T100000
END:DAYLIGHT
BEGIN:STANDARD
TZOFFSETFROM:-0700
TZOFFSETTO:-0800
TZNAME:PST
DTSTART:20271107T090000
END:STANDARD
END:VTIMEZONE
BEGIN:VEVENT
DTSTART;TZID=America/Los_Angeles:20260307T153000
DTEND;TZID=America/Los_Angeles:20260307T163000
DTSTAMP:20260420T095526
CREATED:20260210T235936Z
LAST-MODIFIED:20260218T005710Z
UID:10000881-1772897400-1772901000@fresnoroguefestival.org
SUMMARY:The Review by Martin Dockery
DESCRIPTION:The corporate arena’s Battle Royale: The annual performance review. Sparks fly as two men clash in this fast-paced\, comedic drama about insecurity\, status\, & masculinity. A brand new world premiere play from Martin Dockery\, winner of 70 worldwide awards over 18 years of touring. Directed by Vanessa Quesnelle\, and starring Andrew Broaddus & Martin Dockery. This is their 3rd collaboration after The Stakeout and The Bunker\, both of which have sold out most of their runs across the North American fringe circuit. \nMost recent Rogue shows: 1 Small Lie\, TRUTH\, Every Good Story Ends With One.\nCurrent Rogue shows: The Stakeout\, Wanderlust \nThere are no reviews for this play as of yet. Be the first! \nBuy Tickets
URL:https://fresnoroguefestival.org/performance/the-review-by-martin-dockery/2026-03-07/
LOCATION:Dianna’s Studio of Dance\, 826 N Fulton St\, Fresno\, CA\, 93728\, United States
CATEGORIES:Theater
ATTACH;FMTTYPE=image/jpeg:https://fresnoroguefestival.org/wp-content/uploads/2026/02/Concrete-Drops-The-Review.jpg
GEO:36.7532091;-119.8000957
X-APPLE-STRUCTURED-LOCATION;VALUE=URI;X-ADDRESS=Dianna’s Studio of Dance 826 N Fulton St Fresno CA 93728 United States;X-APPLE-RADIUS=500;X-TITLE=826 N Fulton St:geo:-119.8000957,36.7532091
END:VEVENT
BEGIN:VEVENT
DTSTART;TZID=America/Los_Angeles:20260306T203000
DTEND;TZID=America/Los_Angeles:20260306T213000
DTSTAMP:20260420T095526
CREATED:20260210T235936Z
LAST-MODIFIED:20260218T005710Z
UID:10000880-1772829000-1772832600@fresnoroguefestival.org
SUMMARY:The Review by Martin Dockery
DESCRIPTION:The corporate arena’s Battle Royale: The annual performance review. Sparks fly as two men clash in this fast-paced\, comedic drama about insecurity\, status\, & masculinity. A brand new world premiere play from Martin Dockery\, winner of 70 worldwide awards over 18 years of touring. Directed by Vanessa Quesnelle\, and starring Andrew Broaddus & Martin Dockery. This is their 3rd collaboration after The Stakeout and The Bunker\, both of which have sold out most of their runs across the North American fringe circuit. \nMost recent Rogue shows: 1 Small Lie\, TRUTH\, Every Good Story Ends With One.\nCurrent Rogue shows: The Stakeout\, Wanderlust \nThere are no reviews for this play as of yet. Be the first! \nBuy Tickets
URL:https://fresnoroguefestival.org/performance/the-review-by-martin-dockery/2026-03-06/
LOCATION:Dianna’s Studio of Dance\, 826 N Fulton St\, Fresno\, CA\, 93728\, United States
CATEGORIES:Theater
ATTACH;FMTTYPE=image/jpeg:https://fresnoroguefestival.org/wp-content/uploads/2026/02/Concrete-Drops-The-Review.jpg
GEO:36.7532091;-119.8000957
X-APPLE-STRUCTURED-LOCATION;VALUE=URI;X-ADDRESS=Dianna’s Studio of Dance 826 N Fulton St Fresno CA 93728 United States;X-APPLE-RADIUS=500;X-TITLE=826 N Fulton St:geo:-119.8000957,36.7532091
END:VEVENT
BEGIN:VEVENT
DTSTART;TZID=America/Los_Angeles:20260301T170000
DTEND;TZID=America/Los_Angeles:20260301T180000
DTSTAMP:20260420T095526
CREATED:20260210T235936Z
LAST-MODIFIED:20260218T005710Z
UID:10000879-1772384400-1772388000@fresnoroguefestival.org
SUMMARY:The Review by Martin Dockery
DESCRIPTION:The corporate arena’s Battle Royale: The annual performance review. Sparks fly as two men clash in this fast-paced\, comedic drama about insecurity\, status\, & masculinity. A brand new world premiere play from Martin Dockery\, winner of 70 worldwide awards over 18 years of touring. Directed by Vanessa Quesnelle\, and starring Andrew Broaddus & Martin Dockery. This is their 3rd collaboration after The Stakeout and The Bunker\, both of which have sold out most of their runs across the North American fringe circuit. \nMost recent Rogue shows: 1 Small Lie\, TRUTH\, Every Good Story Ends With One.\nCurrent Rogue shows: The Stakeout\, Wanderlust \nThere are no reviews for this play as of yet. Be the first! \nBuy Tickets
URL:https://fresnoroguefestival.org/performance/the-review-by-martin-dockery/2026-03-01/
LOCATION:Dianna’s Studio of Dance\, 826 N Fulton St\, Fresno\, CA\, 93728\, United States
CATEGORIES:Theater
ATTACH;FMTTYPE=image/jpeg:https://fresnoroguefestival.org/wp-content/uploads/2026/02/Concrete-Drops-The-Review.jpg
GEO:36.7532091;-119.8000957
X-APPLE-STRUCTURED-LOCATION;VALUE=URI;X-ADDRESS=Dianna’s Studio of Dance 826 N Fulton St Fresno CA 93728 United States;X-APPLE-RADIUS=500;X-TITLE=826 N Fulton St:geo:-119.8000957,36.7532091
END:VEVENT
BEGIN:VEVENT
DTSTART;TZID=America/Los_Angeles:20260228T153000
DTEND;TZID=America/Los_Angeles:20260228T163000
DTSTAMP:20260420T095526
CREATED:20260210T235936Z
LAST-MODIFIED:20260218T005710Z
UID:10000878-1772292600-1772296200@fresnoroguefestival.org
SUMMARY:The Review by Martin Dockery
DESCRIPTION:The corporate arena’s Battle Royale: The annual performance review. Sparks fly as two men clash in this fast-paced\, comedic drama about insecurity\, status\, & masculinity. A brand new world premiere play from Martin Dockery\, winner of 70 worldwide awards over 18 years of touring. Directed by Vanessa Quesnelle\, and starring Andrew Broaddus & Martin Dockery. This is their 3rd collaboration after The Stakeout and The Bunker\, both of which have sold out most of their runs across the North American fringe circuit. \nMost recent Rogue shows: 1 Small Lie\, TRUTH\, Every Good Story Ends With One.\nCurrent Rogue shows: The Stakeout\, Wanderlust \nThere are no reviews for this play as of yet. Be the first! \nBuy Tickets
URL:https://fresnoroguefestival.org/performance/the-review-by-martin-dockery/2026-02-28/
LOCATION:Dianna’s Studio of Dance\, 826 N Fulton St\, Fresno\, CA\, 93728\, United States
CATEGORIES:Theater
ATTACH;FMTTYPE=image/jpeg:https://fresnoroguefestival.org/wp-content/uploads/2026/02/Concrete-Drops-The-Review.jpg
GEO:36.7532091;-119.8000957
X-APPLE-STRUCTURED-LOCATION;VALUE=URI;X-ADDRESS=Dianna’s Studio of Dance 826 N Fulton St Fresno CA 93728 United States;X-APPLE-RADIUS=500;X-TITLE=826 N Fulton St:geo:-119.8000957,36.7532091
END:VEVENT
BEGIN:VEVENT
DTSTART;TZID=America/Los_Angeles:20260227T220000
DTEND;TZID=America/Los_Angeles:20260227T230000
DTSTAMP:20260420T095526
CREATED:20260210T235936Z
LAST-MODIFIED:20260218T005710Z
UID:10000877-1772229600-1772233200@fresnoroguefestival.org
SUMMARY:The Review by Martin Dockery
DESCRIPTION:The corporate arena’s Battle Royale: The annual performance review. Sparks fly as two men clash in this fast-paced\, comedic drama about insecurity\, status\, & masculinity. A brand new world premiere play from Martin Dockery\, winner of 70 worldwide awards over 18 years of touring. Directed by Vanessa Quesnelle\, and starring Andrew Broaddus & Martin Dockery. This is their 3rd collaboration after The Stakeout and The Bunker\, both of which have sold out most of their runs across the North American fringe circuit. \nMost recent Rogue shows: 1 Small Lie\, TRUTH\, Every Good Story Ends With One.\nCurrent Rogue shows: The Stakeout\, Wanderlust \nThere are no reviews for this play as of yet. Be the first! \nBuy Tickets
URL:https://fresnoroguefestival.org/performance/the-review-by-martin-dockery/2026-02-27/
LOCATION:Dianna’s Studio of Dance\, 826 N Fulton St\, Fresno\, CA\, 93728\, United States
CATEGORIES:Theater
ATTACH;FMTTYPE=image/jpeg:https://fresnoroguefestival.org/wp-content/uploads/2026/02/Concrete-Drops-The-Review.jpg
GEO:36.7532091;-119.8000957
X-APPLE-STRUCTURED-LOCATION;VALUE=URI;X-ADDRESS=Dianna’s Studio of Dance 826 N Fulton St Fresno CA 93728 United States;X-APPLE-RADIUS=500;X-TITLE=826 N Fulton St:geo:-119.8000957,36.7532091
END:VEVENT
END:VCALENDAR