BEGIN:VCALENDAR
VERSION:2.0
PRODID:-//Rogue Festival - ECPv6.15.20//NONSGML v1.0//EN
CALSCALE:GREGORIAN
METHOD:PUBLISH
X-WR-CALNAME:Rogue Festival
X-ORIGINAL-URL:https://fresnoroguefestival.org
X-WR-CALDESC:Events for Rogue Festival
REFRESH-INTERVAL;VALUE=DURATION:PT1H
X-Robots-Tag:noindex
X-PUBLISHED-TTL:PT1H
BEGIN:VTIMEZONE
TZID:America/Los_Angeles
BEGIN:DAYLIGHT
TZOFFSETFROM:-0800
TZOFFSETTO:-0700
TZNAME:PDT
DTSTART:20250309T100000
END:DAYLIGHT
BEGIN:STANDARD
TZOFFSETFROM:-0700
TZOFFSETTO:-0800
TZNAME:PST
DTSTART:20251102T090000
END:STANDARD
BEGIN:DAYLIGHT
TZOFFSETFROM:-0800
TZOFFSETTO:-0700
TZNAME:PDT
DTSTART:20260308T100000
END:DAYLIGHT
BEGIN:STANDARD
TZOFFSETFROM:-0700
TZOFFSETTO:-0800
TZNAME:PST
DTSTART:20261101T090000
END:STANDARD
BEGIN:DAYLIGHT
TZOFFSETFROM:-0800
TZOFFSETTO:-0700
TZNAME:PDT
DTSTART:20270314T100000
END:DAYLIGHT
BEGIN:STANDARD
TZOFFSETFROM:-0700
TZOFFSETTO:-0800
TZNAME:PST
DTSTART:20271107T090000
END:STANDARD
END:VTIMEZONE
BEGIN:VEVENT
DTSTART;TZID=America/Los_Angeles:20260306T173000
DTEND;TZID=America/Los_Angeles:20260306T181500
DTSTAMP:20260420T122934
CREATED:20260211T005758Z
LAST-MODIFIED:20260218T030745Z
UID:10000930-1772818200-1772820900@fresnoroguefestival.org
SUMMARY:Improvised Comedic Theater
DESCRIPTION:Wildly fun long-form improv form the minds of Brian’s Beard. Smart chaos\, big laughs\, no scripts\, and no safety nets. Our fearless players build entire worlds out of nothing but an audience suggestion. We practice fast thinking and solid scene choices to create deeply grounded scenes that take ridiculous twists and turns. Honestly\, the depth and comedy often surprise everyone in the room\, including us. \nBuy Tickets
URL:https://fresnoroguefestival.org/performance/improvised-comedic-theater/2026-03-06/
LOCATION:Veni Vidi Vici\, 1116 N Fulton St\, Fresno\, CA\, 95389\, United States
CATEGORIES:Comedy
ATTACH;FMTTYPE=image/jpeg:https://fresnoroguefestival.org/wp-content/uploads/2026/02/Brians-Beard-Improvised-Comedic-Theater.jpg
GEO:36.7570365;-119.800073
X-APPLE-STRUCTURED-LOCATION;VALUE=URI;X-ADDRESS=Veni Vidi Vici 1116 N Fulton St Fresno CA 95389 United States;X-APPLE-RADIUS=500;X-TITLE=1116 N Fulton St:geo:-119.800073,36.7570365
END:VEVENT
BEGIN:VEVENT
DTSTART;TZID=America/Los_Angeles:20260301T183000
DTEND;TZID=America/Los_Angeles:20260301T191500
DTSTAMP:20260420T122934
CREATED:20260211T005758Z
LAST-MODIFIED:20260218T030745Z
UID:10000929-1772389800-1772392500@fresnoroguefestival.org
SUMMARY:Improvised Comedic Theater
DESCRIPTION:Wildly fun long-form improv form the minds of Brian’s Beard. Smart chaos\, big laughs\, no scripts\, and no safety nets. Our fearless players build entire worlds out of nothing but an audience suggestion. We practice fast thinking and solid scene choices to create deeply grounded scenes that take ridiculous twists and turns. Honestly\, the depth and comedy often surprise everyone in the room\, including us. \nBuy Tickets
URL:https://fresnoroguefestival.org/performance/improvised-comedic-theater/2026-03-01/
LOCATION:Veni Vidi Vici\, 1116 N Fulton St\, Fresno\, CA\, 95389\, United States
CATEGORIES:Comedy
ATTACH;FMTTYPE=image/jpeg:https://fresnoroguefestival.org/wp-content/uploads/2026/02/Brians-Beard-Improvised-Comedic-Theater.jpg
GEO:36.7570365;-119.800073
X-APPLE-STRUCTURED-LOCATION;VALUE=URI;X-ADDRESS=Veni Vidi Vici 1116 N Fulton St Fresno CA 95389 United States;X-APPLE-RADIUS=500;X-TITLE=1116 N Fulton St:geo:-119.800073,36.7570365
END:VEVENT
BEGIN:VEVENT
DTSTART;TZID=America/Los_Angeles:20260228T153000
DTEND;TZID=America/Los_Angeles:20260228T161500
DTSTAMP:20260420T122934
CREATED:20260211T005758Z
LAST-MODIFIED:20260218T030745Z
UID:10000928-1772292600-1772295300@fresnoroguefestival.org
SUMMARY:Improvised Comedic Theater
DESCRIPTION:Wildly fun long-form improv form the minds of Brian’s Beard. Smart chaos\, big laughs\, no scripts\, and no safety nets. Our fearless players build entire worlds out of nothing but an audience suggestion. We practice fast thinking and solid scene choices to create deeply grounded scenes that take ridiculous twists and turns. Honestly\, the depth and comedy often surprise everyone in the room\, including us. \nBuy Tickets
URL:https://fresnoroguefestival.org/performance/improvised-comedic-theater/2026-02-28/
LOCATION:Veni Vidi Vici\, 1116 N Fulton St\, Fresno\, CA\, 95389\, United States
CATEGORIES:Comedy
ATTACH;FMTTYPE=image/jpeg:https://fresnoroguefestival.org/wp-content/uploads/2026/02/Brians-Beard-Improvised-Comedic-Theater.jpg
GEO:36.7570365;-119.800073
X-APPLE-STRUCTURED-LOCATION;VALUE=URI;X-ADDRESS=Veni Vidi Vici 1116 N Fulton St Fresno CA 95389 United States;X-APPLE-RADIUS=500;X-TITLE=1116 N Fulton St:geo:-119.800073,36.7570365
END:VEVENT
BEGIN:VEVENT
DTSTART;TZID=America/Los_Angeles:20260227T190000
DTEND;TZID=America/Los_Angeles:20260227T194500
DTSTAMP:20260420T122934
CREATED:20260211T005758Z
LAST-MODIFIED:20260218T030745Z
UID:10000927-1772218800-1772221500@fresnoroguefestival.org
SUMMARY:Improvised Comedic Theater
DESCRIPTION:Wildly fun long-form improv form the minds of Brian’s Beard. Smart chaos\, big laughs\, no scripts\, and no safety nets. Our fearless players build entire worlds out of nothing but an audience suggestion. We practice fast thinking and solid scene choices to create deeply grounded scenes that take ridiculous twists and turns. Honestly\, the depth and comedy often surprise everyone in the room\, including us. \nBuy Tickets
URL:https://fresnoroguefestival.org/performance/improvised-comedic-theater/2026-02-27/
LOCATION:Veni Vidi Vici\, 1116 N Fulton St\, Fresno\, CA\, 95389\, United States
CATEGORIES:Comedy
ATTACH;FMTTYPE=image/jpeg:https://fresnoroguefestival.org/wp-content/uploads/2026/02/Brians-Beard-Improvised-Comedic-Theater.jpg
GEO:36.7570365;-119.800073
X-APPLE-STRUCTURED-LOCATION;VALUE=URI;X-ADDRESS=Veni Vidi Vici 1116 N Fulton St Fresno CA 95389 United States;X-APPLE-RADIUS=500;X-TITLE=1116 N Fulton St:geo:-119.800073,36.7570365
END:VEVENT
END:VCALENDAR