BEGIN:VCALENDAR
VERSION:2.0
PRODID:-//Rogue Festival - ECPv6.15.20//NONSGML v1.0//EN
CALSCALE:GREGORIAN
METHOD:PUBLISH
X-ORIGINAL-URL:https://fresnoroguefestival.org
X-WR-CALDESC:Events for Rogue Festival
REFRESH-INTERVAL;VALUE=DURATION:PT1H
X-Robots-Tag:noindex
X-PUBLISHED-TTL:PT1H
BEGIN:VTIMEZONE
TZID:America/Los_Angeles
BEGIN:DAYLIGHT
TZOFFSETFROM:-0800
TZOFFSETTO:-0700
TZNAME:PDT
DTSTART:20250309T100000
END:DAYLIGHT
BEGIN:STANDARD
TZOFFSETFROM:-0700
TZOFFSETTO:-0800
TZNAME:PST
DTSTART:20251102T090000
END:STANDARD
BEGIN:DAYLIGHT
TZOFFSETFROM:-0800
TZOFFSETTO:-0700
TZNAME:PDT
DTSTART:20260308T100000
END:DAYLIGHT
BEGIN:STANDARD
TZOFFSETFROM:-0700
TZOFFSETTO:-0800
TZNAME:PST
DTSTART:20261101T090000
END:STANDARD
BEGIN:DAYLIGHT
TZOFFSETFROM:-0800
TZOFFSETTO:-0700
TZNAME:PDT
DTSTART:20270314T100000
END:DAYLIGHT
BEGIN:STANDARD
TZOFFSETFROM:-0700
TZOFFSETTO:-0800
TZNAME:PST
DTSTART:20271107T090000
END:STANDARD
END:VTIMEZONE
BEGIN:VEVENT
DTSTART;TZID=America/Los_Angeles:20260307T200000
DTEND;TZID=America/Los_Angeles:20260307T210000
DTSTAMP:20260420T072314
CREATED:20260211T015525Z
LAST-MODIFIED:20260226T192848Z
UID:10000962-1772913600-1772917200@fresnoroguefestival.org
SUMMARY:My Dead Uncle’s Porn Collection
DESCRIPTION:I have to clean out my “funny uncle’s” house. He’s dead. The whole family knows about him because\, somehow\, he was allowed to be around. We had to warn each new generation about him. We never understood why he was the way he was. Maybe there’s something in his house that’ll explain it. All of us are curious. Some of us are furious. \n“My Dead Uncle’s Porn Collection” was developed with David Ford at two of the San Francisco Bay Area’s premier performance series: The Marsh and Solo Sundays at Stage Werx. It is an official selection of the Soaring Solos Stars Series and Whitefire Solofest in Los Angeles following it’s premier at Tampa International Fringe Festival 2025. \nBrady’s first solo show\, “Father\, Daughter\, and Holy Toast” played at Rogue Festival 2022\, Orlando International Theater Festival\, Cincinnati Fringe and Great Salt Lake Fringe\, earning laudatory reviews. \nBrady “commands the stage with a sense of ease that immediately draws in audience members.” (Front Row Reviewers) \n“Impressive… this is a woman worth leaning in and listening to.” (Orlando Weekly) \nNight owl special! February 27\, 10 PM show is free! \nBuy Tickets
URL:https://fresnoroguefestival.org/performance/my-dead-uncles-porn-collection/2026-03-07/
CATEGORIES:Theater
ATTACH;FMTTYPE=image/jpeg:https://fresnoroguefestival.org/wp-content/uploads/2026/02/Barbara-Brady-Dead-Uncle.jpg
END:VEVENT
BEGIN:VEVENT
DTSTART;TZID=America/Los_Angeles:20260306T173000
DTEND;TZID=America/Los_Angeles:20260306T183000
DTSTAMP:20260420T072315
CREATED:20260211T015525Z
LAST-MODIFIED:20260226T192848Z
UID:10000961-1772818200-1772821800@fresnoroguefestival.org
SUMMARY:My Dead Uncle’s Porn Collection
DESCRIPTION:I have to clean out my “funny uncle’s” house. He’s dead. The whole family knows about him because\, somehow\, he was allowed to be around. We had to warn each new generation about him. We never understood why he was the way he was. Maybe there’s something in his house that’ll explain it. All of us are curious. Some of us are furious. \n“My Dead Uncle’s Porn Collection” was developed with David Ford at two of the San Francisco Bay Area’s premier performance series: The Marsh and Solo Sundays at Stage Werx. It is an official selection of the Soaring Solos Stars Series and Whitefire Solofest in Los Angeles following it’s premier at Tampa International Fringe Festival 2025. \nBrady’s first solo show\, “Father\, Daughter\, and Holy Toast” played at Rogue Festival 2022\, Orlando International Theater Festival\, Cincinnati Fringe and Great Salt Lake Fringe\, earning laudatory reviews. \nBrady “commands the stage with a sense of ease that immediately draws in audience members.” (Front Row Reviewers) \n“Impressive… this is a woman worth leaning in and listening to.” (Orlando Weekly) \nNight owl special! February 27\, 10 PM show is free! \nBuy Tickets
URL:https://fresnoroguefestival.org/performance/my-dead-uncles-porn-collection/2026-03-06/
CATEGORIES:Theater
ATTACH;FMTTYPE=image/jpeg:https://fresnoroguefestival.org/wp-content/uploads/2026/02/Barbara-Brady-Dead-Uncle.jpg
END:VEVENT
BEGIN:VEVENT
DTSTART;TZID=America/Los_Angeles:20260301T183000
DTEND;TZID=America/Los_Angeles:20260301T193000
DTSTAMP:20260420T072315
CREATED:20260211T015525Z
LAST-MODIFIED:20260226T192848Z
UID:10000960-1772389800-1772393400@fresnoroguefestival.org
SUMMARY:My Dead Uncle’s Porn Collection
DESCRIPTION:I have to clean out my “funny uncle’s” house. He’s dead. The whole family knows about him because\, somehow\, he was allowed to be around. We had to warn each new generation about him. We never understood why he was the way he was. Maybe there’s something in his house that’ll explain it. All of us are curious. Some of us are furious. \n“My Dead Uncle’s Porn Collection” was developed with David Ford at two of the San Francisco Bay Area’s premier performance series: The Marsh and Solo Sundays at Stage Werx. It is an official selection of the Soaring Solos Stars Series and Whitefire Solofest in Los Angeles following it’s premier at Tampa International Fringe Festival 2025. \nBrady’s first solo show\, “Father\, Daughter\, and Holy Toast” played at Rogue Festival 2022\, Orlando International Theater Festival\, Cincinnati Fringe and Great Salt Lake Fringe\, earning laudatory reviews. \nBrady “commands the stage with a sense of ease that immediately draws in audience members.” (Front Row Reviewers) \n“Impressive… this is a woman worth leaning in and listening to.” (Orlando Weekly) \nNight owl special! February 27\, 10 PM show is free! \nBuy Tickets
URL:https://fresnoroguefestival.org/performance/my-dead-uncles-porn-collection/2026-03-01/
CATEGORIES:Theater
ATTACH;FMTTYPE=image/jpeg:https://fresnoroguefestival.org/wp-content/uploads/2026/02/Barbara-Brady-Dead-Uncle.jpg
END:VEVENT
BEGIN:VEVENT
DTSTART;TZID=America/Los_Angeles:20260228T170000
DTEND;TZID=America/Los_Angeles:20260228T180000
DTSTAMP:20260420T072315
CREATED:20260211T015525Z
LAST-MODIFIED:20260226T192848Z
UID:10000959-1772298000-1772301600@fresnoroguefestival.org
SUMMARY:My Dead Uncle’s Porn Collection
DESCRIPTION:I have to clean out my “funny uncle’s” house. He’s dead. The whole family knows about him because\, somehow\, he was allowed to be around. We had to warn each new generation about him. We never understood why he was the way he was. Maybe there’s something in his house that’ll explain it. All of us are curious. Some of us are furious. \n“My Dead Uncle’s Porn Collection” was developed with David Ford at two of the San Francisco Bay Area’s premier performance series: The Marsh and Solo Sundays at Stage Werx. It is an official selection of the Soaring Solos Stars Series and Whitefire Solofest in Los Angeles following it’s premier at Tampa International Fringe Festival 2025. \nBrady’s first solo show\, “Father\, Daughter\, and Holy Toast” played at Rogue Festival 2022\, Orlando International Theater Festival\, Cincinnati Fringe and Great Salt Lake Fringe\, earning laudatory reviews. \nBrady “commands the stage with a sense of ease that immediately draws in audience members.” (Front Row Reviewers) \n“Impressive… this is a woman worth leaning in and listening to.” (Orlando Weekly) \nNight owl special! February 27\, 10 PM show is free! \nBuy Tickets
URL:https://fresnoroguefestival.org/performance/my-dead-uncles-porn-collection/2026-02-28/
CATEGORIES:Theater
ATTACH;FMTTYPE=image/jpeg:https://fresnoroguefestival.org/wp-content/uploads/2026/02/Barbara-Brady-Dead-Uncle.jpg
END:VEVENT
BEGIN:VEVENT
DTSTART;TZID=America/Los_Angeles:20260227T220000
DTEND;TZID=America/Los_Angeles:20260227T230000
DTSTAMP:20260420T072315
CREATED:20260211T015525Z
LAST-MODIFIED:20260226T192848Z
UID:10000958-1772229600-1772233200@fresnoroguefestival.org
SUMMARY:My Dead Uncle’s Porn Collection
DESCRIPTION:I have to clean out my “funny uncle’s” house. He’s dead. The whole family knows about him because\, somehow\, he was allowed to be around. We had to warn each new generation about him. We never understood why he was the way he was. Maybe there’s something in his house that’ll explain it. All of us are curious. Some of us are furious. \n“My Dead Uncle’s Porn Collection” was developed with David Ford at two of the San Francisco Bay Area’s premier performance series: The Marsh and Solo Sundays at Stage Werx. It is an official selection of the Soaring Solos Stars Series and Whitefire Solofest in Los Angeles following it’s premier at Tampa International Fringe Festival 2025. \nBrady’s first solo show\, “Father\, Daughter\, and Holy Toast” played at Rogue Festival 2022\, Orlando International Theater Festival\, Cincinnati Fringe and Great Salt Lake Fringe\, earning laudatory reviews. \nBrady “commands the stage with a sense of ease that immediately draws in audience members.” (Front Row Reviewers) \n“Impressive… this is a woman worth leaning in and listening to.” (Orlando Weekly) \nNight owl special! February 27\, 10 PM show is free! \nBuy Tickets
URL:https://fresnoroguefestival.org/performance/my-dead-uncles-porn-collection/2026-02-27/
CATEGORIES:Theater
ATTACH;FMTTYPE=image/jpeg:https://fresnoroguefestival.org/wp-content/uploads/2026/02/Barbara-Brady-Dead-Uncle.jpg
END:VEVENT
END:VCALENDAR