BEGIN:VCALENDAR
VERSION:2.0
PRODID:-//Rogue Festival - ECPv6.15.20//NONSGML v1.0//EN
CALSCALE:GREGORIAN
METHOD:PUBLISH
X-WR-CALNAME:Rogue Festival
X-ORIGINAL-URL:https://fresnoroguefestival.org
X-WR-CALDESC:Events for Rogue Festival
REFRESH-INTERVAL;VALUE=DURATION:PT1H
X-Robots-Tag:noindex
X-PUBLISHED-TTL:PT1H
BEGIN:VTIMEZONE
TZID:America/Los_Angeles
BEGIN:DAYLIGHT
TZOFFSETFROM:-0800
TZOFFSETTO:-0700
TZNAME:PDT
DTSTART:20250309T100000
END:DAYLIGHT
BEGIN:STANDARD
TZOFFSETFROM:-0700
TZOFFSETTO:-0800
TZNAME:PST
DTSTART:20251102T090000
END:STANDARD
BEGIN:DAYLIGHT
TZOFFSETFROM:-0800
TZOFFSETTO:-0700
TZNAME:PDT
DTSTART:20260308T100000
END:DAYLIGHT
BEGIN:STANDARD
TZOFFSETFROM:-0700
TZOFFSETTO:-0800
TZNAME:PST
DTSTART:20261101T090000
END:STANDARD
BEGIN:DAYLIGHT
TZOFFSETFROM:-0800
TZOFFSETTO:-0700
TZNAME:PDT
DTSTART:20270314T100000
END:DAYLIGHT
BEGIN:STANDARD
TZOFFSETFROM:-0700
TZOFFSETTO:-0800
TZNAME:PST
DTSTART:20271107T090000
END:STANDARD
END:VTIMEZONE
BEGIN:VEVENT
DTSTART;TZID=America/Los_Angeles:20260307T140000
DTEND;TZID=America/Los_Angeles:20260307T145500
DTSTAMP:20260420T111934
CREATED:20260217T231319Z
LAST-MODIFIED:20260219T235417Z
UID:10001038-1772892000-1772895300@fresnoroguefestival.org
SUMMARY:Rooted\, Reaching: We Carry Each Other
DESCRIPTION:Aleño Dance Project invites you into a site-specific\, immersive performance at Harts Haven Used Bookstore. This 50-minute exploration will take you through a journey in and out of the bookstore as we explore themes of community\, ancestry\, and self-love. Honoring the parts of ourselves we have inherited\, carried\, and echoed. \nFeaturing choreography from Gael Garcia\, Julia Ramos\, Emiya Salazar\, Ashley Serratos Tapia\, and Alexandra Tiscareno\, this work is rooted in connection and care. It is a love letter to what came before us\, and a call to remember who we are\, where we come from\, and what is possible when we move forward collectively. \nThis marks Aleño Dance Project’s fourth invitation to perform at Rogue and our 5th year as a company! This current work will culminate in our 5-year anniversary soiree in October. Hope to see you there! \nBuy Tickets
URL:https://fresnoroguefestival.org/performance/rooted-reaching-we-carry-each-other/2026-03-07/
LOCATION:Hart’s Haven\, 950 N. Van Ness Ave\, Fresno\, CA\, 92738\, United States
CATEGORIES:Dance
ATTACH;FMTTYPE=image/jpeg:https://fresnoroguefestival.org/wp-content/uploads/2026/02/Aleno-Rooted-Reaching.jpg
GEO:36.7547196;-119.7985806
X-APPLE-STRUCTURED-LOCATION;VALUE=URI;X-ADDRESS=Hart’s Haven 950 N. Van Ness Ave Fresno CA 92738 United States;X-APPLE-RADIUS=500;X-TITLE=950 N. Van Ness Ave:geo:-119.7985806,36.7547196
END:VEVENT
BEGIN:VEVENT
DTSTART;TZID=America/Los_Angeles:20260305T173000
DTEND;TZID=America/Los_Angeles:20260305T182500
DTSTAMP:20260420T111934
CREATED:20260217T231319Z
LAST-MODIFIED:20260219T235417Z
UID:10001037-1772731800-1772735100@fresnoroguefestival.org
SUMMARY:Rooted\, Reaching: We Carry Each Other
DESCRIPTION:Aleño Dance Project invites you into a site-specific\, immersive performance at Harts Haven Used Bookstore. This 50-minute exploration will take you through a journey in and out of the bookstore as we explore themes of community\, ancestry\, and self-love. Honoring the parts of ourselves we have inherited\, carried\, and echoed. \nFeaturing choreography from Gael Garcia\, Julia Ramos\, Emiya Salazar\, Ashley Serratos Tapia\, and Alexandra Tiscareno\, this work is rooted in connection and care. It is a love letter to what came before us\, and a call to remember who we are\, where we come from\, and what is possible when we move forward collectively. \nThis marks Aleño Dance Project’s fourth invitation to perform at Rogue and our 5th year as a company! This current work will culminate in our 5-year anniversary soiree in October. Hope to see you there! \nBuy Tickets
URL:https://fresnoroguefestival.org/performance/rooted-reaching-we-carry-each-other/2026-03-05/
LOCATION:Hart’s Haven\, 950 N. Van Ness Ave\, Fresno\, CA\, 92738\, United States
CATEGORIES:Dance
ATTACH;FMTTYPE=image/jpeg:https://fresnoroguefestival.org/wp-content/uploads/2026/02/Aleno-Rooted-Reaching.jpg
GEO:36.7547196;-119.7985806
X-APPLE-STRUCTURED-LOCATION;VALUE=URI;X-ADDRESS=Hart’s Haven 950 N. Van Ness Ave Fresno CA 92738 United States;X-APPLE-RADIUS=500;X-TITLE=950 N. Van Ness Ave:geo:-119.7985806,36.7547196
END:VEVENT
BEGIN:VEVENT
DTSTART;TZID=America/Los_Angeles:20260301T140000
DTEND;TZID=America/Los_Angeles:20260301T145500
DTSTAMP:20260420T111934
CREATED:20260217T231319Z
LAST-MODIFIED:20260219T235417Z
UID:10001036-1772373600-1772376900@fresnoroguefestival.org
SUMMARY:Rooted\, Reaching: We Carry Each Other
DESCRIPTION:Aleño Dance Project invites you into a site-specific\, immersive performance at Harts Haven Used Bookstore. This 50-minute exploration will take you through a journey in and out of the bookstore as we explore themes of community\, ancestry\, and self-love. Honoring the parts of ourselves we have inherited\, carried\, and echoed. \nFeaturing choreography from Gael Garcia\, Julia Ramos\, Emiya Salazar\, Ashley Serratos Tapia\, and Alexandra Tiscareno\, this work is rooted in connection and care. It is a love letter to what came before us\, and a call to remember who we are\, where we come from\, and what is possible when we move forward collectively. \nThis marks Aleño Dance Project’s fourth invitation to perform at Rogue and our 5th year as a company! This current work will culminate in our 5-year anniversary soiree in October. Hope to see you there! \nBuy Tickets
URL:https://fresnoroguefestival.org/performance/rooted-reaching-we-carry-each-other/2026-03-01/
LOCATION:Hart’s Haven\, 950 N. Van Ness Ave\, Fresno\, CA\, 92738\, United States
CATEGORIES:Dance
ATTACH;FMTTYPE=image/jpeg:https://fresnoroguefestival.org/wp-content/uploads/2026/02/Aleno-Rooted-Reaching.jpg
GEO:36.7547196;-119.7985806
X-APPLE-STRUCTURED-LOCATION;VALUE=URI;X-ADDRESS=Hart’s Haven 950 N. Van Ness Ave Fresno CA 92738 United States;X-APPLE-RADIUS=500;X-TITLE=950 N. Van Ness Ave:geo:-119.7985806,36.7547196
END:VEVENT
BEGIN:VEVENT
DTSTART;TZID=America/Los_Angeles:20260228T140000
DTEND;TZID=America/Los_Angeles:20260228T145500
DTSTAMP:20260420T111934
CREATED:20260217T231319Z
LAST-MODIFIED:20260219T235417Z
UID:10001035-1772287200-1772290500@fresnoroguefestival.org
SUMMARY:Rooted\, Reaching: We Carry Each Other
DESCRIPTION:Aleño Dance Project invites you into a site-specific\, immersive performance at Harts Haven Used Bookstore. This 50-minute exploration will take you through a journey in and out of the bookstore as we explore themes of community\, ancestry\, and self-love. Honoring the parts of ourselves we have inherited\, carried\, and echoed. \nFeaturing choreography from Gael Garcia\, Julia Ramos\, Emiya Salazar\, Ashley Serratos Tapia\, and Alexandra Tiscareno\, this work is rooted in connection and care. It is a love letter to what came before us\, and a call to remember who we are\, where we come from\, and what is possible when we move forward collectively. \nThis marks Aleño Dance Project’s fourth invitation to perform at Rogue and our 5th year as a company! This current work will culminate in our 5-year anniversary soiree in October. Hope to see you there! \nBuy Tickets
URL:https://fresnoroguefestival.org/performance/rooted-reaching-we-carry-each-other/2026-02-28/
LOCATION:Hart’s Haven\, 950 N. Van Ness Ave\, Fresno\, CA\, 92738\, United States
CATEGORIES:Dance
ATTACH;FMTTYPE=image/jpeg:https://fresnoroguefestival.org/wp-content/uploads/2026/02/Aleno-Rooted-Reaching.jpg
GEO:36.7547196;-119.7985806
X-APPLE-STRUCTURED-LOCATION;VALUE=URI;X-ADDRESS=Hart’s Haven 950 N. Van Ness Ave Fresno CA 92738 United States;X-APPLE-RADIUS=500;X-TITLE=950 N. Van Ness Ave:geo:-119.7985806,36.7547196
END:VEVENT
BEGIN:VEVENT
DTSTART;TZID=America/Los_Angeles:20260227T190000
DTEND;TZID=America/Los_Angeles:20260227T195500
DTSTAMP:20260420T111934
CREATED:20260217T231319Z
LAST-MODIFIED:20260219T235417Z
UID:10001034-1772218800-1772222100@fresnoroguefestival.org
SUMMARY:Rooted\, Reaching: We Carry Each Other
DESCRIPTION:Aleño Dance Project invites you into a site-specific\, immersive performance at Harts Haven Used Bookstore. This 50-minute exploration will take you through a journey in and out of the bookstore as we explore themes of community\, ancestry\, and self-love. Honoring the parts of ourselves we have inherited\, carried\, and echoed. \nFeaturing choreography from Gael Garcia\, Julia Ramos\, Emiya Salazar\, Ashley Serratos Tapia\, and Alexandra Tiscareno\, this work is rooted in connection and care. It is a love letter to what came before us\, and a call to remember who we are\, where we come from\, and what is possible when we move forward collectively. \nThis marks Aleño Dance Project’s fourth invitation to perform at Rogue and our 5th year as a company! This current work will culminate in our 5-year anniversary soiree in October. Hope to see you there! \nBuy Tickets
URL:https://fresnoroguefestival.org/performance/rooted-reaching-we-carry-each-other/2026-02-27/
LOCATION:Hart’s Haven\, 950 N. Van Ness Ave\, Fresno\, CA\, 92738\, United States
CATEGORIES:Dance
ATTACH;FMTTYPE=image/jpeg:https://fresnoroguefestival.org/wp-content/uploads/2026/02/Aleno-Rooted-Reaching.jpg
GEO:36.7547196;-119.7985806
X-APPLE-STRUCTURED-LOCATION;VALUE=URI;X-ADDRESS=Hart’s Haven 950 N. Van Ness Ave Fresno CA 92738 United States;X-APPLE-RADIUS=500;X-TITLE=950 N. Van Ness Ave:geo:-119.7985806,36.7547196
END:VEVENT
END:VCALENDAR